- using R Under development (unstable) (2025-07-02 r88374)
- using platform: x86_64-pc-linux-gnu
- R was compiled by
Debian clang version 19.1.7 (3+b1)
Debian flang-new version 19.1.7 (3+b1)
- running under: Debian GNU/Linux 13 (trixie)
- using session charset: UTF-8
- checking for file ‘RtsEva/DESCRIPTION’ ... OK
- checking extension type ... Package
- this is package ‘RtsEva’ version ‘1.1.0’
- package encoding: UTF-8
- checking CRAN incoming feasibility ... [2s/2s] OK
- checking package namespace information ... OK
- checking package dependencies ... OK
- checking if this is a source package ... OK
- checking if there is a namespace ... OK
- checking for executable files ... OK
- checking for hidden files and directories ... OK
- checking for portable file names ... OK
- checking for sufficient/correct file permissions ... OK
- checking serialization versions ... OK
- checking whether package ‘RtsEva’ can be installed ... OK
See the install log for details.
- checking package directory ... OK
- checking for future file timestamps ... OK
- checking ‘build’ directory ... OK
- checking DESCRIPTION meta-information ... OK
- checking top-level files ... OK
- checking for left-over files ... OK
- checking index information ... OK
- checking package subdirectories ... OK
- checking code files for non-ASCII characters ... OK
- checking R files for syntax errors ... OK
- checking whether the package can be loaded ... [2s/4s] OK
- checking whether the package can be loaded with stated dependencies ... [2s/3s] OK
- checking whether the package can be unloaded cleanly ... [2s/3s] OK
- checking whether the namespace can be loaded with stated dependencies ... [2s/3s] OK
- checking whether the namespace can be unloaded cleanly ... [2s/4s] OK
- checking loading without being on the library search path ... [2s/3s] OK
- checking use of S3 registration ... OK
- checking dependencies in R code ... OK
- checking S3 generic/method consistency ... OK
- checking replacement functions ... OK
- checking foreign function calls ... OK
- checking R code for possible problems ... [26s/35s] OK
- checking Rd files ... [1s/1s] OK
- checking Rd metadata ... OK
- checking Rd line widths ... OK
- checking Rd cross-references ... OK
- checking for missing documentation entries ... OK
- checking for code/documentation mismatches ... OK
- checking Rd \usage sections ... OK
- checking Rd contents ... OK
- checking for unstated dependencies in examples ... OK
- checking contents of ‘data’ directory ... OK
- checking data for non-ASCII characters ... [1s/1s] OK
- checking LazyData ... OK
- checking data for ASCII and uncompressed saves ... OK
- checking installed files from ‘inst/doc’ ... OK
- checking files in ‘vignettes’ ... OK
- checking examples ... [92s/132s] OK
Examples with CPU (user + system) or elapsed time > 5s
user system
tsEvaPlotSeriesTrendStdDevFromAnalyisObj 6.384 0.181
tsEvaPlotReturnLevelsGEVFromAnalysisObj 6.343 0.202
tsEvaPlotReturnLevelsGPDFromAnalysisObj 6.342 0.196
tsEvaPlotTransfToStatFromAnalysisObj 6.353 0.185
tsEvaPlotGEVImageScFromAnalysisObj 5.881 0.219
TsEvaNs 5.759 0.322
tsEvaPlotAllRLevelsGPD 5.800 0.206
tsEvaPlotAllRLevelsGEV 5.722 0.189
tsEvaPlotGPDImageScFromAnalysisObj 5.694 0.161
tsEvaNanRunningPercentiles 4.590 0.079
tsEvaFindTrendThreshold 4.204 0.137
tsEvaTransformSeriesToStationaryTrendAndChangepts_ciPercentile 3.726 0.180
elapsed
tsEvaPlotSeriesTrendStdDevFromAnalyisObj 8.086
tsEvaPlotReturnLevelsGEVFromAnalysisObj 10.401
tsEvaPlotReturnLevelsGPDFromAnalysisObj 9.501
tsEvaPlotTransfToStatFromAnalysisObj 9.714
tsEvaPlotGEVImageScFromAnalysisObj 8.467
TsEvaNs 8.107
tsEvaPlotAllRLevelsGPD 7.982
tsEvaPlotAllRLevelsGEV 8.616
tsEvaPlotGPDImageScFromAnalysisObj 8.798
tsEvaNanRunningPercentiles 7.120
tsEvaFindTrendThreshold 6.424
tsEvaTransformSeriesToStationaryTrendAndChangepts_ciPercentile 6.232
- checking for unstated dependencies in ‘tests’ ... OK
- checking tests ... [8s/11s] OK
Running ‘testthat.R’ [8s/10s]
- checking for unstated dependencies in vignettes ... OK
- checking package vignettes ... OK
- checking re-building of vignette outputs ... [15s/19s] OK
- checking PDF version of manual ... [6s/9s] OK
- checking HTML version of manual ... [2s/5s] OK
- checking for non-standard things in the check directory ... OK
- DONE
Status: OK