- using R Under development (unstable) (2022-06-30 r82540)
- using platform: x86_64-pc-linux-gnu (64-bit)
- using session charset: ISO8859-15
- checking for file 'Rfast/DESCRIPTION' ... OK
- checking extension type ... Package
- this is package 'Rfast' version '2.0.6'
- checking package namespace information ... OK
- checking package dependencies ... OK
- checking if this is a source package ... OK
- checking if there is a namespace ... OK
- checking for executable files ... OK
- checking for hidden files and directories ... OK
- checking for portable file names ... OK
- checking for sufficient/correct file permissions ... OK
- checking whether package 'Rfast' can be installed ... OK
- checking package directory ... OK
- checking for future file timestamps ... OK
- checking DESCRIPTION meta-information ... OK
- checking top-level files ... OK
- checking for left-over files ... OK
- checking index information ... OK
- checking package subdirectories ... OK
- checking R files for non-ASCII characters ... OK
- checking R files for syntax errors ... OK
- checking whether the package can be loaded ... OK
- checking whether the package can be loaded with stated dependencies ... OK
- checking whether the package can be unloaded cleanly ... OK
- checking whether the namespace can be loaded with stated dependencies ... OK
- checking whether the namespace can be unloaded cleanly ... OK
- checking loading without being on the library search path ... OK
- checking use of S3 registration ... OK
- checking dependencies in R code ... OK
- checking S3 generic/method consistency ... OK
- checking replacement functions ... OK
- checking foreign function calls ... OK
- checking R code for possible problems ... [56s/65s] OK
- checking Rd files ... [4s/4s] NOTE
checkRd: (-1) ancova1.Rd:42: Escaped LaTeX specials: \&
checkRd: (-1) ancovas.Rd:42: Escaped LaTeX specials: \&
checkRd: (-1) boot.ttest2.Rd:39: Escaped LaTeX specials: \&
checkRd: (-1) colnormal.mle.Rd:72: Escaped LaTeX specials: \&
checkRd: (-1) colnormal.mle.Rd:74: Escaped LaTeX specials: \&
checkRd: (-1) colnormal.mle.Rd:77: Escaped LaTeX specials: \&
checkRd: (-1) colrint.regbx.Rd:58: Escaped LaTeX specials: \&
checkRd: (-1) colvarcomps.mom.Rd:69: Escaped LaTeX specials: \&
checkRd: (-1) colvarcomps.mom.Rd:74: Escaped LaTeX specials: \&
checkRd: (-1) ftest.Rd:90: Escaped LaTeX specials: \&
checkRd: (-1) ftests.Rd:68: Escaped LaTeX specials: \&
checkRd: (-1) gammamle.Rd:81: Escaped LaTeX specials: \&
checkRd: (-1) gammamle.Rd:83: Escaped LaTeX specials: \&
checkRd: (-1) gammamle.Rd:88: Escaped LaTeX specials: \&
checkRd: (-1) rint.regbx.Rd:65: Escaped LaTeX specials: \&
checkRd: (-1) rint.regs.Rd:57: Escaped LaTeX specials: \&
checkRd: (-1) twoway.anovas.Rd:46: Escaped LaTeX specials: \&
checkRd: (-1) varcomps.mom.Rd:66: Escaped LaTeX specials: \&
checkRd: (-1) varcomps.mom.Rd:70: Escaped LaTeX specials: \&
checkRd: (-1) vm.mle.Rd:60: Escaped LaTeX specials: \&
- checking Rd metadata ... OK
- checking Rd line widths ... OK
- checking Rd cross-references ... OK
- checking for missing documentation entries ... OK
- checking for code/documentation mismatches ... OK
- checking Rd \usage sections ... OK
- checking Rd contents ... OK
- checking for unstated dependencies in examples ... OK
- checking line endings in C/C++/Fortran sources/headers ... OK
- checking line endings in Makefiles ... OK
- checking compilation flags in Makevars ... OK
- checking for GNU extensions in Makefiles ... OK
- checking for portable use of $(BLAS_LIBS) and $(LAPACK_LIBS) ... OK
- checking use of PKG_*FLAGS in Makefiles ... OK
- checking use of SHLIB_OPENMP_*FLAGS in Makefiles ... OK
- checking pragmas in C/C++ headers and code ... OK
- checking compilation flags used ... OK
- checking compiled code ... OK
- checking examples ... [9s/9s] OK
- checking PDF version of manual ... OK
- checking HTML version of manual ... OK
- checking for non-standard things in the check directory ... OK
- DONE
Status: 1 NOTE