- using R Under development (unstable) (2025-10-19 r88945)
- using platform: x86_64-pc-linux-gnu
- R was compiled by
Debian clang version 19.1.7 (7)
Debian flang-new version 19.1.7 (7)
- running under: Debian GNU/Linux forky/sid
- using session charset: UTF-8
- checking for file ‘RSQL/DESCRIPTION’ ... OK
- checking extension type ... Package
- this is package ‘RSQL’ version ‘0.2.2’
- package encoding: UTF-8
- checking CRAN incoming feasibility ... [2s/2s] OK
- checking package namespace information ... OK
- checking package dependencies ... OK
- checking if this is a source package ... OK
- checking if there is a namespace ... OK
- checking for executable files ... OK
- checking for hidden files and directories ... OK
- checking for portable file names ... OK
- checking for sufficient/correct file permissions ... OK
- checking serialization versions ... OK
- checking whether package ‘RSQL’ can be installed ... OK
See the install log for details.
- checking package directory ... OK
- checking for future file timestamps ... OK
- checking ‘build’ directory ... OK
- checking DESCRIPTION meta-information ... OK
- checking top-level files ... OK
- checking for left-over files ... OK
- checking index information ... OK
- checking package subdirectories ... OK
- checking code files for non-ASCII characters ... OK
- checking R files for syntax errors ... OK
- checking whether the package can be loaded ... [1s/1s] OK
- checking whether the package can be loaded with stated dependencies ... [1s/1s] OK
- checking whether the package can be unloaded cleanly ... [1s/1s] OK
- checking whether the namespace can be loaded with stated dependencies ... [1s/1s] OK
- checking whether the namespace can be unloaded cleanly ... [1s/1s] OK
- checking loading without being on the library search path ... [1s/1s] OK
- checking whether startup messages can be suppressed ... [1s/1s] OK
- checking use of S3 registration ... OK
- checking dependencies in R code ... OK
- checking S3 generic/method consistency ... OK
- checking replacement functions ... OK
- checking foreign function calls ... OK
- checking R code for possible problems ... [7s/9s] OK
- checking Rd files ... [1s/1s] OK
- checking Rd metadata ... OK
- checking Rd line widths ... OK
- checking Rd cross-references ... OK
- checking for missing documentation entries ... OK
- checking for code/documentation mismatches ... OK
- checking Rd \usage sections ... OK
- checking Rd contents ... OK
- checking for unstated dependencies in examples ... OK
- checking installed files from ‘inst/doc’ ... OK
- checking files in ‘vignettes’ ... OK
- checking examples ... [2s/2s] OK
- checking for unstated dependencies in ‘tests’ ... OK
- checking tests ... [3s/5s] OK
Running ‘testthat.R’ [3s/5s]
- checking for unstated dependencies in vignettes ... OK
- checking package vignettes ... OK
- checking re-building of vignette outputs ... [1s/1s] OK
- checking PDF version of manual ... [7s/9s] OK
- checking HTML version of manual ... [2s/3s] NOTE
Found the following HTML validation problems:
RSQL.class.html:220:1 (RSQL.class.Rd:158): Warning: <h5> anchor "Usage" already defined
RSQL.class.html:243:1 (RSQL.class.Rd:171): Warning: <h5> anchor "Usage" already defined
RSQL.class.html:249:1 (RSQL.class.Rd:175): Warning: <h5> anchor "Returns" already defined
RSQL.class.html:266:1 (RSQL.class.Rd:184): Warning: <h5> anchor "Usage" already defined
RSQL.class.html:272:1 (RSQL.class.Rd:188): Warning: <h5> anchor "Returns" already defined
RSQL.class.html:289:1 (RSQL.class.Rd:197): Warning: <h5> anchor "Usage" already defined
RSQL.class.html:295:1 (RSQL.class.Rd:201): Warning: <h5> anchor "Arguments" already defined
RSQL.class.html:308:1 (RSQL.class.Rd:208): Warning: <h5> anchor "Returns" already defined
RSQL.class.html:325:1 (RSQL.class.Rd:217): Warning: <h5> anchor "Usage" already defined
RSQL.class.html:341:1 (RSQL.class.Rd:227): Warning: <h5> anchor "Usage" already defined
RSQL.class.html:347:1 (RSQL.class.Rd:231): Warning: <h5> anchor "Arguments" already defined
RSQL.class.html:372:1 (RSQL.class.Rd:246): Warning: <h5> anchor "Usage" already defined
RSQL.class.html:387:1 (RSQL.class.Rd:259): Warning: <h5> anchor "Arguments" already defined
RSQL.class.html:424:1 (RSQL.class.Rd:286): Warning: <h5> anchor "Usage" already defined
RSQL.class.html:430:1 (RSQL.class.Rd:290): Warning: <h5> anchor "Arguments" already defined
RSQL.class.html:457:1 (RSQL.class.Rd:307): Warning: <h5> anchor "Usage" already defined
RSQL.class.html:469:1 (RSQL.class.Rd:317): Warning: <h5> anchor "Arguments" already defined
RSQL.class.html:500:1 (RSQL.class.Rd:338): Warning: <h5> anchor "Usage" already defined
RSQL.class.html:510:1 (RSQL.class.Rd:346): Warning: <h5> anchor "Arguments" already defined
RSQL.class.html:537:1 (RSQL.class.Rd:363): Warning: <h5> anchor "Usage" already defined
RSQL.class.html:543:1 (RSQL.class.Rd:367): Warning: <h5> anchor "Arguments" already defined
RSQL.class.html:566:1 (RSQL.class.Rd:380): Warning: <h5> anchor "Usage" already defined
RSQL.class.html:572:1 (RSQL.class.Rd:384): Warning: <h5> anchor "Arguments" already defined
RSQL.class.html:595:1 (RSQL.class.Rd:397): Warning: <h5> anchor "Usage" already defined
RSQL.class.html:601:1 (RSQL.class.Rd:401): Warning: <h5> anchor "Arguments" already defined
RSQL.class.html:624:1 (RSQL.class.Rd:414): Warning: <h5> anchor "Usage" already defined
RSQL.class.html:630:1 (RSQL.class.Rd:418): Warning: <h5> anchor "Arguments" already defined
RSQL.class.html:655:1 (RSQL.class.Rd:433): Warning: <h5> anchor "Usage" already defined
RSQL.class.html:661:1 (RSQL.class.Rd:437): Warning: <h5> anchor "Arguments" already defined
RSQL.class.html:684:1 (RSQL.class.Rd:450): Warning: <h5> anchor "Usage" already defined
RSQL.class.html:690:1 (RSQL.class.Rd:454): Warning: <h5> anchor "Arguments" already defined
RSQL.class.html:713:1 (RSQL.class.Rd:467): Warning: <h5> anchor "Usage" already defined
RSQL.class.html:726:1 (RSQL.class.Rd:478): Warning: <h5> anchor "Arguments" already defined
RSQL.class.html:759:1 (RSQL.class.Rd:501): Warning: <h5> anchor "Usage" already defined
RSQL.class.html:772:1 (RSQL.class.Rd:512): Warning: <h5> anchor "Arguments" already defined
RSQL.class.html:806:1 (RSQL.class.Rd:536): Warning: <h5> anchor "Usage" already defined
RSQL.class.html:822:1 (RSQL.class.Rd:546): Warning: <h5> anchor "Usage" already defined
RSQL.class.html:838:1 (RSQL.class.Rd:556): Warning: <h5> anchor "Usage" already defined
RSQL.class.html:854:1 (RSQL.class.Rd:566): Warning: <h5> anchor "Usage" already defined
RSQL.class.html:860:1 (RSQL.class.Rd:570): Warning: <h5> anchor "Arguments" already defined
- checking for non-standard things in the check directory ... OK
- DONE
Status: 1 NOTE