* using log directory ‘/home/hornik/tmp/R.check/r-devel-clang/Work/PKGS/RKEEL.Rcheck’ * using R Under development (unstable) (2025-07-13 r88407) * using platform: x86_64-pc-linux-gnu * R was compiled by Debian clang version 19.1.7 (3+b1) Debian flang-new version 19.1.7 (3+b1) * running under: Debian GNU/Linux 13 (trixie) * using session charset: UTF-8 * checking for file ‘RKEEL/DESCRIPTION’ ... OK * checking extension type ... Package * this is package ‘RKEEL’ version ‘1.3.4’ * checking CRAN incoming feasibility ... [2s/3s] OK * checking package namespace information ... OK * checking package dependencies ... OK * checking if this is a source package ... OK * checking if there is a namespace ... OK * checking for executable files ... OK * checking for hidden files and directories ... OK * checking for portable file names ... OK * checking for sufficient/correct file permissions ... OK * checking serialization versions ... OK * checking whether package ‘RKEEL’ can be installed ... OK See 'https://www.r-project.org/nosvn/R.check/r-devel-linux-x86_64-debian-clang/RKEEL-00install.html' for details. * checking package directory ... OK * checking for future file timestamps ... OK * checking DESCRIPTION meta-information ... OK * checking top-level files ... OK * checking for left-over files ... OK * checking index information ... OK * checking package subdirectories ... OK * checking code files for non-ASCII characters ... OK * checking R files for syntax errors ... OK * checking whether the package can be loaded ... [1s/1s] OK * checking whether the package can be loaded with stated dependencies ... [1s/1s] OK * checking whether the package can be unloaded cleanly ... [1s/1s] OK * checking whether the namespace can be loaded with stated dependencies ... [1s/1s] OK * checking whether the namespace can be unloaded cleanly ... [1s/1s] OK * checking loading without being on the library search path ... [1s/1s] OK * checking whether startup messages can be suppressed ... [1s/1s] OK * checking use of S3 registration ... OK * checking dependencies in R code ... OK * checking S3 generic/method consistency ... OK * checking replacement functions ... OK * checking foreign function calls ... OK * checking R code for possible problems ... [13s/17s] OK * checking Rd files ... [1s/2s] OK * checking Rd metadata ... OK * checking Rd line widths ... OK * checking Rd cross-references ... OK * checking for missing documentation entries ... OK * checking for code/documentation mismatches ... OK * checking Rd \usage sections ... OK * checking Rd contents ... OK * checking for unstated dependencies in examples ... OK * checking examples ... [286s/321s] OK Examples with CPU (user + system) or elapsed time > 5s user system elapsed ANR-F 8.512 0.432 8.320 ABB-IEP-FS 6.481 0.306 7.003 Nominal2Binary-TR 6.576 0.144 7.007 Alcalaetal-A 6.202 0.314 7.586 CART-R 5.459 0.419 6.384 GANN-C 5.405 0.149 6.459 AllPosible-MV 5.125 0.317 6.286 SSGA-Integer-knn-FS 5.234 0.178 6.629 Bayesian-D 5.101 0.273 5.865 UniformWidth-D 5.144 0.183 6.458 UniformFrequency-D 5.069 0.152 6.314 Proportional-D 4.959 0.210 5.681 DecimalScaling-TR 5.040 0.124 5.598 KMeans-MV 4.978 0.145 5.343 ZScore-TR 4.947 0.170 5.918 KNN-MV 4.971 0.126 5.746 ID3-D 4.954 0.138 5.868 MinMax-TR 4.882 0.126 6.284 CleanAttributes-TR 4.852 0.147 6.064 FuzzyApriori-A 4.756 0.240 5.962 Ignore-MV 4.884 0.112 5.730 Relief-FS 4.785 0.208 5.600 Apriori-A 4.635 0.297 5.037 FPgrowth-A 4.737 0.193 5.114 Eclat-A 4.653 0.216 5.059 ART-C 4.680 0.182 5.704 GeneticFuzzyApriori-A 4.560 0.237 5.289 GeneticFuzzyAprioriDC-A 4.556 0.223 5.532 RISE-C 4.613 0.135 5.339 SFS-IEP-FS 4.566 0.169 5.434 LVF-IEP-FS 4.442 0.158 5.257 runCV 0.450 0.012 6.706 runSequential 0.119 0.008 5.165 * checking PDF version of manual ... [10s/12s] OK * checking HTML version of manual ... [6s/11s] OK * checking for non-standard things in the check directory ... OK * DONE Status: OK