- using R Under development (unstable) (2025-10-25 r88970)
- using platform: x86_64-pc-linux-gnu
- R was compiled by
Debian clang version 19.1.7 (7)
Debian flang-new version 19.1.7 (7)
- running under: Debian GNU/Linux forky/sid
- using session charset: UTF-8
- checking for file ‘RJDemetra/DESCRIPTION’ ... OK
- checking extension type ... Package
- this is package ‘RJDemetra’ version ‘0.2.8’
- package encoding: UTF-8
- checking CRAN incoming feasibility ... [2s/2s] OK
- checking package namespace information ... OK
- checking package dependencies ... OK
- checking if this is a source package ... OK
- checking if there is a namespace ... OK
- checking for executable files ... OK
- checking for hidden files and directories ... OK
- checking for portable file names ... OK
- checking for sufficient/correct file permissions ... OK
- checking serialization versions ... OK
- checking whether package ‘RJDemetra’ can be installed ... OK
See the install log for details.
- checking package directory ... OK
- checking for future file timestamps ... OK
- checking DESCRIPTION meta-information ... OK
- checking top-level files ... OK
- checking for left-over files ... OK
- checking index information ... OK
- checking package subdirectories ... OK
- checking code files for non-ASCII characters ... OK
- checking R files for syntax errors ... OK
- checking whether the package can be loaded ... [1s/1s] OK
- checking whether the package can be loaded with stated dependencies ... [1s/1s] OK
- checking whether the package can be unloaded cleanly ... [1s/1s] OK
- checking whether the namespace can be loaded with stated dependencies ... [1s/1s] OK
- checking whether the namespace can be unloaded cleanly ... [1s/1s] OK
- checking loading without being on the library search path ... [1s/1s] OK
- checking whether startup messages can be suppressed ... [1s/1s] OK
- checking use of S3 registration ... OK
- checking dependencies in R code ... OK
- checking S3 generic/method consistency ... OK
- checking replacement functions ... OK
- checking foreign function calls ... OK
- checking R code for possible problems ... [27s/35s] OK
- checking Rd files ... [1s/1s] NOTE
checkRd: (-1) regarima.Rd:158-166: Only 7 columns allowed in this table (row 1 has 5)
checkRd: (-1) regarima.Rd:158-166: Only 7 columns allowed in this table (row 2 has 5)
checkRd: (-1) regarima.Rd:158-166: Only 7 columns allowed in this table (row 3 has 5)
checkRd: (-1) regarima.Rd:158-166: Only 7 columns allowed in this table (row 4 has 5)
checkRd: (-1) regarima.Rd:158-166: Only 7 columns allowed in this table (row 5 has 5)
checkRd: (-1) regarima.Rd:158-166: Only 7 columns allowed in this table (row 6 has 5)
checkRd: (-1) regarima.Rd:158-166: Only 7 columns allowed in this table (row 7 has 5)
checkRd: (-1) regarima.Rd:169-178: Only 8 columns allowed in this table (row 1 has 5)
checkRd: (-1) regarima.Rd:169-178: Only 8 columns allowed in this table (row 2 has 5)
checkRd: (-1) regarima.Rd:169-178: Only 8 columns allowed in this table (row 3 has 5)
checkRd: (-1) regarima.Rd:169-178: Only 8 columns allowed in this table (row 4 has 5)
checkRd: (-1) regarima.Rd:169-178: Only 8 columns allowed in this table (row 5 has 5)
checkRd: (-1) regarima.Rd:169-178: Only 8 columns allowed in this table (row 6 has 5)
checkRd: (-1) regarima.Rd:169-178: Only 8 columns allowed in this table (row 7 has 5)
checkRd: (-1) regarima.Rd:169-178: Only 8 columns allowed in this table (row 8 has 5)
checkRd: (-1) regarima_spec_tramoseats.Rd:388-397: Only 8 columns allowed in this table (row 1 has 5)
checkRd: (-1) regarima_spec_tramoseats.Rd:388-397: Only 8 columns allowed in this table (row 2 has 5)
checkRd: (-1) regarima_spec_tramoseats.Rd:388-397: Only 8 columns allowed in this table (row 3 has 5)
checkRd: (-1) regarima_spec_tramoseats.Rd:388-397: Only 8 columns allowed in this table (row 4 has 5)
checkRd: (-1) regarima_spec_tramoseats.Rd:388-397: Only 8 columns allowed in this table (row 5 has 5)
checkRd: (-1) regarima_spec_tramoseats.Rd:388-397: Only 8 columns allowed in this table (row 6 has 5)
checkRd: (-1) regarima_spec_tramoseats.Rd:388-397: Only 8 columns allowed in this table (row 7 has 5)
checkRd: (-1) regarima_spec_tramoseats.Rd:388-397: Only 8 columns allowed in this table (row 8 has 5)
checkRd: (-1) regarima_spec_x13.Rd:390-398: Only 7 columns allowed in this table (row 1 has 5)
checkRd: (-1) regarima_spec_x13.Rd:390-398: Only 7 columns allowed in this table (row 2 has 5)
checkRd: (-1) regarima_spec_x13.Rd:390-398: Only 7 columns allowed in this table (row 3 has 5)
checkRd: (-1) regarima_spec_x13.Rd:390-398: Only 7 columns allowed in this table (row 4 has 5)
checkRd: (-1) regarima_spec_x13.Rd:390-398: Only 7 columns allowed in this table (row 5 has 5)
checkRd: (-1) regarima_spec_x13.Rd:390-398: Only 7 columns allowed in this table (row 6 has 5)
checkRd: (-1) regarima_spec_x13.Rd:390-398: Only 7 columns allowed in this table (row 7 has 5)
checkRd: (-1) tramoseats.Rd:87-96: Only 8 columns allowed in this table (row 1 has 5)
checkRd: (-1) tramoseats.Rd:87-96: Only 8 columns allowed in this table (row 2 has 5)
checkRd: (-1) tramoseats.Rd:87-96: Only 8 columns allowed in this table (row 3 has 5)
checkRd: (-1) tramoseats.Rd:87-96: Only 8 columns allowed in this table (row 4 has 5)
checkRd: (-1) tramoseats.Rd:87-96: Only 8 columns allowed in this table (row 5 has 5)
checkRd: (-1) tramoseats.Rd:87-96: Only 8 columns allowed in this table (row 6 has 5)
checkRd: (-1) tramoseats.Rd:87-96: Only 8 columns allowed in this table (row 7 has 5)
checkRd: (-1) tramoseats.Rd:87-96: Only 8 columns allowed in this table (row 8 has 5)
checkRd: (-1) tramoseats_spec.Rd:393-402: Only 8 columns allowed in this table (row 1 has 5)
checkRd: (-1) tramoseats_spec.Rd:393-402: Only 8 columns allowed in this table (row 2 has 5)
checkRd: (-1) tramoseats_spec.Rd:393-402: Only 8 columns allowed in this table (row 3 has 5)
checkRd: (-1) tramoseats_spec.Rd:393-402: Only 8 columns allowed in this table (row 4 has 5)
checkRd: (-1) tramoseats_spec.Rd:393-402: Only 8 columns allowed in this table (row 5 has 5)
checkRd: (-1) tramoseats_spec.Rd:393-402: Only 8 columns allowed in this table (row 6 has 5)
checkRd: (-1) tramoseats_spec.Rd:393-402: Only 8 columns allowed in this table (row 7 has 5)
checkRd: (-1) tramoseats_spec.Rd:393-402: Only 8 columns allowed in this table (row 8 has 5)
checkRd: (-1) x13.Rd:80-89: Only 7 columns allowed in this table (row 1 has 5)
checkRd: (-1) x13.Rd:80-89: Only 7 columns allowed in this table (row 2 has 5)
checkRd: (-1) x13.Rd:80-89: Only 7 columns allowed in this table (row 3 has 5)
checkRd: (-1) x13.Rd:80-89: Only 7 columns allowed in this table (row 4 has 5)
checkRd: (-1) x13.Rd:80-89: Only 7 columns allowed in this table (row 5 has 5)
checkRd: (-1) x13.Rd:80-89: Only 7 columns allowed in this table (row 6 has 5)
checkRd: (-1) x13.Rd:80-89: Only 7 columns allowed in this table (row 7 has 5)
checkRd: (-1) x13.Rd:80-89: Only 7 columns allowed in this table (row 8 has 5)
checkRd: (-1) x13_spec.Rd:437-446: Only 7 columns allowed in this table (row 1 has 5)
checkRd: (-1) x13_spec.Rd:437-446: Only 7 columns allowed in this table (row 2 has 5)
checkRd: (-1) x13_spec.Rd:437-446: Only 7 columns allowed in this table (row 3 has 5)
checkRd: (-1) x13_spec.Rd:437-446: Only 7 columns allowed in this table (row 4 has 5)
checkRd: (-1) x13_spec.Rd:437-446: Only 7 columns allowed in this table (row 5 has 5)
checkRd: (-1) x13_spec.Rd:437-446: Only 7 columns allowed in this table (row 6 has 5)
checkRd: (-1) x13_spec.Rd:437-446: Only 7 columns allowed in this table (row 7 has 5)
checkRd: (-1) x13_spec.Rd:437-446: Only 7 columns allowed in this table (row 8 has 5)
- checking Rd metadata ... OK
- checking Rd line widths ... OK
- checking Rd cross-references ... OK
- checking for missing documentation entries ... OK
- checking for code/documentation mismatches ... OK
- checking Rd \usage sections ... OK
- checking Rd contents ... OK
- checking for unstated dependencies in examples ... OK
- checking contents of ‘data’ directory ... OK
- checking data for non-ASCII characters ... [0s/0s] OK
- checking LazyData ... OK
- checking data for ASCII and uncompressed saves ... OK
- checking examples ... [11s/10s] OK
Examples with CPU (user + system) or elapsed time > 5s
user system elapsed
jSA 5.418 0.26 4.591
- checking PDF version of manual ... [11s/15s] OK
- checking HTML version of manual ... [4s/6s] OK
- checking for non-standard things in the check directory ... OK
- DONE
Status: 1 NOTE