- using R Under development (unstable) (2025-10-25 r88970)
- using platform: x86_64-pc-linux-gnu
- R was compiled by
Debian clang version 19.1.7 (7)
Debian flang-new version 19.1.7 (7)
- running under: Debian GNU/Linux forky/sid
- using session charset: UTF-8
- checking for file ‘RARfreq/DESCRIPTION’ ... OK
- checking extension type ... Package
- this is package ‘RARfreq’ version ‘0.1.5’
- package encoding: UTF-8
- checking CRAN incoming feasibility ... [1s/2s] OK
- checking package namespace information ... OK
- checking package dependencies ... OK
- checking if this is a source package ... OK
- checking if there is a namespace ... OK
- checking for executable files ... OK
- checking for hidden files and directories ... OK
- checking for portable file names ... OK
- checking for sufficient/correct file permissions ... OK
- checking serialization versions ... OK
- checking whether package ‘RARfreq’ can be installed ... OK
See the install log for details.
- checking package directory ... OK
- checking for future file timestamps ... OK
- checking DESCRIPTION meta-information ... OK
- checking top-level files ... OK
- checking for left-over files ... OK
- checking index information ... OK
- checking package subdirectories ... OK
- checking code files for non-ASCII characters ... OK
- checking R files for syntax errors ... OK
- checking whether the package can be loaded ... [2s/3s] OK
- checking whether the package can be loaded with stated dependencies ... [2s/2s] OK
- checking whether the package can be unloaded cleanly ... [2s/2s] OK
- checking whether the namespace can be loaded with stated dependencies ... [2s/3s] OK
- checking whether the namespace can be unloaded cleanly ... [2s/4s] OK
- checking loading without being on the library search path ... [2s/3s] OK
- checking use of S3 registration ... OK
- checking dependencies in R code ... OK
- checking S3 generic/method consistency ... OK
- checking replacement functions ... OK
- checking foreign function calls ... OK
- checking R code for possible problems ... [18s/26s] OK
- checking Rd files ... [2s/4s] OK
- checking Rd metadata ... OK
- checking Rd line widths ... OK
- checking Rd cross-references ... OK
- checking for missing documentation entries ... OK
- checking for code/documentation mismatches ... OK
- checking Rd \usage sections ... OK
- checking Rd contents ... OK
- checking for unstated dependencies in examples ... OK
- checking examples ... [52s/91s] OK
Examples with CPU (user + system) or elapsed time > 5s
user system elapsed
SEU_power_comparison_Power_vs_n_GAUSSIAN 7.059 0.000 12.586
SEU_power_comparison_Power_vs_n 7.003 0.001 12.806
SEU_power_comparison_Power_vs_Trt 6.525 0.112 12.224
SEU_power_comparison_Power_vs_Trt_GAUSSIAN 6.367 0.034 9.696
SEU_simulation_main 6.105 0.055 10.800
power_comparison_Power_vs_n_GAUSSIAN 3.564 0.000 6.681
power_comparison_Power_vs_n 3.125 0.051 5.202
power_comparison_Power_vs_Trt_GAUSSIAN 2.899 0.016 5.128
- checking for unstated dependencies in ‘tests’ ... OK
- checking tests ... [3s/4s] OK
Running ‘spelling.R’ [0s/0s]
Running ‘testthat.R’ [2s/3s]
- checking PDF version of manual ... [6s/10s] OK
- checking HTML version of manual ... [1s/2s] OK
- checking for non-standard things in the check directory ... OK
- DONE
Status: OK