- using R Under development (unstable) (2025-10-19 r88945)
- using platform: x86_64-pc-linux-gnu
- R was compiled by
Debian clang version 19.1.7 (7)
Debian flang-new version 19.1.7 (7)
- running under: Debian GNU/Linux forky/sid
- using session charset: UTF-8
- checking for file ‘R6causal/DESCRIPTION’ ... OK
- checking extension type ... Package
- this is package ‘R6causal’ version ‘0.8.3’
- package encoding: UTF-8
- checking CRAN incoming feasibility ... [1s/2s] OK
- checking package namespace information ... OK
- checking package dependencies ... OK
- checking if this is a source package ... OK
- checking if there is a namespace ... OK
- checking for executable files ... OK
- checking for hidden files and directories ... OK
- checking for portable file names ... OK
- checking for sufficient/correct file permissions ... OK
- checking serialization versions ... OK
- checking whether package ‘R6causal’ can be installed ... OK
See the install log for details.
- checking package directory ... OK
- checking for future file timestamps ... OK
- checking ‘build’ directory ... OK
- checking DESCRIPTION meta-information ... OK
- checking top-level files ... OK
- checking for left-over files ... OK
- checking index information ... OK
- checking package subdirectories ... OK
- checking code files for non-ASCII characters ... OK
- checking R files for syntax errors ... OK
- checking whether the package can be loaded ... [1s/2s] OK
- checking whether the package can be loaded with stated dependencies ... [1s/1s] OK
- checking whether the package can be unloaded cleanly ... [1s/1s] OK
- checking whether the namespace can be loaded with stated dependencies ... [1s/1s] OK
- checking whether the namespace can be unloaded cleanly ... [1s/1s] OK
- checking loading without being on the library search path ... [1s/2s] OK
- checking use of S3 registration ... OK
- checking dependencies in R code ... OK
- checking S3 generic/method consistency ... OK
- checking replacement functions ... OK
- checking foreign function calls ... OK
- checking R code for possible problems ... [9s/13s] OK
- checking Rd files ... [1s/1s] OK
- checking Rd metadata ... OK
- checking Rd line widths ... OK
- checking Rd cross-references ... OK
- checking for missing documentation entries ... OK
- checking for code/documentation mismatches ... OK
- checking Rd \usage sections ... OK
- checking Rd contents ... OK
- checking for unstated dependencies in examples ... OK
- checking sizes of PDF files under ‘inst/doc’ ... OK
- checking installed files from ‘inst/doc’ ... OK
- checking files in ‘vignettes’ ... OK
- checking examples ... [4s/5s] OK
- checking for unstated dependencies in vignettes ... OK
- checking package vignettes ... OK
- checking re-building of vignette outputs ... [25s/33s] OK
- checking PDF version of manual ... [6s/8s] OK
- checking HTML version of manual ... [1s/2s] NOTE
Found the following HTML validation problems:
LinearGaussianSCM.html:232:1 (LinearGaussianSCM.Rd:162): Warning: <h5> anchor "Usage" already defined
LinearGaussianSCM.html:238:1 (LinearGaussianSCM.Rd:166): Warning: <h5> anchor "Arguments" already defined
ParallelWorld.html:182:1 (ParallelWorld.Rd:134): Warning: <h5> anchor "Usage" already defined
ParallelWorld.html:188:1 (ParallelWorld.Rd:138): Warning: <h5> anchor "Arguments" already defined
SCM.html:253:1 (SCM.Rd:259): Warning: <h5> anchor "Usage" already defined
SCM.html:259:1 (SCM.Rd:263): Warning: <h5> anchor "Examples" already defined
SCM.html:278:1 (SCM.Rd:277): Warning: <h5> anchor "Usage" already defined
SCM.html:284:1 (SCM.Rd:281): Warning: <h5> anchor "Arguments" already defined
SCM.html:301:1 (SCM.Rd:292): Warning: <h5> anchor "Examples" already defined
SCM.html:321:1 (SCM.Rd:307): Warning: <h5> anchor "Usage" already defined
SCM.html:333:1 (SCM.Rd:317): Warning: <h5> anchor "Arguments" already defined
SCM.html:364:1 (SCM.Rd:338): Warning: <h5> anchor "Usage" already defined
SCM.html:370:1 (SCM.Rd:342): Warning: <h5> anchor "Arguments" already defined
SCM.html:395:1 (SCM.Rd:357): Warning: <h5> anchor "Usage" already defined
SCM.html:401:1 (SCM.Rd:361): Warning: <h5> anchor "Arguments" already defined
SCM.html:426:1 (SCM.Rd:376): Warning: <h5> anchor "Usage" already defined
SCM.html:432:1 (SCM.Rd:380): Warning: <h5> anchor "Arguments" already defined
SCM.html:457:1 (SCM.Rd:395): Warning: <h5> anchor "Usage" already defined
SCM.html:463:1 (SCM.Rd:399): Warning: <h5> anchor "Arguments" already defined
SCM.html:488:1 (SCM.Rd:414): Warning: <h5> anchor "Usage" already defined
SCM.html:500:1 (SCM.Rd:424): Warning: <h5> anchor "Arguments" already defined
SCM.html:521:1 (SCM.Rd:439): Warning: <h5> anchor "Examples" already defined
SCM.html:547:1 (SCM.Rd:460): Warning: <h5> anchor "Usage" already defined
SCM.html:553:1 (SCM.Rd:464): Warning: <h5> anchor "Arguments" already defined
SCM.html:566:1 (SCM.Rd:471): Warning: <h5> anchor "Examples" already defined
SCM.html:590:1 (SCM.Rd:490): Warning: <h5> anchor "Usage" already defined
SCM.html:596:1 (SCM.Rd:494): Warning: <h5> anchor "Arguments" already defined
SCM.html:613:1 (SCM.Rd:505): Warning: <h5> anchor "Returns" already defined
SCM.html:637:1 (SCM.Rd:521): Warning: <h5> anchor "Usage" already defined
SCM.html:650:1 (SCM.Rd:532): Warning: <h5> anchor "Arguments" already defined
SCM.html:673:1 (SCM.Rd:549): Warning: <h5> anchor "Returns" already defined
SCM.html:680:1 (SCM.Rd:552): Warning: <h5> anchor "Examples" already defined
SCM.html:701:1 (SCM.Rd:568): Warning: <h5> anchor "Usage" already defined
SCM.html:707:1 (SCM.Rd:572): Warning: <h5> anchor "Arguments" already defined
SCM.html:722:1 (SCM.Rd:581): Warning: <h5> anchor "Returns" already defined
SCM.html:729:1 (SCM.Rd:584): Warning: <h5> anchor "Examples" already defined
SCM.html:748:1 (SCM.Rd:598): Warning: <h5> anchor "Usage" already defined
SCM.html:754:1 (SCM.Rd:602): Warning: <h5> anchor "Arguments" already defined
SCM.html:769:1 (SCM.Rd:611): Warning: <h5> anchor "Examples" already defined
SCM.html:799:1 (SCM.Rd:636): Warning: <h5> anchor "Usage" already defined
SCM.html:812:1 (SCM.Rd:647): Warning: <h5> anchor "Arguments" already defined
SCM.html:835:1 (SCM.Rd:664): Warning: <h5> anchor "Examples" already defined
SCM.html:856:1 (SCM.Rd:680): Warning: <h5> anchor "Usage" already defined
SCM.html:862:1 (SCM.Rd:684): Warning: <h5> anchor "Arguments" already defined
analytic_linear_gaussian.html:61:1 (analytic_linear_gaussian.Rd:18): Warning: missing </ul> before </div>
analytic_linear_gaussian_conditining.html:57:1 (analytic_linear_gaussian_conditining.Rd:16): Warning: missing </ul> before </div>
- checking for non-standard things in the check directory ... OK
- DONE
Status: 1 NOTE