- using R Under development (unstable) (2025-11-26 r89066)
- using platform: x86_64-pc-linux-gnu
- R was compiled by
Debian clang version 21.1.5 (1)
Debian flang version 21.1.5 (1)
- running under: Debian GNU/Linux forky/sid
- using session charset: UTF-8
- checking for file ‘QuAnTeTrack/DESCRIPTION’ ... OK
- this is package ‘QuAnTeTrack’ version ‘0.1.0’
- package encoding: UTF-8
- checking CRAN incoming feasibility ... [1s/2s] OK
- checking package namespace information ... OK
- checking package dependencies ... OK
- checking if this is a source package ... OK
- checking if there is a namespace ... OK
- checking for executable files ... OK
- checking for hidden files and directories ... OK
- checking for portable file names ... OK
- checking for sufficient/correct file permissions ... OK
- checking whether package ‘QuAnTeTrack’ can be installed ... OK
See the install log for details.
- checking package directory ... OK
- checking for future file timestamps ... OK
- checking ‘build’ directory ... OK
- checking DESCRIPTION meta-information ... OK
- checking top-level files ... OK
- checking for left-over files ... OK
- checking index information ... OK
- checking package subdirectories ... OK
- checking code files for non-ASCII characters ... OK
- checking R files for syntax errors ... OK
- checking whether the package can be loaded ... [4s/6s] OK
- checking whether the package can be loaded with stated dependencies ... [4s/5s] OK
- checking whether the package can be unloaded cleanly ... [4s/6s] OK
- checking whether the namespace can be loaded with stated dependencies ... [4s/5s] OK
- checking whether the namespace can be unloaded cleanly ... [5s/6s] OK
- checking loading without being on the library search path ... [5s/6s] OK
- checking whether startup messages can be suppressed ... [4s/5s] OK
- checking use of S3 registration ... OK
- checking dependencies in R code ... OK
- checking S3 generic/method consistency ... OK
- checking replacement functions ... OK
- checking foreign function calls ... OK
- checking R code for possible problems ... [26s/37s] OK
- checking Rd files ... [1s/1s] NOTE
checkRd: (-1) cluster_track.Rd:88: height/width attributes should be in pixels
checkRd: (-1) combined_prob.Rd:38: height/width attributes should be in pixels
checkRd: (-1) mode_velocity.Rd:65: height/width attributes should be in pixels
checkRd: (-1) plot_direction.Rd:62: height/width attributes should be in pixels
checkRd: (-1) plot_sim.Rd:54: height/width attributes should be in pixels
checkRd: (-1) plot_track.Rd:62: height/width attributes should be in pixels
checkRd: (-1) plot_velocity.Rd:51: height/width attributes should be in pixels
checkRd: (-1) simil_DTW_metric.Rd:73: height/width attributes should be in pixels
checkRd: (-1) simil_Frechet_metric.Rd:70: height/width attributes should be in pixels
checkRd: (-1) simulate_track.Rd:74: height/width attributes should be in pixels
checkRd: (-1) subset_track.Rd:30: height/width attributes should be in pixels
checkRd: (-1) test_direction.Rd:53: height/width attributes should be in pixels
checkRd: (-1) test_velocity.Rd:58: height/width attributes should be in pixels
checkRd: (-1) tps_to_track.Rd:51: height/width attributes should be in pixels
checkRd: (-1) track_intersection.Rd:112: height/width attributes should be in pixels
checkRd: (-1) track_param.Rd:71: height/width attributes should be in pixels
checkRd: (-1) velocity_track.Rd:75: height/width attributes should be in pixels
- checking Rd metadata ... OK
- checking Rd line widths ... OK
- checking Rd cross-references ... OK
- checking for missing documentation entries ... OK
- checking for code/documentation mismatches ... OK
- checking Rd \usage sections ... OK
- checking Rd contents ... OK
- checking for unstated dependencies in examples ... OK
- checking contents of ‘data’ directory ... OK
- checking data for non-ASCII characters ... [0s/0s] OK
- checking LazyData ... OK
- checking data for ASCII and uncompressed saves ... OK
- checking installed files from ‘inst/doc’ ... OK
- checking files in ‘vignettes’ ... OK
- checking examples ... [48s/59s] OK
Examples with CPU (user + system) or elapsed time > 5s
user system elapsed
combined_prob 7.834 0.243 9.368
plot_direction 7.849 0.012 9.592
track_intersection 5.845 0.262 7.850
plot_track 5.501 0.004 7.109
simil_Frechet_metric 4.883 0.000 5.837
plot_sim 3.794 0.004 5.203
- checking for unstated dependencies in ‘tests’ ... OK
- checking tests ... [144s/221s] OK
Running ‘testthat.R’ [144s/221s]
- checking for unstated dependencies in vignettes ... OK
- checking package vignettes ... OK
- checking re-building of vignette outputs ... [225s/329s] OK
- checking PDF version of manual ... [7s/10s] OK
- checking HTML version of manual ... [4s/6s] OK
- checking for non-standard things in the check directory ... OK
- DONE
Status: 1 NOTE