- using R Under development (unstable) (2025-06-27 r88363)
- using platform: x86_64-pc-linux-gnu
- R was compiled by
Debian clang version 19.1.7 (3+b1)
Debian flang-new version 19.1.7 (3+b1)
- running under: Debian GNU/Linux 13 (trixie)
- using session charset: UTF-8
- checking for file ‘QCApro/DESCRIPTION’ ... OK
- this is package ‘QCApro’ version ‘1.1-2’
- checking CRAN incoming feasibility ... [1s/2s] NOTE
Maintainer: ‘Alrik Thiem <alrik.thiem@unilu.ch>’
Package CITATION file contains call(s) to old-style personList() or
as.personList(). Please use c() on person objects instead.
Found the following URLs which should use \doi (with the DOI name only):
File ‘QCApro.package.Rd’:
http://dx.doi.org/10.1177/0894439313478999
http://dx.doi.org/10.1177/0049124115610351
http://dx.doi.org/10.1177/0049124117701487
http://dx.doi.org/10.1177/0081175016654736
http://dx.doi.org/10.1177/1525822x13478135
http://dx.doi.org/10.1007/s11135-014-0015-x
http://dx.doi.org/10.1177/0049124105277197
http://dx.doi.org/10.1177/0049124107313903
File ‘ambiguity.Rd’:
http://dx.doi.org/10.1177/0049124115610351
http://dx.doi.org/10.1002/j.1538-7305.1956.tb03835.x
File ‘calibrate.Rd’:
http://dx.doi.org/10.1080/13645579.2013.806118
File ‘d.biodiversity.Rd’:
http://dx.doi.org/10.1016/j.gloenvcha.2013.02.011
File ‘d.education.Rd’:
http://dx.doi.org/10.1007/s10734-009-9264-3
File ‘d.graduate.Rd’:
http://dx.doi.org/10.1177/0049124105277197
http://dx.doi.org/10.1177/0049124107313903
File ‘d.health.Rd’:
http://dx.doi.org/10.1016/j.socscimed.2011.04.003
File ‘d.jobsecurity.Rd’:
http://dx.doi.org/10.1111/j.1475-6765.2010.01933.x
File ‘d.napoleon.Rd’:
http://dx.doi.org/10.1111/j.1748-121X.2009.00150.x
File ‘d.partybans.Rd’:
http://dx.doi.org/10.1080/13510347.2010.491189
File ‘d.represent.Rd’:
http://dx.doi.org/10.1111/j.1467-9248.2010.00833.x
File ‘d.stakeholder.Rd’:
http://dx.doi.org/10.5465/amj.2010.0697
File ‘d.transport.Rd’:
http://dx.doi.org/10.1177/1098214011411574
File ‘d.tumorscreen.Rd’:
http://dx.doi.org/10.1177/1078087403262861
http://dx.doi.org/10.1038/gim.2014.31
File ‘d.urban.Rd’:
http://dx.doi.org/10.1177/1078087403262861
File ‘eQMC.Rd’:
http://dx.doi.org/10.1080/0022250X.2014.897949
http://dx.doi.org/10.1177/0049124115589032
http://dx.doi.org/10.1177/0049124117701487
http://dx.doi.org/10.1002/j.1538-7305.1956.tb03835.x
http://dx.doi.org/10.1177/0049124115610351
http://dx.doi.org/10.1177/0193841x14550863
http://dx.doi.org/10.1080/13510347.2010.491189
http://dx.doi.org/10.1007/s11135-014-0015-x
http://dx.doi.org/10.1177/0049124109339369
http://dx.doi.org/10.1111/j.1475-6765.2010.01933.x
http://dx.doi.org/10.1111/j.1467-9248.2010.00833.x
File ‘implicIndep.Rd’:
http://dx.doi.org/10.1177/0081175016654736
File ‘implicantMatrix.Rd’:
http://dx.doi.org/10.1007/s11135-008-9183-x
http://dx.doi.org/10.1080/0022250X.2014.897949
File ‘limitedDiversity.Rd’:
http://dx.doi.org/10.1177/0049124117701487
http://dx.doi.org/10.1177/0049124109339369
File ‘mintermMatrix.Rd’:
http://dx.doi.org/10.1080/0022250X.2014.897949
File ‘pof.Rd’:
http://dx.doi.org/10.1111/j.1475-6765.2010.01933.x
http://dx.doi.org/10.1080/13510347.2010.491189
http://dx.doi.org/10.1111/j.1467-9248.2010.00833.x
File ‘randomDGS.Rd’:
http://dx.doi.org/10.1177/0049124117701487
File ‘retention.Rd’:
http://dx.doi.org/10.1093/pan/mpv028
http://dx.doi.org/10.1093/pan/mps061
File ‘superSubset.Rd’:
http://dx.doi.org/10.1177/1065912912468269
File ‘testTESA.Rd’:
http://dx.doi.org/10.1177/1065912912468269
http://dx.doi.org/10.1093/pan/mpw024
File ‘truthTable.Rd’:
http://dx.doi.org/10.1111/j.1475-6765.2010.01933.x
http://dx.doi.org/10.1080/13510347.2010.491189
http://dx.doi.org/10.1111/j.1467-9248.2010.00833.x
http://dx.doi.org/10.1177/0049124107313903
- checking package namespace information ... OK
- checking package dependencies ... OK
- checking if this is a source package ... OK
- checking if there is a namespace ... OK
- checking for executable files ... OK
- checking for hidden files and directories ... OK
- checking for portable file names ... OK
- checking for sufficient/correct file permissions ... OK
- checking serialization versions ... OK
- checking whether package ‘QCApro’ can be installed ... OK
See the install log for details.
- used C compiler: ‘Debian clang version 19.1.7 (3+b1)’
- checking package directory ... OK
- checking for future file timestamps ... OK
- checking DESCRIPTION meta-information ... OK
- checking top-level files ... OK
- checking for left-over files ... OK
- checking index information ... OK
- checking package subdirectories ... OK
- checking code files for non-ASCII characters ... OK
- checking R files for syntax errors ... OK
- checking whether the package can be loaded ... [0s/0s] OK
- checking whether the package can be loaded with stated dependencies ... [0s/0s] OK
- checking whether the package can be unloaded cleanly ... [0s/0s] OK
- checking whether the namespace can be loaded with stated dependencies ... [0s/0s] OK
- checking whether the namespace can be unloaded cleanly ... [0s/1s] OK
- checking loading without being on the library search path ... [0s/0s] OK
- checking whether startup messages can be suppressed ... [0s/0s] OK
- checking use of S3 registration ... OK
- checking dependencies in R code ... OK
- checking S3 generic/method consistency ... OK
- checking replacement functions ... OK
- checking foreign function calls ... OK
- checking R code for possible problems ... [22s/24s] OK
- checking Rd files ... [1s/2s] OK
- checking Rd metadata ... OK
- checking Rd line widths ... OK
- checking Rd cross-references ... OK
- checking for missing documentation entries ... OK
- checking for code/documentation mismatches ... OK
- checking Rd \usage sections ... OK
- checking Rd contents ... OK
- checking for unstated dependencies in examples ... OK
- checking contents of ‘data’ directory ... OK
- checking data for non-ASCII characters ... [0s/0s] OK
- checking data for ASCII and uncompressed saves ... OK
- checking line endings in C/C++/Fortran sources/headers ... OK
- checking pragmas in C/C++ headers and code ... OK
- checking compilation flags used ... OK
- checking compiled code ... OK
- checking sizes of PDF files under ‘inst/doc’ ... OK
- checking installed files from ‘inst/doc’ ... OK
- checking examples ... [3s/3s] OK
- checking for unstated dependencies in ‘tests’ ... OK
- checking tests ... [2s/3s] OK
Running ‘testthat.R’ [2s/3s]
- checking PDF version of manual ... [8s/13s] OK
- checking HTML version of manual ... [3s/4s] OK
- checking for non-standard things in the check directory ... OK
- DONE
Status: 1 NOTE