- using R Under development (unstable) (2023-12-04 r85659)
- using platform: x86_64-pc-linux-gnu
- R was compiled by
Debian clang version 17.0.5 (1)
Debian flang-new version 17.0.5 (1)
- running under: Debian GNU/Linux trixie/sid
- using session charset: UTF-8
- checking for file ‘PerformanceAnalytics/DESCRIPTION’ ... OK
- checking extension type ... Package
- this is package ‘PerformanceAnalytics’ version ‘2.0.4’
- package encoding: UTF-8
- checking package namespace information ... OK
- checking package dependencies ... OK
- checking if this is a source package ... OK
- checking if there is a namespace ... OK
- checking for executable files ... OK
- checking for hidden files and directories ... OK
- checking for portable file names ... OK
- checking for sufficient/correct file permissions ... OK
- checking whether package ‘PerformanceAnalytics’ can be installed ... OK
See the install log for details.
- used C compiler: ‘Debian clang version 17.0.5 (1)’
- checking package directory ... OK
- checking for future file timestamps ... OK
- checking ‘build’ directory ... OK
- checking DESCRIPTION meta-information ... OK
- checking top-level files ... OK
- checking for left-over files ... OK
- checking index information ... OK
- checking package subdirectories ... OK
- checking R files for non-ASCII characters ... OK
- checking R files for syntax errors ... OK
- checking whether the package can be loaded ... [1s/1s] OK
- checking whether the package can be loaded with stated dependencies ... [1s/1s] OK
- checking whether the package can be unloaded cleanly ... [0s/1s] OK
- checking whether the namespace can be loaded with stated dependencies ... [0s/1s] OK
- checking whether the namespace can be unloaded cleanly ... [1s/1s] OK
- checking loading without being on the library search path ... [1s/1s] OK
- checking use of S3 registration ... OK
- checking dependencies in R code ... OK
- checking S3 generic/method consistency ... OK
- checking replacement functions ... OK
- checking foreign function calls ... OK
- checking R code for possible problems ... [61s/77s] OK
- checking Rd files ... [2s/3s] NOTE
checkRd: (-1) CAPM.RiskPremium.Rd:67: Escaped LaTeX specials: \&
checkRd: (-1) Return.portfolio.Rd:109: Lost braces in \itemize; meant \describe ?
checkRd: (-1) Return.portfolio.Rd:110-113: Lost braces in \itemize; meant \describe ?
checkRd: (-1) Return.portfolio.Rd:114-118: Lost braces in \itemize; meant \describe ?
checkRd: (-1) Return.portfolio.Rd:119-122: Lost braces in \itemize; meant \describe ?
checkRd: (-1) Return.portfolio.Rd:123-129: Lost braces in \itemize; meant \describe ?
checkRd: (-1) Return.portfolio.Rd:130-132: Lost braces in \itemize; meant \describe ?
checkRd: (-1) chart.ECDF.Rd:31: Escaped LaTeX specials: \#
checkRd: (-1) managers.Rd:8: Escaped LaTeX specials: \&
- checking Rd metadata ... OK
- checking Rd line widths ... OK
- checking Rd cross-references ... OK
- checking for missing documentation entries ... OK
- checking for code/documentation mismatches ... OK
- checking Rd \usage sections ... OK
- checking Rd contents ... OK
- checking for unstated dependencies in examples ... OK
- checking contents of ‘data’ directory ... OK
- checking data for non-ASCII characters ... [0s/0s] OK
- checking LazyData ... OK
- checking data for ASCII and uncompressed saves ... OK
- checking line endings in C/C++/Fortran sources/headers ... OK
- checking pragmas in C/C++ headers and code ... OK
- checking compilation flags used ... OK
- checking compiled code ... OK
- checking sizes of PDF files under ‘inst/doc’ ... OK
- checking installed files from ‘inst/doc’ ... OK
- checking files in ‘vignettes’ ... OK
- checking examples ... [104s/130s] OK
Examples with CPU (user + system) or elapsed time > 5s
user system elapsed
charts.RollingPerformance 12.031 0.970 15.606
chart.RollingPerformance 9.560 1.530 12.427
VaR 10.943 0.115 14.119
ES 10.938 0.022 15.321
StdDev 10.660 0.125 13.019
chart.RollingRegression 8.675 0.167 11.842
MCA 6.245 0.032 7.950
- checking differences from ‘PerformanceAnalytics-Ex.Rout’ to ‘PerformanceAnalytics-Ex.Rout.save’ ... OK
2065c2065,4055
< ...
---
> 1999-01-19 0.04
> 1999-01-20 0.01
> 1999-01-21 0.01
> 1999-01-22 -0.09
> 1999-01-25 0.01
> 1999-01-26 0.02
> 1999-01-27 -0.04
> 1999-01-28 0.00
> 1999-01-29 0.03
> 1999-02-01 -0.02
> 1999-02-02 -0.02
> 1999-02-03 -0.01
> 1999-02-04 -0.03
> 1999-02-05 -0.02
> 1999-02-08 0.01
> 1999-02-09 -0.03
> 1999-02-10 0.04
> 1999-02-11 0.06
> 1999-02-12 -0.03
> 1999-02-16 0.00
> 1999-02-17 -0.01
> 1999-02-18 0.02
> 1999-02-19 -0.02
> 1999-02-22 0.04
> 1999-02-23 -0.01
> 1999-02-24 -0.02
> 1999-02-25 0.00
> 1999-02-26 -0.02
> 1999-03-01 -0.01
> 1999-03-02 0.00
> 1999-03-03 -0.01
> 1999-03-04 0.03
> 1999-03-05 0.04
> 1999-03-08 0.00
> 1999-03-09 0.02
> 1999-03-10 0.00
> 1999-03-11 0.01
> 1999-03-12 -0.03
> 1999-03-15 0.02
> 1999-03-16 -0.01
> 1999-03-17 -0.02
> 1999-03-18 0.00
> 1999-03-19 -0.05
> 1999-03-22 -0.01
> 1999-03-23 -0.01
> 1999-03-24 0.02
> 1999-03-25 0.01
> 1999-03-26 0.01
> 1999-03-29 0.03
> 1999-03-30 0.00
> 1999-03-31 -0.01
> 1999-04-01 0.00
> 1999-04-05 0.04
> 1999-04-06 -0.01
> 1999-04-07 0.02
> 1999-04-08 0.00
> 1999-04-09 0.00
> 1999-04-12 -0.02
> 1999-04-13 -0.02
> 1999-04-14 0.00
> 1999-04-15 -0.01
> 1999-04-16 -0.04
> 1999-04-19 -0.02
> 1999-04-20 0.02
> 1999-04-21 0.01
> 1999-04-22 0.13
> 1999-04-23 0.03
> 1999-04-26 0.05
> 1999-04-27 0.01
> 1999-04-28 -0.03
> 1999-04-29 0.00
> 1999-04-30 0.02
> 1999-05-03 0.01
> 1999-05-04 0.00
> 1999-05-05 0.00
> 1999-05-06 -0.01
> 1999-05-07 0.04
> 1999-05-10 0.01
> 1999-05-11 0.01
> 1999-05-12 0.02
> 1999-05-13 0.09
> 1999-05-14 -0.03
> 1999-05-17 -0.01
> 1999-05-18 0.00
> 1999-05-19 -0.01
> 1999-05-20 -0.01
> 1999-05-21 -0.01
> 1999-05-24 -0.03
> 1999-05-25 -0.01
> 1999-05-26 0.07
> 1999-05-27 -0.02
> 1999-05-28 0.00
> 1999-06-01 -0.03
> 1999-06-02 0.02
> 1999-06-03 -0.01
> 1999-06-04 0.03
> 1999-06-07 0.04
> 1999-06-08 -0.03
> 1999-06-09 0.00
> 1999-06-10 -0.01
> 1999-06-11 -0.01
> 1999-06-14 0.01
> 1999-06-15 0.00
> 1999-06-16 0.04
> 1999-06-17 0.00
> 1999-06-18 0.00
> 1999-06-21 0.03
> 1999-06-22 -0.01
> 1999-06-23 0.00
> 1999-06-24 0.00
> 1999-06-25 0.00
> 1999-06-28 0.00
> 1999-06-29 0.02
> 1999-06-30 0.04
> 1999-07-01 0.01
> 1999-07-02 0.01
> 1999-07-06 -0.01
> 1999-07-07 0.01
> 1999-07-08 0.01
> 1999-07-09 0.03
> 1999-07-12 0.00
> 1999-07-13 0.00
> 1999-07-14 0.00
> 1999-07-15 -0.01
> 1999-07-16 0.00
> 1999-07-19 -0.01
> 1999-07-20 -0.05
> 1999-07-21 0.01
> 1999-07-22 -0.04
> 1999-07-23 0.01
> 1999-07-26 -0.01
> 1999-07-27 0.03
> 1999-07-28 0.02
> 1999-07-29 -0.02
> 1999-07-30 0.00
> 1999-08-02 -0.03
> 1999-08-03 -0.02
> 1999-08-04 -0.01
> 1999-08-05 0.04
> 1999-08-06 0.00
> 1999-08-09 -0.01
> 1999-08-10 -0.02
> 1999-08-11 0.03
> 1999-08-12 -0.02
> 1999-08-13 0.02
> 1999-08-16 0.03
> 1999-08-17 0.01
> 1999-08-18 -0.04
> 1999-08-19 -0.01
> 1999-08-20 -0.01
> 1999-08-23 0.02
> 1999-08-24 -0.02
> 1999-08-25 0.00
> 1999-08-26 0.00
> 1999-08-27 0.01
> 1999-08-30 -0.01
> 1999-08-31 0.01
> 1999-09-01 0.02
> 1999-09-02 -0.01
> 1999-09-03 0.02
> 1999-09-07 0.02
> 1999-09-08 -0.01
> 1999-09-09 0.03
> 1999-09-10 0.00
> 1999-09-13 -0.02
> 1999-09-14 0.01
> 1999-09-15 -0.01
> 1999-09-16 -0.01
> 1999-09-17 -0.04
> 1999-09-20 0.04
> 1999-09-21 -0.02
> 1999-09-22 -0.02
> 1999-09-23 -0.03
> 1999-09-24 0.02
> 1999-09-27 -0.02
> 1999-09-28 0.00
> 1999-09-29 -0.03
> 1999-09-30 0.01
> 1999-10-01 -0.03
> 1999-10-04 0.02
> 1999-10-05 0.02
> 1999-10-06 -0.02
> 1999-10-07 -0.02
> 1999-10-08 -0.02
> 1999-10-11 0.01
> 1999-10-12 -0.04
> 1999-10-13 -0.04
> 1999-10-14 0.02
> 1999-10-15 0.01
> 1999-10-18 -0.01
> 1999-10-19 0.00
> 1999-10-20 0.00
> 1999-10-21 -0.15
> 1999-10-22 0.03
> 1999-10-25 0.00
> 1999-10-26 0.02
> 1999-10-27 -0.03
> 1999-10-28 0.02
> 1999-10-29 0.03
> 1999-11-01 -0.02
> 1999-11-02 -0.02
> 1999-11-03 0.00
> 1999-11-04 -0.03
> 1999-11-05 -0.01
> 1999-11-08 0.04
> 1999-11-09 0.00
> 1999-11-10 0.04
> 1999-11-11 -0.02
> 1999-11-12 0.01
> 1999-11-15 -0.02
> 1999-11-16 0.01
> 1999-11-17 -0.01
> 1999-11-18 0.05
> 1999-11-19 0.06
> 1999-11-22 0.04
> 1999-11-23 -0.02
> 1999-11-24 -0.01
> 1999-11-26 0.00
> 1999-11-29 -0.01
> 1999-11-30 -0.01
> 1999-12-01 0.00
> 1999-12-02 0.02
> 1999-12-03 0.06
> 1999-12-06 0.04
> 1999-12-07 0.01
> 1999-12-08 0.01
> 1999-12-09 -0.04
> 1999-12-10 -0.04
> 1999-12-13 0.01
> 1999-12-14 0.00
> 1999-12-15 -0.02
> 1999-12-16 0.02
> 1999-12-17 0.01
> 1999-12-20 -0.01
> 1999-12-21 0.01
> 1999-12-22 -0.02
> 1999-12-23 0.01
> 1999-12-27 0.01
> 1999-12-28 0.00
> 1999-12-29 -0.01
> 1999-12-30 0.00
> 1999-12-31 -0.01
> 2000-01-03 0.08
> 2000-01-04 -0.03
> 2000-01-05 0.04
> 2000-01-06 -0.02
> 2000-01-07 0.00
> 2000-01-10 0.04
> 2000-01-11 0.01
> 2000-01-12 0.00
> 2000-01-13 -0.01
> 2000-01-14 0.01
> 2000-01-18 -0.03
> 2000-01-19 0.03
> 2000-01-20 0.00
> 2000-01-21 0.02
> 2000-01-24 0.00
> 2000-01-25 -0.02
> 2000-01-26 -0.02
> 2000-01-27 -0.03
> 2000-01-28 -0.02
> 2000-01-31 0.01
> 2000-02-01 -0.02
> 2000-02-02 0.03
> 2000-02-03 0.03
> 2000-02-04 -0.01
> 2000-02-07 -0.01
> 2000-02-08 0.04
> 2000-02-09 -0.01
> 2000-02-10 0.01
> 2000-02-11 -0.03
> 2000-02-14 0.01
> 2000-02-15 0.01
> 2000-02-16 -0.01
> 2000-02-17 0.01
> 2000-02-18 -0.04
> 2000-02-22 -0.01
> 2000-02-23 -0.02
> 2000-02-24 0.02
> 2000-02-25 -0.02
> 2000-02-28 -0.03
> 2000-02-29 -0.02
> 2000-03-01 -0.02
> 2000-03-02 0.03
> 2000-03-03 0.05
> 2000-03-06 -0.05
> 2000-03-07 0.00
> 2000-03-08 0.03
> 2000-03-09 0.02
> 2000-03-10 -0.03
> 2000-03-13 0.02
> 2000-03-14 0.01
> 2000-03-15 -0.01
> 2000-03-16 0.02
> 2000-03-17 0.01
> 2000-03-20 0.03
> 2000-03-21 0.01
> 2000-03-22 0.01
> 2000-03-23 0.01
> 2000-03-24 0.05
> 2000-03-27 0.05
> 2000-03-28 -0.03
> 2000-03-29 -0.03
> 2000-03-30 0.03
> 2000-03-31 -0.04
> 2000-04-03 0.03
> 2000-04-04 -0.01
> 2000-04-05 0.03
> 2000-04-06 -0.02
> 2000-04-07 0.00
> 2000-04-10 -0.01
> 2000-04-11 -0.02
> 2000-04-12 -0.05
> 2000-04-13 -0.03
> 2000-04-14 -0.05
> 2000-04-17 0.07
> 2000-04-18 0.00
> 2000-04-19 -0.06
> 2000-04-20 -0.01
> 2000-04-24 0.02
> 2000-04-25 0.06
> 2000-04-26 -0.02
> 2000-04-27 0.00
> 2000-04-28 0.01
> 2000-05-01 0.00
> 2000-05-02 -0.01
> 2000-05-03 -0.03
> 2000-05-04 0.00
> 2000-05-05 0.00
> 2000-05-08 0.02
> 2000-05-09 -0.01
> 2000-05-10 -0.06
> 2000-05-11 0.01
> 2000-05-12 0.00
> 2000-05-15 0.00
> 2000-05-16 0.05
> 2000-05-17 -0.01
> 2000-05-18 -0.02
> 2000-05-19 0.00
> 2000-05-22 0.03
> 2000-05-23 -0.02
> 2000-05-24 0.02
> 2000-05-25 -0.03
> 2000-05-26 0.00
> 2000-05-30 0.04
> 2000-05-31 -0.03
> 2000-06-01 -0.01
> 2000-06-02 0.03
> 2000-06-05 0.04
> 2000-06-06 0.00
> 2000-06-07 0.08
> 2000-06-08 -0.01
> 2000-06-09 0.00
> 2000-06-12 -0.01
> 2000-06-13 0.00
> 2000-06-14 -0.03
> 2000-06-15 0.01
> 2000-06-16 -0.03
> 2000-06-19 0.06
> 2000-06-20 -0.03
> 2000-06-21 -0.02
> 2000-06-22 -0.02
> 2000-06-23 0.00
> 2000-06-26 0.02
> 2000-06-27 -0.04
> 2000-06-28 0.04
> 2000-06-29 0.00
> 2000-06-30 -0.04
> 2000-07-03 0.00
> 2000-07-05 -0.04
> 2000-07-06 -0.04
> 2000-07-07 0.04
> 2000-07-10 -0.02
> 2000-07-11 -0.01
> 2000-07-12 0.03
> 2000-07-13 -0.01
> 2000-07-14 0.00
> 2000-07-17 0.02
> 2000-07-18 -0.02
> 2000-07-19 0.05
> 2000-07-20 0.08
> 2000-07-21 -0.02
> 2000-07-24 -0.02
> 2000-07-25 0.00
> 2000-07-26 -0.02
> 2000-07-27 0.00
> 2000-07-28 0.01
> 2000-07-31 0.00
> 2000-08-01 -0.02
> 2000-08-02 0.03
> 2000-08-03 0.02
> 2000-08-04 0.00
> 2000-08-07 0.00
> 2000-08-08 0.02
> 2000-08-09 0.00
> 2000-08-10 0.01
> 2000-08-11 0.01
> 2000-08-14 0.02
> 2000-08-15 -0.01
> 2000-08-16 0.00
> 2000-08-17 0.00
> 2000-08-18 -0.02
> 2000-08-21 0.01
> 2000-08-22 0.00
> 2000-08-23 0.02
> 2000-08-24 0.01
> 2000-08-25 0.03
> 2000-08-28 0.02
> 2000-08-29 0.01
> 2000-08-30 -0.02
> 2000-08-31 0.01
> 2000-09-01 0.01
> 2000-09-05 -0.02
> 2000-09-06 0.00
> 2000-09-07 0.01
> 2000-09-08 -0.03
> 2000-09-11 -0.04
> 2000-09-12 0.00
> 2000-09-13 0.02
> 2000-09-14 -0.01
> 2000-09-15 -0.01
> 2000-09-18 -0.01
> 2000-09-19 0.01
> 2000-09-20 0.00
> 2000-09-21 -0.03
> 2000-09-22 0.02
> 2000-09-25 -0.01
> 2000-09-26 -0.03
> 2000-09-27 -0.01
> 2000-09-28 -0.02
> 2000-09-29 -0.02
> 2000-10-02 0.05
> 2000-10-03 -0.06
> 2000-10-04 0.03
> 2000-10-05 -0.01
> 2000-10-06 0.02
> 2000-10-09 0.02
> 2000-10-10 -0.03
> 2000-10-11 -0.02
> 2000-10-12 -0.08
> 2000-10-13 0.06
> 2000-10-16 0.02
> 2000-10-17 0.02
> 2000-10-18 -0.16
> 2000-10-19 0.01
> 2000-10-20 -0.02
> 2000-10-23 -0.02
> 2000-10-24 -0.02
> 2000-10-25 -0.04
> 2000-10-26 0.06
> 2000-10-27 0.01
> 2000-10-30 0.00
> 2000-10-31 0.06
> 2000-11-01 0.00
> 2000-11-02 0.03
> 2000-11-03 -0.02
> 2000-11-06 0.00
> 2000-11-07 0.02
> 2000-11-08 -0.02
> 2000-11-09 -0.01
> 2000-11-10 -0.06
> 2000-11-13 0.05
> 2000-11-14 0.02
> 2000-11-15 0.00
> 2000-11-16 -0.01
> 2000-11-17 0.04
> 2000-11-20 0.01
> 2000-11-21 -0.05
> 2000-11-22 0.00
> 2000-11-24 0.01
> 2000-11-27 -0.01
> 2000-11-28 -0.01
> 2000-11-29 0.02
> 2000-11-30 -0.06
> 2000-12-01 0.02
> 2000-12-04 0.03
> 2000-12-05 0.05
> 2000-12-06 -0.06
> 2000-12-07 -0.04
> 2000-12-08 0.04
> 2000-12-11 -0.02
> 2000-12-12 -0.01
> 2000-12-13 -0.03
> 2000-12-14 0.01
> 2000-12-15 -0.05
> 2000-12-18 0.03
> 2000-12-19 0.00
> 2000-12-20 -0.05
> 2000-12-21 -0.05
> 2000-12-22 0.09
> 2000-12-26 -0.05
> 2000-12-27 0.00
> 2000-12-28 0.01
> 2000-12-29 0.00
> 2001-01-02 0.00
> 2001-01-03 0.12
> 2001-01-04 -0.02
> 2001-01-05 0.01
> 2001-01-08 0.00
> 2001-01-09 -0.01
> 2001-01-10 0.01
> 2001-01-11 0.00
> 2001-01-12 0.00
> 2001-01-16 -0.01
> 2001-01-17 0.04
> 2001-01-18 0.12
> 2001-01-19 0.03
> 2001-01-22 -0.02
> 2001-01-23 0.00
> 2001-01-24 0.01
> 2001-01-25 0.00
> 2001-01-26 0.03
> 2001-01-29 0.01
> 2001-01-30 0.01
> 2001-01-31 -0.04
> 2001-02-01 0.02
> 2001-02-02 -0.03
> 2001-02-05 0.02
> 2001-02-06 0.02
> 2001-02-07 0.02
> 2001-02-08 -0.02
> 2001-02-09 -0.02
> 2001-02-12 0.03
> 2001-02-13 -0.01
> 2001-02-14 0.01
> 2001-02-15 0.01
> 2001-02-16 -0.02
> 2001-02-20 -0.03
> 2001-02-21 -0.04
> 2001-02-22 0.01
> 2001-02-23 -0.04
> 2001-02-26 0.01
> 2001-02-27 -0.03
> 2001-02-28 -0.03
> 2001-03-01 0.06
> 2001-03-02 -0.04
> 2001-03-05 0.03
> 2001-03-06 0.01
> 2001-03-07 0.01
> 2001-03-08 -0.01
> 2001-03-09 -0.07
> 2001-03-12 -0.04
> 2001-03-13 0.03
> 2001-03-14 -0.03
> 2001-03-15 0.01
> 2001-03-16 -0.06
> 2001-03-19 0.03
> 2001-03-20 -0.05
> 2001-03-21 0.01
> 2001-03-22 0.00
> 2001-03-23 0.05
> 2001-03-26 0.02
> 2001-03-27 0.04
> 2001-03-28 -0.05
> 2001-03-29 0.01
> 2001-03-30 0.01
> 2001-04-02 -0.02
> 2001-04-03 -0.05
> 2001-04-04 0.02
> 2001-04-05 0.07
> 2001-04-06 0.00
> 2001-04-09 -0.02
> 2001-04-10 0.03
> 2001-04-11 -0.02
> 2001-04-12 -0.01
> 2001-04-16 0.01
> 2001-04-17 0.03
> 2001-04-18 0.07
> 2001-04-19 0.07
> 2001-04-20 0.00
> 2001-04-23 -0.02
> 2001-04-24 0.01
> 2001-04-25 0.02
> 2001-04-26 -0.01
> 2001-04-27 0.02
> 2001-04-30 -0.01
> 2001-05-01 0.03
> 2001-05-02 -0.03
> 2001-05-03 -0.01
> 2001-05-04 0.02
> 2001-05-07 0.00
> 2001-05-08 0.02
> 2001-05-09 -0.01
> 2001-05-10 -0.02
> 2001-05-11 -0.03
> 2001-05-14 0.01
> 2001-05-15 0.01
> 2001-05-16 0.02
> 2001-05-17 -0.01
> 2001-05-18 0.02
> 2001-05-21 0.01
> 2001-05-22 -0.01
> 2001-05-23 -0.01
> 2001-05-24 0.02
> 2001-05-25 -0.02
> 2001-05-29 -0.02
> 2001-05-30 -0.02
> 2001-05-31 -0.01
> 2001-06-01 0.01
> 2001-06-04 0.01
> 2001-06-05 0.03
> 2001-06-06 0.00
> 2001-06-07 0.00
> 2001-06-08 -0.01
> 2001-06-11 0.01
> 2001-06-12 0.00
> 2001-06-13 -0.01
> 2001-06-14 -0.01
> 2001-06-15 -0.02
> 2001-06-18 0.01
> 2001-06-19 0.01
> 2001-06-20 -0.02
> 2001-06-21 0.00
> 2001-06-22 0.00
> 2001-06-25 0.00
> 2001-06-26 0.00
> 2001-06-27 0.00
> 2001-06-28 0.01
> 2001-06-29 -0.01
> 2001-07-02 0.01
> 2001-07-03 -0.01
> 2001-07-05 -0.01
> 2001-07-06 -0.05
> 2001-07-09 -0.02
> 2001-07-10 -0.03
> 2001-07-11 0.02
> 2001-07-12 0.03
> 2001-07-13 0.01
> 2001-07-16 -0.01
> 2001-07-17 0.01
> 2001-07-18 -0.04
> 2001-07-19 0.00
> 2001-07-20 0.02
> 2001-07-23 0.00
> 2001-07-24 -0.01
> 2001-07-25 0.00
> 2001-07-26 0.01
> 2001-07-27 -0.01
> 2001-07-30 0.01
> 2001-07-31 -0.01
> 2001-08-01 0.02
> 2001-08-02 0.02
> 2001-08-03 -0.01
> 2001-08-06 -0.02
> 2001-08-07 0.00
> 2001-08-08 -0.02
> 2001-08-09 0.00
> 2001-08-10 0.01
> 2001-08-13 0.01
> 2001-08-14 0.00
> 2001-08-15 -0.01
> 2001-08-16 0.01
> 2001-08-17 -0.01
> 2001-08-20 0.00
> 2001-08-21 -0.02
> 2001-08-22 0.02
> 2001-08-23 -0.01
> 2001-08-24 0.04
> 2001-08-27 0.00
> 2001-08-28 -0.02
> 2001-08-29 -0.01
> 2001-08-30 -0.04
> 2001-08-31 0.00
> 2001-09-04 0.02
> 2001-09-05 -0.01
> 2001-09-06 -0.02
> 2001-09-07 -0.01
> 2001-09-10 0.00
> 2001-09-17 -0.03
> 2001-09-18 0.03
> 2001-09-19 0.00
> 2001-09-20 -0.03
> 2001-09-21 -0.03
> 2001-09-24 0.05
> 2001-09-25 0.00
> 2001-09-26 -0.03
> 2001-09-27 -0.01
> 2001-09-28 0.02
> 2001-10-01 0.01
> 2001-10-02 0.01
> 2001-10-03 0.03
> 2001-10-04 0.00
> 2001-10-05 0.01
> 2001-10-08 0.00
> 2001-10-09 -0.01
> 2001-10-10 0.00
> 2001-10-11 0.02
> 2001-10-12 0.01
> 2001-10-15 0.01
> 2001-10-16 0.00
> 2001-10-17 0.01
> 2001-10-18 -0.02
> 2001-10-19 0.01
> 2001-10-22 0.03
> 2001-10-23 0.01
> 2001-10-24 0.03
> 2001-10-25 0.02
> 2001-10-26 0.00
> 2001-10-29 -0.02
> 2001-10-30 0.00
> 2001-10-31 -0.01
> 2001-11-01 0.02
> 2001-11-02 0.00
> 2001-11-05 0.00
> 2001-11-06 0.03
> 2001-11-07 0.00
> 2001-11-08 0.00
> 2001-11-09 0.00
> 2001-11-12 0.01
> 2001-11-13 0.02
> 2001-11-14 -0.02
> 2001-11-15 0.00
> 2001-11-16 0.00
> 2001-11-19 0.00
> 2001-11-20 0.00
> 2001-11-21 -0.01
> 2001-11-23 0.01
> 2001-11-26 0.01
> 2001-11-27 -0.02
> 2001-11-28 -0.02
> 2001-11-29 0.02
> 2001-11-30 0.01
> 2001-12-03 -0.01
> 2001-12-04 0.02
> 2001-12-05 0.04
> 2001-12-06 -0.01
> 2001-12-07 0.00
> 2001-12-10 -0.01
> 2001-12-11 0.02
> 2001-12-12 0.01
> 2001-12-13 -0.02
> 2001-12-14 0.01
> 2001-12-17 0.00
> 2001-12-18 0.01
> 2001-12-19 0.01
> 2001-12-20 -0.01
> 2001-12-21 -0.01
> 2001-12-24 0.00
> 2001-12-26 0.01
> 2001-12-27 0.01
> 2001-12-28 0.00
> 2001-12-31 -0.02
> 2002-01-02 0.00
> 2002-01-03 0.02
> 2002-01-04 0.02
> 2002-01-07 -0.01
> 2002-01-08 0.01
> 2002-01-09 0.00
> 2002-01-10 -0.02
> 2002-01-11 -0.01
> 2002-01-14 -0.02
> 2002-01-15 0.01
> 2002-01-16 -0.01
> 2002-01-17 0.02
> 2002-01-18 -0.05
> 2002-01-22 -0.03
> 2002-01-23 -0.02
> 2002-01-24 0.01
> 2002-01-25 0.01
> 2002-01-28 -0.01
> 2002-01-29 -0.05
> 2002-01-30 0.02
> 2002-01-31 0.02
> 2002-02-01 0.00
> 2002-02-04 -0.01
> 2002-02-05 0.00
> 2002-02-06 0.00
> 2002-02-07 -0.03
> 2002-02-08 0.01
> 2002-02-11 0.02
> 2002-02-12 -0.01
> 2002-02-13 0.01
> 2002-02-14 0.00
> 2002-02-15 -0.05
> 2002-02-19 -0.02
> 2002-02-20 -0.02
> 2002-02-21 -0.03
> 2002-02-22 0.02
> 2002-02-25 0.00
> 2002-02-26 -0.01
> 2002-02-27 0.01
> 2002-02-28 0.00
> 2002-03-01 0.05
> 2002-03-04 0.03
> 2002-03-05 0.00
> 2002-03-06 0.01
> 2002-03-07 -0.02
> 2002-03-08 0.01
> 2002-03-11 0.00
> 2002-03-12 0.03
> 2002-03-13 -0.01
> 2002-03-14 -0.01
> 2002-03-15 0.00
> 2002-03-18 0.00
> 2002-03-19 0.01
> 2002-03-20 -0.02
> 2002-03-21 0.01
> 2002-03-22 -0.01
> 2002-03-25 -0.02
> 2002-03-26 -0.01
> 2002-03-27 0.00
> 2002-03-28 0.01
> 2002-04-01 -0.01
> 2002-04-02 -0.02
> 2002-04-03 -0.01
> 2002-04-04 0.01
> 2002-04-05 -0.04
> 2002-04-08 -0.10
> 2002-04-09 0.00
> 2002-04-10 0.01
> 2002-04-11 -0.05
> 2002-04-12 0.02
> 2002-04-15 0.00
> 2002-04-16 0.01
> 2002-04-17 -0.02
> 2002-04-18 0.05
> 2002-04-19 0.00
> 2002-04-22 -0.01
> 2002-04-23 -0.01
> 2002-04-24 -0.01
> 2002-04-25 0.00
> 2002-04-26 -0.02
> 2002-04-29 -0.01
> 2002-04-30 0.00
> 2002-05-01 0.01
> 2002-05-02 -0.01
> 2002-05-03 -0.02
> 2002-05-06 -0.07
> 2002-05-07 0.01
> 2002-05-08 0.08
> 2002-05-09 -0.03
> 2002-05-10 0.00
> 2002-05-13 0.03
> 2002-05-14 0.04
> 2002-05-15 -0.01
> 2002-05-16 0.01
> 2002-05-17 0.00
> 2002-05-20 -0.01
> 2002-05-21 -0.01
> 2002-05-22 0.01
> 2002-05-23 0.00
> 2002-05-24 -0.01
> 2002-05-28 -0.01
> 2002-05-29 -0.01
> 2002-05-30 0.01
> 2002-05-31 -0.02
> 2002-06-03 -0.03
> 2002-06-04 0.02
> 2002-06-05 0.02
> 2002-06-06 -0.01
> 2002-06-07 -0.02
> 2002-06-10 -0.02
> 2002-06-11 -0.02
> 2002-06-12 -0.01
> 2002-06-13 0.01
> 2002-06-14 0.01
> 2002-06-17 0.01
> 2002-06-18 -0.02
> 2002-06-19 -0.03
> 2002-06-20 -0.02
> 2002-06-21 -0.04
> 2002-06-24 0.01
> 2002-06-25 -0.02
> 2002-06-26 0.02
> 2002-06-27 0.03
> 2002-06-28 0.00
> 2002-07-01 -0.06
> 2002-07-02 0.01
> 2002-07-03 0.03
> 2002-07-05 0.04
> 2002-07-08 -0.03
> 2002-07-09 -0.02
> 2002-07-10 -0.01
> 2002-07-11 0.01
> 2002-07-12 0.00
> 2002-07-15 0.03
> 2002-07-16 -0.03
> 2002-07-17 0.02
> 2002-07-18 0.02
> 2002-07-19 0.00
> 2002-07-22 -0.05
> 2002-07-23 -0.02
> 2002-07-24 0.04
> 2002-07-25 0.00
> 2002-07-26 -0.04
> 2002-07-29 0.07
> 2002-07-30 0.01
> 2002-07-31 -0.02
> 2002-08-01 -0.03
> 2002-08-02 -0.01
> 2002-08-05 -0.03
> 2002-08-06 0.03
> 2002-08-07 0.02
> 2002-08-08 0.04
> 2002-08-09 0.00
> 2002-08-12 0.00
> 2002-08-13 0.00
> 2002-08-14 0.04
> 2002-08-15 0.02
> 2002-08-16 0.04
> 2002-08-19 0.04
> 2002-08-20 -0.01
> 2002-08-21 0.00
> 2002-08-22 0.01
> 2002-08-23 -0.02
> 2002-08-26 -0.01
> 2002-08-27 -0.02
> 2002-08-28 -0.02
> 2002-08-29 0.01
> 2002-08-30 -0.02
> 2002-09-03 -0.04
> 2002-09-04 0.02
> 2002-09-05 -0.02
> 2002-09-06 0.01
> 2002-09-09 0.02
> 2002-09-10 0.01
> 2002-09-11 -0.02
> 2002-09-12 -0.03
> 2002-09-13 0.01
> 2002-09-16 0.00
> 2002-09-17 -0.01
> 2002-09-18 -0.03
> 2002-09-19 -0.07
> 2002-09-20 -0.01
> 2002-09-23 -0.01
> 2002-09-24 -0.06
> 2002-09-25 0.05
> 2002-09-26 -0.02
> 2002-09-27 -0.03
> 2002-09-30 -0.03
> 2002-10-01 0.05
> 2002-10-02 -0.03
> 2002-10-03 0.01
> 2002-10-04 -0.06
> 2002-10-07 0.00
> 2002-10-08 0.00
> 2002-10-09 -0.03
> 2002-10-10 0.05
> 2002-10-11 0.11
> 2002-10-14 -0.01
> 2002-10-15 0.08
> 2002-10-16 -0.05
> 2002-10-17 0.11
> 2002-10-18 0.03
> 2002-10-21 0.02
> 2002-10-22 -0.01
> 2002-10-23 0.00
> 2002-10-24 -0.03
> 2002-10-25 0.03
> 2002-10-28 0.03
> 2002-10-29 0.00
> 2002-10-30 0.03
> 2002-10-31 0.00
> 2002-11-01 0.02
> 2002-11-04 0.03
> 2002-11-05 -0.01
> 2002-11-06 0.00
> 2002-11-07 -0.03
> 2002-11-08 -0.02
> 2002-11-11 0.00
> 2002-11-12 0.02
> 2002-11-13 0.00
> 2002-11-14 0.02
> 2002-11-15 -0.01
> 2002-11-18 -0.01
> 2002-11-19 -0.01
> 2002-11-20 0.04
> 2002-11-21 0.04
> 2002-11-22 -0.01
> 2002-11-25 0.02
> 2002-11-26 -0.01
> 2002-11-27 0.03
> 2002-11-29 -0.01
> 2002-12-02 0.00
> 2002-12-03 -0.02
> 2002-12-04 -0.02
> 2002-12-05 -0.01
> 2002-12-06 -0.01
> 2002-12-09 -0.03
> 2002-12-10 0.02
> 2002-12-11 0.01
> 2002-12-12 -0.02
> 2002-12-13 0.00
> 2002-12-16 0.02
> 2002-12-17 -0.02
> 2002-12-18 -0.01
> 2002-12-19 -0.01
> 2002-12-20 0.01
> 2002-12-23 0.01
> 2002-12-24 -0.01
> 2002-12-26 -0.02
> 2002-12-27 -0.01
> 2002-12-30 -0.01
> 2002-12-31 0.02
> 2003-01-02 0.04
> 2003-01-03 0.01
> 2003-01-06 0.02
> 2003-01-07 0.03
> 2003-01-08 -0.02
> 2003-01-09 0.03
> 2003-01-10 0.01
> 2003-01-13 0.00
> 2003-01-14 0.01
> 2003-01-15 -0.01
> 2003-01-16 -0.02
> 2003-01-17 -0.06
> 2003-01-21 -0.01
> 2003-01-22 -0.01
> 2003-01-23 0.02
> 2003-01-24 -0.03
> 2003-01-27 -0.01
> 2003-01-28 0.02
> 2003-01-29 0.00
> 2003-01-30 -0.03
> 2003-01-31 0.00
> 2003-02-03 0.00
> 2003-02-04 -0.01
> 2003-02-05 0.00
> 2003-02-06 0.01
> 2003-02-07 -0.01
> 2003-02-10 0.01
> 2003-02-11 -0.01
> 2003-02-12 -0.01
> 2003-02-13 -0.01
> 2003-02-14 0.02
> 2003-02-18 0.02
> 2003-02-19 0.00
> 2003-02-20 0.00
> 2003-02-21 0.01
> 2003-02-24 -0.02
> 2003-02-25 0.01
> 2003-02-26 -0.02
> 2003-02-27 0.00
> 2003-02-28 0.01
> 2003-03-03 -0.01
> 2003-03-04 -0.01
> 2003-03-05 0.01
> 2003-03-06 -0.01
> 2003-03-07 0.01
> 2003-03-10 -0.03
> 2003-03-11 0.00
> 2003-03-12 0.00
> 2003-03-13 0.04
> 2003-03-14 0.01
> 2003-03-17 0.04
> 2003-03-18 0.00
> 2003-03-19 -0.01
> 2003-03-20 0.00
> 2003-03-21 0.03
> 2003-03-24 -0.03
> 2003-03-25 0.01
> 2003-03-26 -0.02
> 2003-03-27 0.00
> 2003-03-28 -0.01
> 2003-03-31 -0.03
> 2003-04-01 0.00
> 2003-04-02 0.03
> 2003-04-03 0.01
> 2003-04-04 -0.01
> 2003-04-07 0.00
> 2003-04-08 0.00
> 2003-04-09 -0.02
> 2003-04-10 0.00
> 2003-04-11 0.00
> 2003-04-14 0.02
> 2003-04-15 0.03
> 2003-04-16 0.00
> 2003-04-17 0.02
> 2003-04-21 -0.01
> 2003-04-22 0.03
> 2003-04-23 0.00
> 2003-04-24 -0.01
> 2003-04-25 -0.02
> 2003-04-28 0.01
> 2003-04-29 0.01
> 2003-04-30 -0.01
> 2003-05-01 0.01
> 2003-05-02 0.02
> 2003-05-05 -0.01
> 2003-05-06 0.01
> 2003-05-07 -0.01
> 2003-05-08 -0.01
> 2003-05-09 0.02
> 2003-05-12 0.02
> 2003-05-13 0.01
> 2003-05-14 -0.01
> 2003-05-15 0.01
> 2003-05-16 -0.01
> 2003-05-19 -0.03
> 2003-05-20 -0.01
> 2003-05-21 0.00
> 2003-05-22 0.00
> 2003-05-23 -0.01
> 2003-05-27 0.03
> 2003-05-28 0.00
> 2003-05-29 0.00
> 2003-05-30 0.01
> 2003-06-02 -0.01
> 2003-06-03 -0.04
> 2003-06-04 0.01
> 2003-06-05 -0.03
> 2003-06-06 -0.02
> 2003-06-09 0.02
> 2003-06-10 0.00
> 2003-06-11 0.03
> 2003-06-12 0.00
> 2003-06-13 -0.01
> 2003-06-16 0.02
> 2003-06-17 0.00
> 2003-06-18 0.00
> 2003-06-19 0.00
> 2003-06-20 0.00
> 2003-06-23 -0.02
> 2003-06-24 0.01
> 2003-06-25 -0.01
> 2003-06-26 0.02
> 2003-06-27 -0.01
> 2003-06-30 -0.01
> 2003-07-01 0.01
> 2003-07-02 0.01
> 2003-07-03 -0.01
> 2003-07-07 0.03
> 2003-07-08 0.00
> 2003-07-09 -0.01
> 2003-07-10 -0.02
> 2003-07-11 0.01
> 2003-07-14 0.01
> 2003-07-15 0.01
> 2003-07-16 0.00
> 2003-07-17 -0.04
> 2003-07-18 0.00
> 2003-07-21 -0.01
> 2003-07-22 -0.01
> 2003-07-23 0.01
> 2003-07-24 -0.01
> 2003-07-25 0.03
> 2003-07-28 -0.01
> 2003-07-29 -0.01
> 2003-07-30 -0.01
> 2003-07-31 0.00
> 2003-08-01 0.00
> 2003-08-04 0.00
> 2003-08-05 -0.02
> 2003-08-06 0.00
> 2003-08-07 0.01
> 2003-08-08 0.00
> 2003-08-11 0.00
> 2003-08-12 0.01
> 2003-08-13 0.00
> 2003-08-14 0.00
> 2003-08-15 0.00
> 2003-08-18 0.02
> 2003-08-19 -0.01
> 2003-08-20 0.00
> 2003-08-21 0.00
> 2003-08-22 0.00
> 2003-08-25 -0.01
> 2003-08-26 0.01
> 2003-08-27 -0.01
> 2003-08-28 0.00
> 2003-08-29 0.00
> 2003-09-02 0.05
> 2003-09-03 0.01
> 2003-09-04 0.02
> 2003-09-05 -0.01
> 2003-09-08 0.02
> 2003-09-09 0.00
> 2003-09-10 -0.02
> 2003-09-11 0.00
> 2003-09-12 0.01
> 2003-09-15 0.00
> 2003-09-16 0.02
> 2003-09-17 0.00
> 2003-09-18 0.02
> 2003-09-19 0.01
> 2003-09-22 -0.02
> 2003-09-23 0.00
> 2003-09-24 -0.02
> 2003-09-25 0.00
> 2003-09-26 0.00
> 2003-09-29 0.00
> 2003-09-30 -0.01
> 2003-10-01 0.02
> 2003-10-02 0.00
> 2003-10-03 0.01
> 2003-10-06 0.01
> 2003-10-07 0.01
> 2003-10-08 0.01
> 2003-10-09 0.00
> 2003-10-10 0.00
> 2003-10-13 0.01
> 2003-10-14 -0.01
> 2003-10-15 0.00
> 2003-10-16 -0.04
> 2003-10-17 0.00
> 2003-10-20 0.00
> 2003-10-21 0.00
> 2003-10-22 -0.01
> 2003-10-23 0.00
> 2003-10-24 0.00
> 2003-10-27 0.00
> 2003-10-28 0.02
> 2003-10-29 -0.01
> 2003-10-30 0.00
> 2003-10-31 0.00
> 2003-11-03 0.00
> 2003-11-04 -0.01
> 2003-11-05 -0.01
> 2003-11-06 0.01
> 2003-11-07 -0.01
> 2003-11-10 0.02
> 2003-11-11 -0.01
> 2003-11-12 0.01
> 2003-11-13 0.00
> 2003-11-14 -0.01
> 2003-11-17 0.00
> 2003-11-18 -0.01
> 2003-11-19 0.01
> 2003-11-20 -0.01
> 2003-11-21 0.00
> 2003-11-24 0.01
> 2003-11-25 0.00
> 2003-11-26 0.01
> 2003-11-28 0.01
> 2003-12-01 0.01
> 2003-12-02 0.00
> 2003-12-03 0.00
> 2003-12-04 0.01
> 2003-12-05 -0.01
> 2003-12-08 0.01
> 2003-12-09 -0.01
> 2003-12-10 0.01
> 2003-12-11 0.01
> 2003-12-12 0.00
> 2003-12-15 -0.01
> 2003-12-16 0.02
> 2003-12-17 -0.01
> 2003-12-18 -0.01
> 2003-12-19 0.00
> 2003-12-22 0.00
> 2003-12-23 -0.01
> 2003-12-24 -0.01
> 2003-12-26 0.01
> 2003-12-29 0.01
> 2003-12-30 -0.01
> 2003-12-31 0.00
> 2004-01-02 -0.01
> 2004-01-05 0.02
> 2004-01-06 0.00
> 2004-01-07 0.00
> 2004-01-08 0.00
> 2004-01-09 -0.02
> 2004-01-12 0.00
> 2004-01-13 -0.02
> 2004-01-14 0.01
> 2004-01-15 0.04
> 2004-01-16 0.01
> 2004-01-20 0.02
> 2004-01-21 0.01
> 2004-01-22 0.00
> 2004-01-23 0.00
> 2004-01-26 0.02
> 2004-01-27 -0.01
> 2004-01-28 -0.01
> 2004-01-29 0.01
> 2004-01-30 0.01
> 2004-02-02 0.00
> 2004-02-03 0.01
> 2004-02-04 0.00
> 2004-02-05 -0.01
> 2004-02-06 0.00
> 2004-02-09 0.00
> 2004-02-10 0.01
> 2004-02-11 0.00
> 2004-02-12 -0.01
> 2004-02-13 0.00
> 2004-02-17 0.00
> 2004-02-18 -0.01
> 2004-02-19 -0.01
> 2004-02-20 -0.01
> 2004-02-23 -0.01
> 2004-02-24 0.01
> 2004-02-25 0.00
> 2004-02-26 0.00
> 2004-02-27 0.00
> 2004-03-01 0.01
> 2004-03-02 0.00
> 2004-03-03 0.00
> 2004-03-04 0.00
> 2004-03-05 0.00
> 2004-03-08 -0.02
> 2004-03-09 0.00
> 2004-03-10 -0.02
> 2004-03-11 -0.02
> 2004-03-12 0.02
> 2004-03-15 -0.02
> 2004-03-16 0.01
> 2004-03-17 0.01
> 2004-03-18 -0.01
> 2004-03-19 -0.01
> 2004-03-22 -0.01
> 2004-03-23 0.00
> 2004-03-24 0.00
> 2004-03-25 0.01
> 2004-03-26 0.00
> 2004-03-29 0.00
> 2004-03-30 0.00
> 2004-03-31 -0.01
> 2004-04-01 0.01
> 2004-04-02 0.02
> 2004-04-05 0.00
> 2004-04-06 -0.01
> 2004-04-07 -0.01
> 2004-04-08 0.00
> 2004-04-12 0.01
> 2004-04-13 -0.01
> 2004-04-14 0.01
> 2004-04-15 0.00
> 2004-04-16 -0.01
> 2004-04-19 0.00
> 2004-04-20 -0.01
> 2004-04-21 0.01
> 2004-04-22 -0.01
> 2004-04-23 0.01
> 2004-04-26 -0.01
> 2004-04-27 0.01
> 2004-04-28 -0.01
> 2004-04-29 -0.01
> 2004-04-30 -0.01
> 2004-05-03 0.00
> 2004-05-04 0.01
> 2004-05-05 0.00
> 2004-05-06 0.00
> 2004-05-07 0.00
> 2004-05-10 -0.01
> 2004-05-11 0.00
> 2004-05-12 0.00
> 2004-05-13 0.00
> 2004-05-14 -0.01
> 2004-05-17 -0.01
> 2004-05-18 0.01
> 2004-05-19 0.01
> 2004-05-20 0.00
> 2004-05-21 0.00
> 2004-05-24 0.00
> 2004-05-25 0.02
> 2004-05-26 0.00
> 2004-05-27 0.00
> 2004-05-28 0.00
> 2004-06-01 -0.01
> 2004-06-02 0.00
> 2004-06-03 -0.01
> 2004-06-04 0.00
> 2004-06-07 0.01
> 2004-06-08 0.02
> 2004-06-09 0.00
> 2004-06-10 0.00
> 2004-06-14 0.00
> 2004-06-15 0.01
> 2004-06-16 0.00
> 2004-06-17 0.00
> 2004-06-18 0.00
> 2004-06-21 -0.01
> 2004-06-22 0.01
> 2004-06-23 0.01
> 2004-06-24 -0.01
> 2004-06-25 0.00
> 2004-06-28 -0.01
> 2004-06-29 0.00
> 2004-06-30 0.00
> 2004-07-01 -0.01
> 2004-07-02 -0.01
> 2004-07-06 -0.02
> 2004-07-07 0.00
> 2004-07-08 -0.02
> 2004-07-09 0.00
> 2004-07-12 0.00
> 2004-07-13 0.01
> 2004-07-14 -0.01
> 2004-07-15 0.00
> 2004-07-16 0.00
> 2004-07-19 0.01
> 2004-07-20 0.01
> 2004-07-21 -0.01
> 2004-07-22 0.01
> 2004-07-23 -0.01
> 2004-07-26 0.00
> 2004-07-27 0.01
> 2004-07-28 0.00
> 2004-07-29 0.01
> 2004-07-30 0.00
> 2004-08-02 0.00
> 2004-08-03 -0.01
> 2004-08-04 0.00
> 2004-08-05 -0.01
> 2004-08-06 -0.02
> 2004-08-09 0.00
> 2004-08-10 0.02
> 2004-08-11 -0.02
> 2004-08-12 -0.02
> 2004-08-13 0.02
> 2004-08-16 0.00
> 2004-08-17 0.00
> 2004-08-18 0.01
> 2004-08-19 0.00
> 2004-08-20 0.00
> 2004-08-23 -0.01
> 2004-08-24 0.00
> 2004-08-25 0.00
> 2004-08-26 0.00
> 2004-08-27 0.00
> 2004-08-30 -0.01
> 2004-08-31 0.00
> 2004-09-01 -0.01
> 2004-09-02 0.00
> 2004-09-03 0.00
> 2004-09-07 0.01
> 2004-09-08 0.01
> 2004-09-09 0.01
> 2004-09-10 0.00
> 2004-09-13 0.00
> 2004-09-14 0.00
> 2004-09-15 0.00
> 2004-09-16 0.00
> 2004-09-17 0.00
> 2004-09-20 0.00
> 2004-09-21 0.00
> 2004-09-22 -0.02
> 2004-09-23 -0.01
> 2004-09-24 0.01
> 2004-09-27 0.00
> 2004-09-28 0.00
> 2004-09-29 0.01
> 2004-09-30 0.01
> 2004-10-01 0.01
> 2004-10-04 0.01
> 2004-10-05 0.00
> 2004-10-06 0.01
> 2004-10-07 -0.01
> 2004-10-08 -0.01
> 2004-10-11 0.00
> 2004-10-12 -0.01
> 2004-10-13 -0.01
> 2004-10-14 0.00
> 2004-10-15 0.00
> 2004-10-18 0.01
> 2004-10-19 0.04
> 2004-10-20 -0.01
> 2004-10-21 -0.01
> 2004-10-22 -0.01
> 2004-10-25 0.01
> 2004-10-26 0.01
> 2004-10-27 0.01
> 2004-10-28 -0.01
> 2004-10-29 0.00
> 2004-11-01 0.00
> 2004-11-02 0.00
> 2004-11-03 0.01
> 2004-11-04 0.01
> 2004-11-05 0.01
> 2004-11-08 0.00
> 2004-11-09 0.00
> 2004-11-10 0.00
> 2004-11-11 0.01
> 2004-11-12 0.01
> 2004-11-15 0.01
> 2004-11-16 -0.01
> 2004-11-17 0.01
> 2004-11-18 0.00
> 2004-11-19 -0.01
> 2004-11-22 0.01
> 2004-11-23 0.00
> 2004-11-24 0.00
> 2004-11-26 -0.01
> 2004-11-29 0.01
> 2004-11-30 -0.01
> 2004-12-01 0.02
> 2004-12-02 0.00
> 2004-12-03 0.01
> 2004-12-06 0.01
> 2004-12-07 -0.02
> 2004-12-08 0.01
> 2004-12-09 0.01
> 2004-12-10 -0.01
> 2004-12-13 0.00
> 2004-12-14 0.01
> 2004-12-15 0.00
> 2004-12-16 0.00
> 2004-12-17 -0.01
> 2004-12-20 0.00
> 2004-12-21 0.00
> 2004-12-22 0.01
> 2004-12-23 0.00
> 2004-12-27 0.00
> 2004-12-28 0.01
> 2004-12-29 0.00
> 2004-12-30 0.00
> 2004-12-31 0.00
> 2005-01-03 -0.01
> 2005-01-04 -0.01
> 2005-01-05 0.00
> 2005-01-06 0.00
> 2005-01-07 0.00
> 2005-01-10 0.00
> 2005-01-11 -0.01
> 2005-01-12 0.00
> 2005-01-13 -0.01
> 2005-01-14 0.00
> 2005-01-18 0.01
> 2005-01-19 -0.02
> 2005-01-20 0.00
> 2005-01-21 -0.01
> 2005-01-24 -0.01
> 2005-01-25 0.00
> 2005-01-26 0.00
> 2005-01-27 0.00
> 2005-01-28 0.01
> 2005-01-31 0.01
> 2005-02-01 0.00
> 2005-02-02 0.00
> 2005-02-03 -0.01
> 2005-02-04 0.01
> 2005-02-07 0.00
> 2005-02-08 0.00
> 2005-02-09 -0.02
> 2005-02-10 0.00
> 2005-02-11 0.01
> 2005-02-14 0.00
> 2005-02-15 0.01
> 2005-02-16 0.00
> 2005-02-17 -0.01
> 2005-02-18 -0.01
> 2005-02-22 -0.01
> 2005-02-23 0.00
> 2005-02-24 0.01
> 2005-02-25 0.00
> 2005-02-28 0.00
> 2005-03-01 0.01
> 2005-03-02 0.00
> 2005-03-03 -0.01
> 2005-03-04 0.00
> 2005-03-07 -0.01
> 2005-03-08 0.01
> 2005-03-09 0.00
> 2005-03-10 0.00
> 2005-03-11 -0.01
> 2005-03-14 0.00
> 2005-03-15 -0.01
> 2005-03-16 -0.01
> 2005-03-17 -0.01
> 2005-03-18 -0.01
> 2005-03-21 0.00
> 2005-03-22 0.00
> 2005-03-23 0.01
> 2005-03-24 0.00
> 2005-03-28 0.00
> 2005-03-29 0.00
> 2005-03-30 0.00
> 2005-03-31 0.01
> 2005-04-01 -0.01
> 2005-04-04 0.00
> 2005-04-05 -0.01
> 2005-04-06 -0.01
> 2005-04-07 -0.01
> 2005-04-08 -0.01
> 2005-04-11 -0.02
> 2005-04-12 -0.01
> 2005-04-13 -0.01
> 2005-04-14 -0.01
> 2005-04-15 -0.08
> 2005-04-18 0.00
> 2005-04-19 -0.02
> 2005-04-20 -0.05
> 2005-04-21 0.03
> 2005-04-22 0.00
> 2005-04-25 0.01
> 2005-04-26 0.01
> 2005-04-27 0.02
> 2005-04-28 -0.01
> 2005-04-29 0.01
> 2005-05-02 0.00
> 2005-05-03 0.00
> 2005-05-04 0.01
> 2005-05-05 -0.02
> 2005-05-06 0.00
> 2005-05-09 0.00
> 2005-05-10 -0.02
> 2005-05-11 0.00
> 2005-05-12 -0.01
> 2005-05-13 0.01
> 2005-05-16 0.02
> 2005-05-17 0.00
> 2005-05-18 0.03
> 2005-05-19 0.01
> 2005-05-20 -0.01
> 2005-05-23 0.00
> 2005-05-24 -0.01
> 2005-05-25 0.00
> 2005-05-26 0.01
> 2005-05-27 0.00
> 2005-05-31 -0.02
> 2005-06-01 0.02
> 2005-06-02 0.01
> 2005-06-03 -0.02
> 2005-06-06 -0.01
> 2005-06-07 0.00
> 2005-06-08 0.00
> 2005-06-09 0.00
> 2005-06-10 0.00
> 2005-06-13 0.00
> 2005-06-14 0.00
> 2005-06-15 0.02
> 2005-06-16 0.01
> 2005-06-17 -0.01
> 2005-06-20 0.00
> 2005-06-21 0.00
> 2005-06-22 0.01
> 2005-06-23 -0.02
> 2005-06-24 -0.02
> 2005-06-27 0.00
> 2005-06-28 0.02
> 2005-06-29 -0.01
> 2005-06-30 -0.01
> 2005-07-01 0.01
> 2005-07-05 0.00
> 2005-07-06 0.01
> 2005-07-07 0.02
> 2005-07-08 0.02
> 2005-07-11 0.00
> 2005-07-12 0.01
> 2005-07-13 0.02
> 2005-07-14 0.01
> 2005-07-15 0.00
> 2005-07-18 -0.01
> 2005-07-19 0.02
> 2005-07-20 0.01
> 2005-07-21 0.00
> 2005-07-22 0.00
> 2005-07-25 0.00
> 2005-07-26 0.00
> 2005-07-27 0.00
> 2005-07-28 0.00
> 2005-07-29 0.00
> 2005-08-01 0.00
> 2005-08-02 0.00
> 2005-08-03 0.01
> 2005-08-04 -0.01
> 2005-08-05 0.00
> 2005-08-08 0.00
> 2005-08-09 0.00
> 2005-08-10 -0.02
> 2005-08-11 0.01
> 2005-08-12 -0.01
> 2005-08-15 0.00
> 2005-08-16 -0.01
> 2005-08-17 0.00
> 2005-08-18 0.00
> 2005-08-19 0.02
> 2005-08-22 0.00
> 2005-08-23 -0.01
> 2005-08-24 -0.01
> 2005-08-25 0.00
> 2005-08-26 -0.01
> 2005-08-29 0.01
> 2005-08-30 -0.01
> 2005-08-31 0.00
> 2005-09-01 -0.01
> 2005-09-02 0.00
> 2005-09-06 0.02
> 2005-09-07 0.00
> 2005-09-08 0.00
> 2005-09-09 0.01
> 2005-09-12 0.00
> 2005-09-13 -0.01
> 2005-09-14 0.00
> 2005-09-15 -0.01
> 2005-09-16 0.00
> 2005-09-19 -0.01
> 2005-09-20 -0.01
> 2005-09-21 -0.01
> 2005-09-22 0.01
> 2005-09-23 0.00
> 2005-09-26 -0.01
> 2005-09-27 0.01
> 2005-09-28 0.02
> 2005-09-29 0.01
> 2005-09-30 0.00
> 2005-10-03 0.00
> 2005-10-04 0.00
> 2005-10-05 0.00
> 2005-10-06 0.00
> 2005-10-07 0.01
> 2005-10-10 0.01
> 2005-10-11 0.02
> 2005-10-12 -0.01
> 2005-10-13 0.00
> 2005-10-14 0.00
> 2005-10-17 0.00
> 2005-10-18 0.01
> 2005-10-19 0.01
> 2005-10-20 -0.01
> 2005-10-21 0.00
> 2005-10-24 0.00
> 2005-10-25 0.00
> 2005-10-26 -0.01
> 2005-10-27 -0.01
> 2005-10-28 -0.01
> 2005-10-31 0.01
> 2005-11-01 0.00
> 2005-11-02 -0.01
> 2005-11-03 0.02
> 2005-11-04 0.00
> 2005-11-07 0.01
> 2005-11-08 0.00
> 2005-11-09 0.00
> 2005-11-10 0.01
> 2005-11-11 0.01
> 2005-11-14 0.00
> 2005-11-15 0.01
> 2005-11-16 0.01
> 2005-11-17 0.00
> 2005-11-18 0.01
> 2005-11-21 -0.01
> 2005-11-22 0.01
> 2005-11-23 0.01
> 2005-11-25 0.00
> 2005-11-28 0.00
> 2005-11-29 0.00
> 2005-11-30 0.00
> 2005-12-01 0.00
> 2005-12-02 -0.01
> 2005-12-05 0.00
> 2005-12-06 0.01
> 2005-12-07 0.00
> 2005-12-08 -0.01
> 2005-12-09 -0.01
> 2005-12-12 -0.01
> 2005-12-13 -0.03
> 2005-12-14 -0.01
> 2005-12-15 0.00
> 2005-12-16 0.00
> 2005-12-19 -0.01
> 2005-12-20 0.00
> 2005-12-21 0.01
> 2005-12-22 0.00
> 2005-12-23 0.00
> 2005-12-27 -0.01
> 2005-12-28 0.00
> 2005-12-29 -0.01
> 2005-12-30 0.00
> 2006-01-03 0.00
> 2006-01-04 0.00
> 2006-01-05 0.01
> 2006-01-06 0.03
> 2006-01-09 -0.01
> 2006-01-10 0.00
> 2006-01-11 0.00
> 2006-01-12 -0.01
> 2006-01-13 0.00
> 2006-01-17 0.00
> 2006-01-18 0.01
> 2006-01-19 -0.01
> 2006-01-20 -0.02
> 2006-01-23 0.00
> 2006-01-24 -0.01
> 2006-01-25 0.00
> 2006-01-26 0.00
> 2006-01-27 0.00
> 2006-01-30 0.01
> 2006-01-31 0.00
> 2006-02-01 0.01
> 2006-02-02 -0.01
> 2006-02-03 -0.02
> 2006-02-06 -0.01
> 2006-02-07 0.00
> 2006-02-08 0.01
> 2006-02-09 0.00
> 2006-02-10 0.01
> 2006-02-13 -0.01
> 2006-02-14 0.01
> 2006-02-15 0.00
> 2006-02-16 0.00
> 2006-02-17 0.00
> 2006-02-21 0.00
> 2006-02-22 0.01
> 2006-02-23 -0.01
> 2006-02-24 0.00
> 2006-02-27 0.01
> 2006-02-28 0.00
> 2006-03-01 0.00
> 2006-03-02 0.00
> 2006-03-03 0.00
> 2006-03-06 0.00
> 2006-03-07 0.00
> 2006-03-08 0.01
> 2006-03-09 0.00
> 2006-03-10 0.01
> 2006-03-13 0.00
> 2006-03-14 0.01
> 2006-03-15 0.01
> 2006-03-16 -0.01
> 2006-03-17 0.01
> 2006-03-20 0.00
> 2006-03-21 0.00
> 2006-03-22 0.01
> 2006-03-23 -0.01
> 2006-03-24 0.00
> 2006-03-27 0.00
> 2006-03-28 -0.01
> 2006-03-29 0.01
> 2006-03-30 0.00
> 2006-03-31 -0.01
> 2006-04-03 0.01
> 2006-04-04 0.00
> 2006-04-05 0.01
> 2006-04-06 0.00
> 2006-04-07 -0.02
> 2006-04-10 0.00
> 2006-04-11 -0.01
> 2006-04-12 -0.01
> 2006-04-13 0.02
> 2006-04-17 0.00
> 2006-04-18 0.02
> 2006-04-19 -0.02
> 2006-04-20 0.00
> 2006-04-21 0.00
> 2006-04-24 0.01
> 2006-04-25 0.01
> 2006-04-26 0.01
> 2006-04-27 0.01
> 2006-04-28 -0.02
> 2006-05-01 0.00
> 2006-05-02 0.00
> 2006-05-03 0.00
> 2006-05-04 0.00
> 2006-05-05 0.01
> 2006-05-08 0.00
> 2006-05-09 0.00
> 2006-05-10 0.00
> 2006-05-11 -0.01
> 2006-05-12 0.00
> 2006-05-15 0.01
> 2006-05-16 -0.01
> 2006-05-17 -0.01
> 2006-05-18 -0.01
> 2006-05-19 0.00
> 2006-05-22 0.00
> 2006-05-23 0.00
> 2006-05-24 0.00
> 2006-05-25 0.00
> 2006-05-26 0.01
> 2006-05-30 -0.01
> 2006-05-31 0.00
> 2006-06-01 0.01
> 2006-06-02 -0.01
> 2006-06-05 -0.01
> 2006-06-06 0.01
> 2006-06-07 -0.01
> 2006-06-08 -0.03
> 2006-06-09 0.01
> 2006-06-12 -0.01
> 2006-06-13 0.00
> 2006-06-14 0.01
> 2006-06-15 0.01
> 2006-06-16 -0.01
> 2006-06-19 0.00
> 2006-06-20 0.00
> 2006-06-21 0.00
> 2006-06-22 -0.01
> 2006-06-23 0.00
> 2006-06-26 0.00
> 2006-06-27 -0.01
> 2006-06-28 0.00
> 2006-06-29 0.01
> 2006-06-30 -0.01
> 2006-07-03 0.02
> 2006-07-05 0.00
> 2006-07-06 0.00
> 2006-07-07 -0.02
> 2006-07-10 0.00
> 2006-07-11 0.00
> 2006-07-12 -0.01
> 2006-07-13 -0.02
> 2006-07-14 -0.01
> 2006-07-17 0.00
> 2006-07-18 0.01
> 2006-07-19 0.02
> 2006-07-20 -0.01
> 2006-07-21 -0.01
> 2006-07-24 0.02
> 2006-07-25 0.00
> 2006-07-26 0.00
> 2006-07-27 0.00
> 2006-07-28 0.01
> 2006-07-31 0.01
> 2006-08-01 -0.02
> 2006-08-02 0.00
> 2006-08-03 0.00
> 2006-08-04 -0.01
> 2006-08-07 -0.01
> 2006-08-08 0.00
> 2006-08-09 0.00
> 2006-08-10 0.00
> 2006-08-11 0.00
> 2006-08-14 0.02
> 2006-08-15 0.01
> 2006-08-16 0.03
> 2006-08-17 0.00
> 2006-08-18 0.01
> 2006-08-21 -0.01
> 2006-08-22 0.00
> 2006-08-23 0.00
> 2006-08-24 0.01
> 2006-08-25 0.01
> 2006-08-28 0.01
> 2006-08-29 0.01
> 2006-08-30 0.00
> 2006-08-31 0.00
> 2006-09-01 0.01
> 2006-09-05 -0.01
> 2006-09-06 -0.01
> 2006-09-07 -0.01
> 2006-09-08 0.02
> 2006-09-11 0.00
> 2006-09-12 0.02
> 2006-09-13 0.00
> 2006-09-14 0.00
> 2006-09-15 0.01
> 2006-09-18 -0.01
> 2006-09-19 0.00
> 2006-09-20 0.02
> 2006-09-21 -0.02
> 2006-09-22 0.00
> 2006-09-25 0.01
> 2006-09-26 0.01
> 2006-09-27 0.00
> 2006-09-28 0.00
> 2006-09-29 0.00
> 2006-10-02 0.00
> 2006-10-03 0.00
> 2006-10-04 0.02
> 2006-10-05 0.00
> 2006-10-06 0.00
> 2006-10-09 0.01
> 2006-10-10 0.00
> 2006-10-11 0.00
> 2006-10-12 0.01
> 2006-10-13 0.02
> 2006-10-16 0.01
> 2006-10-17 0.00
> 2006-10-18 0.03
> 2006-10-19 0.00
> 2006-10-20 0.01
> 2006-10-23 0.01
> 2006-10-24 0.00
> 2006-10-25 0.00
> 2006-10-26 0.00
> 2006-10-27 -0.01
> 2006-10-30 0.01
> 2006-10-31 0.01
> 2006-11-01 -0.01
> 2006-11-02 0.00
> 2006-11-03 0.00
> 2006-11-06 0.01
> 2006-11-07 0.00
> 2006-11-08 0.00
> 2006-11-09 0.00
> 2006-11-10 -0.01
> 2006-11-13 0.00
> 2006-11-14 0.01
> 2006-11-15 0.00
> 2006-11-16 0.00
> 2006-11-17 0.00
> 2006-11-20 -0.01
> 2006-11-21 0.00
> 2006-11-22 0.00
> 2006-11-24 0.00
> 2006-11-27 -0.02
> 2006-11-28 0.00
> 2006-11-29 0.00
> 2006-11-30 0.00
> 2006-12-01 -0.01
> 2006-12-04 0.02
> 2006-12-05 0.01
> 2006-12-06 0.00
> 2006-12-07 0.00
> 2006-12-08 0.00
> 2006-12-11 0.00
> 2006-12-12 0.01
> 2006-12-13 0.01
> 2006-12-14 0.01
2420,2542c4410,4450
< Warning in tclass.xts(x) :
< index does not have a 'tclass' attribute
< use x <- xts:::.update_index_attributes(x) to update the object
< Warning in tclass.xts(x) :
< index does not have a 'tclass' attribute
< use x <- xts:::.update_index_attributes(x) to update the object
< Warning in tclass.xts(x) :
< index does not have a 'tclass' attribute
< use x <- xts:::.update_index_attributes(x) to update the object
< Warning in tclass.xts(x) :
< index does not have a 'tclass' attribute
< use x <- xts:::.update_index_attributes(x) to update the object
< Warning in tclass.xts(x) :
< index does not have a 'tclass' attribute
< use x <- xts:::.update_index_attributes(x) to update the object
< Warning in tclass.xts(x) :
< index does not have a 'tclass' attribute
< use x <- xts:::.update_index_attributes(x) to update the object
< Warning in tzone.xts(x) :
< index does not have a 'tozne' attribute
< use x <- xts:::.update_index_attributes(x) to update the object
< Warning in tclass.xts(x) :
< index does not have a 'tclass' attribute
< use x <- xts:::.update_index_attributes(x) to update the object
< Warning in tzone.xts(x) :
< index does not have a 'tozne' attribute
< use x <- xts:::.update_index_attributes(x) to update the object
< Warning in tclass.xts(x) :
< index does not have a 'tclass' attribute
< use x <- xts:::.update_index_attributes(x) to update the object
< Warning in tzone.xts(x) :
< index does not have a 'tozne' attribute
< use x <- xts:::.update_index_attributes(x) to update the object
< Warning in tclass.xts(x) :
< index does not have a 'tclass' attribute
< use x <- xts:::.update_index_attributes(x) to update the object
< Warning in tzone.xts(x) :
< index does not have a 'tozne' attribute
< use x <- xts:::.update_index_attributes(x) to update the object
< Warning in tclass.xts(x) :
< index does not have a 'tclass' attribute
< use x <- xts:::.update_index_attributes(x) to update the object
< Warning in tzone.xts(x) :
< index does not have a 'tozne' attribute
< use x <- xts:::.update_index_attributes(x) to update the object
< Warning in tclass.xts(x) :
< index does not have a 'tclass' attribute
< use x <- xts:::.update_index_attributes(x) to update the object
< Warning in tzone.xts(x) :
< index does not have a 'tozne' attribute
< use x <- xts:::.update_index_attributes(x) to update the object
< Warning in tclass.xts(x) :
< index does not have a 'tclass' attribute
< use x <- xts:::.update_index_attributes(x) to update the object
< Warning in tzone.xts(x) :
< index does not have a 'tozne' attribute
< use x <- xts:::.update_index_attributes(x) to update the object
< Warning in tclass.xts(x) :
< index does not have a 'tclass' attribute
< use x <- xts:::.update_index_attributes(x) to update the object
< Warning in tzone.xts(x) :
< index does not have a 'tozne' attribute
< use x <- xts:::.update_index_attributes(x) to update the object
< Warning in tclass.xts(x) :
< index does not have a 'tclass' attribute
< use x <- xts:::.update_index_attributes(x) to update the object
< Warning in tzone.xts(x) :
< index does not have a 'tozne' attribute
< use x <- xts:::.update_index_attributes(x) to update the object
< Warning in tclass.xts(x) :
< index does not have a 'tclass' attribute
< use x <- xts:::.update_index_attributes(x) to update the object
< Warning in tclass.xts(x) :
< index does not have a 'tclass' attribute
< use x <- xts:::.update_index_attributes(x) to update the object
< Warning in tclass.xts(x) :
< index does not have a 'tclass' attribute
< use x <- xts:::.update_index_attributes(x) to update the object
< Warning in tclass.xts(x) :
< index does not have a 'tclass' attribute
< use x <- xts:::.update_index_attributes(x) to update the object
< Warning in tclass.xts(x) :
< index does not have a 'tclass' attribute
< use x <- xts:::.update_index_attributes(x) to update the object
< Warning in tclass.xts(x) :
< index does not have a 'tclass' attribute
< use x <- xts:::.update_index_attributes(x) to update the object
< Warning in tclass.xts(x) :
< index does not have a 'tclass' attribute
< use x <- xts:::.update_index_attributes(x) to update the object
< Warning in tclass.xts(x) :
< index does not have a 'tclass' attribute
< use x <- xts:::.update_index_attributes(x) to update the object
< Warning in tclass.xts(x) :
< index does not have a 'tclass' attribute
< use x <- xts:::.update_index_attributes(x) to update the object
< Warning in tclass.xts(x) :
< index does not have a 'tclass' attribute
< use x <- xts:::.update_index_attributes(x) to update the object
< Warning in tclass.xts(x) :
< index does not have a 'tclass' attribute
< use x <- xts:::.update_index_attributes(x) to update the object
< Warning in tclass.xts(x) :
< index does not have a 'tclass' attribute
< use x <- xts:::.update_index_attributes(x) to update the object
< Warning in tclass.xts(x) :
< index does not have a 'tclass' attribute
< use x <- xts:::.update_index_attributes(x) to update the object
< Warning in tclass.xts(x) :
< index does not have a 'tclass' attribute
< use x <- xts:::.update_index_attributes(x) to update the object
< Warning in tclass.xts(x) :
< index does not have a 'tclass' attribute
< use x <- xts:::.update_index_attributes(x) to update the object
< Warning in tclass.xts(x) :
< index does not have a 'tclass' attribute
< use x <- xts:::.update_index_attributes(x) to update the object
< Warning in tclass.xts(x) :
< index does not have a 'tclass' attribute
< use x <- xts:::.update_index_attributes(x) to update the object
< Warning in tclass.xts(x) :
< index does not have a 'tclass' attribute
< use x <- xts:::.update_index_attributes(x) to update the object
---
> Warning in tclass.xts(x) : index does not have a 'tclass' attribute
> Warning in tclass.xts(x) : index does not have a 'tclass' attribute
> Warning in tclass.xts(x) : index does not have a 'tclass' attribute
> Warning in tclass.xts(x) : index does not have a 'tclass' attribute
> Warning in tclass.xts(x) : index does not have a 'tclass' attribute
> Warning in tclass.xts(x) : index does not have a 'tclass' attribute
> Warning in tzone.xts(x) : index does not have a 'tzone' attribute
> Warning in tclass.xts(x) : index does not have a 'tclass' attribute
> Warning in tzone.xts(x) : index does not have a 'tzone' attribute
> Warning in tclass.xts(x) : index does not have a 'tclass' attribute
> Warning in tzone.xts(x) : index does not have a 'tzone' attribute
> Warning in tclass.xts(x) : index does not have a 'tclass' attribute
> Warning in tzone.xts(x) : index does not have a 'tzone' attribute
> Warning in tclass.xts(x) : index does not have a 'tclass' attribute
> Warning in tzone.xts(x) : index does not have a 'tzone' attribute
> Warning in tclass.xts(x) : index does not have a 'tclass' attribute
> Warning in tzone.xts(x) : index does not have a 'tzone' attribute
> Warning in tclass.xts(x) : index does not have a 'tclass' attribute
> Warning in tzone.xts(x) : index does not have a 'tzone' attribute
> Warning in tclass.xts(x) : index does not have a 'tclass' attribute
> Warning in tzone.xts(x) : index does not have a 'tzone' attribute
> Warning in tclass.xts(x) : index does not have a 'tclass' attribute
> Warning in tzone.xts(x) : index does not have a 'tzone' attribute
> Warning in tclass.xts(x) : index does not have a 'tclass' attribute
> Warning in tclass.xts(x) : index does not have a 'tclass' attribute
> Warning in tclass.xts(x) : index does not have a 'tclass' attribute
> Warning in tclass.xts(x) : index does not have a 'tclass' attribute
> Warning in tclass.xts(x) : index does not have a 'tclass' attribute
> Warning in tclass.xts(x) : index does not have a 'tclass' attribute
> Warning in tclass.xts(x) : index does not have a 'tclass' attribute
> Warning in tclass.xts(x) : index does not have a 'tclass' attribute
> Warning in tclass.xts(x) : index does not have a 'tclass' attribute
> Warning in tclass.xts(x) : index does not have a 'tclass' attribute
> Warning in tclass.xts(x) : index does not have a 'tclass' attribute
> Warning in tclass.xts(x) : index does not have a 'tclass' attribute
> Warning in tclass.xts(x) : index does not have a 'tclass' attribute
> Warning in tclass.xts(x) : index does not have a 'tclass' attribute
> Warning in tclass.xts(x) : index does not have a 'tclass' attribute
> Warning in tclass.xts(x) : index does not have a 'tclass' attribute
> Warning in tclass.xts(x) : index does not have a 'tclass' attribute
> Warning in tclass.xts(x) : index does not have a 'tclass' attribute
2544,2600c4452,4470
< Warning in tclass.xts(x) :
< index does not have a 'tclass' attribute
< use x <- xts:::.update_index_attributes(x) to update the object
< Warning in tclass.xts(x) :
< index does not have a 'tclass' attribute
< use x <- xts:::.update_index_attributes(x) to update the object
< Warning in tclass.xts(x) :
< index does not have a 'tclass' attribute
< use x <- xts:::.update_index_attributes(x) to update the object
< Warning in tclass.xts(x) :
< index does not have a 'tclass' attribute
< use x <- xts:::.update_index_attributes(x) to update the object
< Warning in tclass.xts(x) :
< index does not have a 'tclass' attribute
< use x <- xts:::.update_index_attributes(x) to update the object
< Warning in tclass.xts(x) :
< index does not have a 'tclass' attribute
< use x <- xts:::.update_index_attributes(x) to update the object
< Warning in tclass.xts(x) :
< index does not have a 'tclass' attribute
< use x <- xts:::.update_index_attributes(x) to update the object
< Warning in tclass.xts(x) :
< index does not have a 'tclass' attribute
< use x <- xts:::.update_index_attributes(x) to update the object
< Warning in tclass.xts(x) :
< index does not have a 'tclass' attribute
< use x <- xts:::.update_index_attributes(x) to update the object
< Warning in tclass.xts(x) :
< index does not have a 'tclass' attribute
< use x <- xts:::.update_index_attributes(x) to update the object
< Warning in tclass.xts(x) :
< index does not have a 'tclass' attribute
< use x <- xts:::.update_index_attributes(x) to update the object
< Warning in tclass.xts(x) :
< index does not have a 'tclass' attribute
< use x <- xts:::.update_index_attributes(x) to update the object
< Warning in tclass.xts(x) :
< index does not have a 'tclass' attribute
< use x <- xts:::.update_index_attributes(x) to update the object
< Warning in tclass.xts(x) :
< index does not have a 'tclass' attribute
< use x <- xts:::.update_index_attributes(x) to update the object
< Warning in tclass.xts(x) :
< index does not have a 'tclass' attribute
< use x <- xts:::.update_index_attributes(x) to update the object
< Warning in tclass.xts(x) :
< index does not have a 'tclass' attribute
< use x <- xts:::.update_index_attributes(x) to update the object
< Warning in tclass.xts(x) :
< index does not have a 'tclass' attribute
< use x <- xts:::.update_index_attributes(x) to update the object
< Warning in tclass.xts(x) :
< index does not have a 'tclass' attribute
< use x <- xts:::.update_index_attributes(x) to update the object
< Warning in tclass.xts(x) :
< index does not have a 'tclass' attribute
< use x <- xts:::.update_index_attributes(x) to update the object
---
> Warning in tclass.xts(x) : index does not have a 'tclass' attribute
> Warning in tclass.xts(x) : index does not have a 'tclass' attribute
> Warning in tclass.xts(x) : index does not have a 'tclass' attribute
> Warning in tclass.xts(x) : index does not have a 'tclass' attribute
> Warning in tclass.xts(x) : index does not have a 'tclass' attribute
> Warning in tclass.xts(x) : index does not have a 'tclass' attribute
> Warning in tclass.xts(x) : index does not have a 'tclass' attribute
> Warning in tclass.xts(x) : index does not have a 'tclass' attribute
> Warning in tclass.xts(x) : index does not have a 'tclass' attribute
> Warning in tclass.xts(x) : index does not have a 'tclass' attribute
> Warning in tclass.xts(x) : index does not have a 'tclass' attribute
> Warning in tclass.xts(x) : index does not have a 'tclass' attribute
> Warning in tclass.xts(x) : index does not have a 'tclass' attribute
> Warning in tclass.xts(x) : index does not have a 'tclass' attribute
> Warning in tclass.xts(x) : index does not have a 'tclass' attribute
> Warning in tclass.xts(x) : index does not have a 'tclass' attribute
> Warning in tclass.xts(x) : index does not have a 'tclass' attribute
> Warning in tclass.xts(x) : index does not have a 'tclass' attribute
> Warning in tclass.xts(x) : index does not have a 'tclass' attribute
3649,3659c5519,5640
< ...
< 2006-03-31 0.01640556
< 2006-04-30 0.01456667
< 2006-05-31 0.01288889
< 2006-06-30 0.01263333
< 2006-07-31 0.01174444
< 2006-08-31 0.01218333
< 2006-09-30 0.01212222
< 2006-10-31 0.01197222
< 2006-11-30 0.01182778
< 2006-12-31 0.01138333
---
> 1996-11-30 NA
> 1996-12-31 NA
> 1997-01-31 NA
> 1997-02-28 NA
> 1997-03-31 NA
> 1997-04-30 NA
> 1997-05-31 NA
> 1997-06-30 NA
> 1997-07-31 NA
> 1997-08-31 NA
> 1997-09-30 NA
> 1997-10-31 NA
> 1997-11-30 NA
> 1997-12-31 NA
> 1998-01-31 NA
> 1998-02-28 NA
> 1998-03-31 NA
> 1998-04-30 NA
> 1998-05-31 NA
> 1998-06-30 NA
> 1998-07-31 NA
> 1998-08-31 NA
> 1998-09-30 NA
> 1998-10-31 NA
> 1998-11-30 NA
> 1998-12-31 0.010750000
> 1999-01-31 0.010286111
> 1999-02-28 0.010011111
> 1999-03-31 0.010863889
> 1999-04-30 0.012533333
> 1999-05-31 0.012772222
> 1999-06-30 0.013786111
> 1999-07-31 0.014700000
> 1999-08-31 0.013144444
> 1999-09-30 0.012611111
> 1999-10-31 0.011794444
> 1999-11-30 0.011458333
> 1999-12-31 0.011377778
> 2000-01-31 0.010505556
> 2000-02-29 0.010786111
> 2000-03-31 0.012122222
> 2000-04-30 0.012333333
> 2000-05-31 0.012058333
> 2000-06-30 0.011758333
> 2000-07-31 0.011466667
> 2000-08-31 0.011883333
> 2000-09-30 0.011311111
> 2000-10-31 0.011672222
> 2000-11-30 0.011266667
> 2000-12-31 0.010772222
> 2001-01-31 0.010836111
> 2001-02-28 0.009872222
> 2001-03-31 0.008575000
> 2001-04-30 0.009316667
> 2001-05-31 0.011566667
> 2001-06-30 0.011288889
> 2001-07-31 0.012461111
> 2001-08-31 0.015530556
> 2001-09-30 0.013975000
> 2001-10-31 0.012455556
> 2001-11-30 0.013050000
> 2001-12-31 0.014658333
> 2002-01-31 0.015291667
> 2002-02-28 0.014686111
> 2002-03-31 0.013577778
> 2002-04-30 0.012288889
> 2002-05-31 0.011797222
> 2002-06-30 0.010222222
> 2002-07-31 0.007852778
> 2002-08-31 0.008525000
> 2002-09-30 0.007052778
> 2002-10-31 0.007894444
> 2002-11-30 0.009633333
> 2002-12-31 0.008327778
> 2003-01-31 0.007466667
> 2003-02-28 0.006427778
> 2003-03-31 0.005841667
> 2003-04-30 0.007088889
> 2003-05-31 0.007083333
> 2003-06-30 0.007597222
> 2003-07-31 0.007950000
> 2003-08-31 0.006883333
> 2003-09-30 0.007097222
> 2003-10-31 0.008647222
> 2003-11-30 0.008827778
> 2003-12-31 0.009780556
> 2004-01-31 0.009708333
> 2004-02-29 0.009477778
> 2004-03-31 0.010011111
> 2004-04-30 0.008933333
> 2004-05-31 0.007552778
> 2004-06-30 0.008213889
> 2004-07-31 0.007638889
> 2004-08-31 0.007344444
> 2004-09-30 0.008455556
> 2004-10-31 0.008408333
> 2004-11-30 0.008558333
> 2004-12-31 0.007902778
> 2005-01-31 0.007530556
> 2005-02-28 0.008472222
> 2005-03-31 0.007722222
> 2005-04-30 0.007013889
> 2005-05-31 0.007175000
> 2005-06-30 0.008291667
> 2005-07-31 0.010641667
> 2005-08-31 0.010741667
> 2005-09-30 0.013063889
> 2005-10-31 0.011719444
> 2005-11-30 0.010525000
> 2005-12-31 0.012147222
> 2006-01-31 0.015213889
> 2006-02-28 0.016313889
> 2006-03-31 0.016405556
> 2006-04-30 0.014566667
> 2006-05-31 0.012888889
> 2006-06-30 0.012633333
> 2006-07-31 0.011744444
> 2006-08-31 0.012183333
> 2006-09-30 0.012122222
> 2006-10-31 0.011972222
> 2006-11-30 0.011827778
> 2006-12-31 0.011383333
3968,3995d5948
< Warning in par(usr) : argument 1 does not name a graphical parameter
< Warning in par(usr) : argument 1 does not name a graphical parameter
< Warning in par(usr) : argument 1 does not name a graphical parameter
< Warning in par(usr) : argument 1 does not name a graphical parameter
< Warning in par(usr) : argument 1 does not name a graphical parameter
< Warning in par(usr) : argument 1 does not name a graphical parameter
< Warning in par(usr) : argument 1 does not name a graphical parameter
< Warning in par(usr) : argument 1 does not name a graphical parameter
< Warning in par(usr) : argument 1 does not name a graphical parameter
< Warning in par(usr) : argument 1 does not name a graphical parameter
< Warning in par(usr) : argument 1 does not name a graphical parameter
< Warning in par(usr) : argument 1 does not name a graphical parameter
< Warning in par(usr) : argument 1 does not name a graphical parameter
< Warning in par(usr) : argument 1 does not name a graphical parameter
< Warning in par(usr) : argument 1 does not name a graphical parameter
< Warning in par(usr) : argument 1 does not name a graphical parameter
< Warning in par(usr) : argument 1 does not name a graphical parameter
< Warning in par(usr) : argument 1 does not name a graphical parameter
< Warning in par(usr) : argument 1 does not name a graphical parameter
< Warning in par(usr) : argument 1 does not name a graphical parameter
< Warning in par(usr) : argument 1 does not name a graphical parameter
< Warning in par(usr) : argument 1 does not name a graphical parameter
< Warning in par(usr) : argument 1 does not name a graphical parameter
< Warning in par(usr) : argument 1 does not name a graphical parameter
< Warning in par(usr) : argument 1 does not name a graphical parameter
< Warning in par(usr) : argument 1 does not name a graphical parameter
< Warning in par(usr) : argument 1 does not name a graphical parameter
< Warning in par(usr) : argument 1 does not name a graphical parameter
4452,4460c6405,6407
< Warning in tzone.xts(x) :
< index does not have a 'tozne' attribute
< use x <- xts:::.update_index_attributes(x) to update the object
< Warning in tclass.xts(x) :
< index does not have a 'tclass' attribute
< use x <- xts:::.update_index_attributes(x) to update the object
< Warning in tclass.xts(x) :
< index does not have a 'tclass' attribute
< use x <- xts:::.update_index_attributes(x) to update the object
---
> Warning in tclass.xts(x) : index does not have a 'tclass' attribute
> Warning in tzone.xts(x) : index does not have a 'tzone' attribute
> Warning in tclass.xts(x) : index does not have a 'tclass' attribute
4492,4614c6439,6479
< Warning in tclass.xts(x) :
< index does not have a 'tclass' attribute
< use x <- xts:::.update_index_attributes(x) to update the object
< Warning in tclass.xts(x) :
< index does not have a 'tclass' attribute
< use x <- xts:::.update_index_attributes(x) to update the object
< Warning in tclass.xts(x) :
< index does not have a 'tclass' attribute
< use x <- xts:::.update_index_attributes(x) to update the object
< Warning in tclass.xts(x) :
< index does not have a 'tclass' attribute
< use x <- xts:::.update_index_attributes(x) to update the object
< Warning in tclass.xts(x) :
< index does not have a 'tclass' attribute
< use x <- xts:::.update_index_attributes(x) to update the object
< Warning in tclass.xts(x) :
< index does not have a 'tclass' attribute
< use x <- xts:::.update_index_attributes(x) to update the object
< Warning in tzone.xts(x) :
< index does not have a 'tozne' attribute
< use x <- xts:::.update_index_attributes(x) to update the object
< Warning in tclass.xts(x) :
< index does not have a 'tclass' attribute
< use x <- xts:::.update_index_attributes(x) to update the object
< Warning in tzone.xts(x) :
< index does not have a 'tozne' attribute
< use x <- xts:::.update_index_attributes(x) to update the object
< Warning in tclass.xts(x) :
< index does not have a 'tclass' attribute
< use x <- xts:::.update_index_attributes(x) to update the object
< Warning in tzone.xts(x) :
< index does not have a 'tozne' attribute
< use x <- xts:::.update_index_attributes(x) to update the object
< Warning in tclass.xts(x) :
< index does not have a 'tclass' attribute
< use x <- xts:::.update_index_attributes(x) to update the object
< Warning in tzone.xts(x) :
< index does not have a 'tozne' attribute
< use x <- xts:::.update_index_attributes(x) to update the object
< Warning in tclass.xts(x) :
< index does not have a 'tclass' attribute
< use x <- xts:::.update_index_attributes(x) to update the object
< Warning in tzone.xts(x) :
< index does not have a 'tozne' attribute
< use x <- xts:::.update_index_attributes(x) to update the object
< Warning in tclass.xts(x) :
< index does not have a 'tclass' attribute
< use x <- xts:::.update_index_attributes(x) to update the object
< Warning in tzone.xts(x) :
< index does not have a 'tozne' attribute
< use x <- xts:::.update_index_attributes(x) to update the object
< Warning in tclass.xts(x) :
< index does not have a 'tclass' attribute
< use x <- xts:::.update_index_attributes(x) to update the object
< Warning in tzone.xts(x) :
< index does not have a 'tozne' attribute
< use x <- xts:::.update_index_attributes(x) to update the object
< Warning in tclass.xts(x) :
< index does not have a 'tclass' attribute
< use x <- xts:::.update_index_attributes(x) to update the object
< Warning in tzone.xts(x) :
< index does not have a 'tozne' attribute
< use x <- xts:::.update_index_attributes(x) to update the object
< Warning in tclass.xts(x) :
< index does not have a 'tclass' attribute
< use x <- xts:::.update_index_attributes(x) to update the object
< Warning in tzone.xts(x) :
< index does not have a 'tozne' attribute
< use x <- xts:::.update_index_attributes(x) to update the object
< Warning in tclass.xts(x) :
< index does not have a 'tclass' attribute
< use x <- xts:::.update_index_attributes(x) to update the object
< Warning in tclass.xts(x) :
< index does not have a 'tclass' attribute
< use x <- xts:::.update_index_attributes(x) to update the object
< Warning in tclass.xts(x) :
< index does not have a 'tclass' attribute
< use x <- xts:::.update_index_attributes(x) to update the object
< Warning in tclass.xts(x) :
< index does not have a 'tclass' attribute
< use x <- xts:::.update_index_attributes(x) to update the object
< Warning in tclass.xts(x) :
< index does not have a 'tclass' attribute
< use x <- xts:::.update_index_attributes(x) to update the object
< Warning in tclass.xts(x) :
< index does not have a 'tclass' attribute
< use x <- xts:::.update_index_attributes(x) to update the object
< Warning in tclass.xts(x) :
< index does not have a 'tclass' attribute
< use x <- xts:::.update_index_attributes(x) to update the object
< Warning in tclass.xts(x) :
< index does not have a 'tclass' attribute
< use x <- xts:::.update_index_attributes(x) to update the object
< Warning in tclass.xts(x) :
< index does not have a 'tclass' attribute
< use x <- xts:::.update_index_attributes(x) to update the object
< Warning in tclass.xts(x) :
< index does not have a 'tclass' attribute
< use x <- xts:::.update_index_attributes(x) to update the object
< Warning in tclass.xts(x) :
< index does not have a 'tclass' attribute
< use x <- xts:::.update_index_attributes(x) to update the object
< Warning in tclass.xts(x) :
< index does not have a 'tclass' attribute
< use x <- xts:::.update_index_attributes(x) to update the object
< Warning in tclass.xts(x) :
< index does not have a 'tclass' attribute
< use x <- xts:::.update_index_attributes(x) to update the object
< Warning in tclass.xts(x) :
< index does not have a 'tclass' attribute
< use x <- xts:::.update_index_attributes(x) to update the object
< Warning in tclass.xts(x) :
< index does not have a 'tclass' attribute
< use x <- xts:::.update_index_attributes(x) to update the object
< Warning in tclass.xts(x) :
< index does not have a 'tclass' attribute
< use x <- xts:::.update_index_attributes(x) to update the object
< Warning in tclass.xts(x) :
< index does not have a 'tclass' attribute
< use x <- xts:::.update_index_attributes(x) to update the object
< Warning in tclass.xts(x) :
< index does not have a 'tclass' attribute
< use x <- xts:::.update_index_attributes(x) to update the object
---
> Warning in tclass.xts(x) : index does not have a 'tclass' attribute
> Warning in tclass.xts(x) : index does not have a 'tclass' attribute
> Warning in tclass.xts(x) : index does not have a 'tclass' attribute
> Warning in tclass.xts(x) : index does not have a 'tclass' attribute
> Warning in tclass.xts(x) : index does not have a 'tclass' attribute
> Warning in tclass.xts(x) : index does not have a 'tclass' attribute
> Warning in tzone.xts(x) : index does not have a 'tzone' attribute
> Warning in tclass.xts(x) : index does not have a 'tclass' attribute
> Warning in tzone.xts(x) : index does not have a 'tzone' attribute
> Warning in tclass.xts(x) : index does not have a 'tclass' attribute
> Warning in tzone.xts(x) : index does not have a 'tzone' attribute
> Warning in tclass.xts(x) : index does not have a 'tclass' attribute
> Warning in tzone.xts(x) : index does not have a 'tzone' attribute
> Warning in tclass.xts(x) : index does not have a 'tclass' attribute
> Warning in tzone.xts(x) : index does not have a 'tzone' attribute
> Warning in tclass.xts(x) : index does not have a 'tclass' attribute
> Warning in tzone.xts(x) : index does not have a 'tzone' attribute
> Warning in tclass.xts(x) : index does not have a 'tclass' attribute
> Warning in tzone.xts(x) : index does not have a 'tzone' attribute
> Warning in tclass.xts(x) : index does not have a 'tclass' attribute
> Warning in tzone.xts(x) : index does not have a 'tzone' attribute
> Warning in tclass.xts(x) : index does not have a 'tclass' attribute
> Warning in tzone.xts(x) : index does not have a 'tzone' attribute
> Warning in tclass.xts(x) : index does not have a 'tclass' attribute
> Warning in tclass.xts(x) : index does not have a 'tclass' attribute
> Warning in tclass.xts(x) : index does not have a 'tclass' attribute
> Warning in tclass.xts(x) : index does not have a 'tclass' attribute
> Warning in tclass.xts(x) : index does not have a 'tclass' attribute
> Warning in tclass.xts(x) : index does not have a 'tclass' attribute
> Warning in tclass.xts(x) : index does not have a 'tclass' attribute
> Warning in tclass.xts(x) : index does not have a 'tclass' attribute
> Warning in tclass.xts(x) : index does not have a 'tclass' attribute
> Warning in tclass.xts(x) : index does not have a 'tclass' attribute
> Warning in tclass.xts(x) : index does not have a 'tclass' attribute
> Warning in tclass.xts(x) : index does not have a 'tclass' attribute
> Warning in tclass.xts(x) : index does not have a 'tclass' attribute
> Warning in tclass.xts(x) : index does not have a 'tclass' attribute
> Warning in tclass.xts(x) : index does not have a 'tclass' attribute
> Warning in tclass.xts(x) : index does not have a 'tclass' attribute
> Warning in tclass.xts(x) : index does not have a 'tclass' attribute
> Warning in tclass.xts(x) : index does not have a 'tclass' attribute
4618,4740c6483,6523
< Warning in tclass.xts(x) :
< index does not have a 'tclass' attribute
< use x <- xts:::.update_index_attributes(x) to update the object
< Warning in tclass.xts(x) :
< index does not have a 'tclass' attribute
< use x <- xts:::.update_index_attributes(x) to update the object
< Warning in tclass.xts(x) :
< index does not have a 'tclass' attribute
< use x <- xts:::.update_index_attributes(x) to update the object
< Warning in tclass.xts(x) :
< index does not have a 'tclass' attribute
< use x <- xts:::.update_index_attributes(x) to update the object
< Warning in tclass.xts(x) :
< index does not have a 'tclass' attribute
< use x <- xts:::.update_index_attributes(x) to update the object
< Warning in tclass.xts(x) :
< index does not have a 'tclass' attribute
< use x <- xts:::.update_index_attributes(x) to update the object
< Warning in tzone.xts(x) :
< index does not have a 'tozne' attribute
< use x <- xts:::.update_index_attributes(x) to update the object
< Warning in tclass.xts(x) :
< index does not have a 'tclass' attribute
< use x <- xts:::.update_index_attributes(x) to update the object
< Warning in tzone.xts(x) :
< index does not have a 'tozne' attribute
< use x <- xts:::.update_index_attributes(x) to update the object
< Warning in tclass.xts(x) :
< index does not have a 'tclass' attribute
< use x <- xts:::.update_index_attributes(x) to update the object
< Warning in tzone.xts(x) :
< index does not have a 'tozne' attribute
< use x <- xts:::.update_index_attributes(x) to update the object
< Warning in tclass.xts(x) :
< index does not have a 'tclass' attribute
< use x <- xts:::.update_index_attributes(x) to update the object
< Warning in tzone.xts(x) :
< index does not have a 'tozne' attribute
< use x <- xts:::.update_index_attributes(x) to update the object
< Warning in tclass.xts(x) :
< index does not have a 'tclass' attribute
< use x <- xts:::.update_index_attributes(x) to update the object
< Warning in tzone.xts(x) :
< index does not have a 'tozne' attribute
< use x <- xts:::.update_index_attributes(x) to update the object
< Warning in tclass.xts(x) :
< index does not have a 'tclass' attribute
< use x <- xts:::.update_index_attributes(x) to update the object
< Warning in tzone.xts(x) :
< index does not have a 'tozne' attribute
< use x <- xts:::.update_index_attributes(x) to update the object
< Warning in tclass.xts(x) :
< index does not have a 'tclass' attribute
< use x <- xts:::.update_index_attributes(x) to update the object
< Warning in tzone.xts(x) :
< index does not have a 'tozne' attribute
< use x <- xts:::.update_index_attributes(x) to update the object
< Warning in tclass.xts(x) :
< index does not have a 'tclass' attribute
< use x <- xts:::.update_index_attributes(x) to update the object
< Warning in tzone.xts(x) :
< index does not have a 'tozne' attribute
< use x <- xts:::.update_index_attributes(x) to update the object
< Warning in tclass.xts(x) :
< index does not have a 'tclass' attribute
< use x <- xts:::.update_index_attributes(x) to update the object
< Warning in tzone.xts(x) :
< index does not have a 'tozne' attribute
< use x <- xts:::.update_index_attributes(x) to update the object
< Warning in tclass.xts(x) :
< index does not have a 'tclass' attribute
< use x <- xts:::.update_index_attributes(x) to update the object
< Warning in tclass.xts(x) :
< index does not have a 'tclass' attribute
< use x <- xts:::.update_index_attributes(x) to update the object
< Warning in tclass.xts(x) :
< index does not have a 'tclass' attribute
< use x <- xts:::.update_index_attributes(x) to update the object
< Warning in tclass.xts(x) :
< index does not have a 'tclass' attribute
< use x <- xts:::.update_index_attributes(x) to update the object
< Warning in tclass.xts(x) :
< index does not have a 'tclass' attribute
< use x <- xts:::.update_index_attributes(x) to update the object
< Warning in tclass.xts(x) :
< index does not have a 'tclass' attribute
< use x <- xts:::.update_index_attributes(x) to update the object
< Warning in tclass.xts(x) :
< index does not have a 'tclass' attribute
< use x <- xts:::.update_index_attributes(x) to update the object
< Warning in tclass.xts(x) :
< index does not have a 'tclass' attribute
< use x <- xts:::.update_index_attributes(x) to update the object
< Warning in tclass.xts(x) :
< index does not have a 'tclass' attribute
< use x <- xts:::.update_index_attributes(x) to update the object
< Warning in tclass.xts(x) :
< index does not have a 'tclass' attribute
< use x <- xts:::.update_index_attributes(x) to update the object
< Warning in tclass.xts(x) :
< index does not have a 'tclass' attribute
< use x <- xts:::.update_index_attributes(x) to update the object
< Warning in tclass.xts(x) :
< index does not have a 'tclass' attribute
< use x <- xts:::.update_index_attributes(x) to update the object
< Warning in tclass.xts(x) :
< index does not have a 'tclass' attribute
< use x <- xts:::.update_index_attributes(x) to update the object
< Warning in tclass.xts(x) :
< index does not have a 'tclass' attribute
< use x <- xts:::.update_index_attributes(x) to update the object
< Warning in tclass.xts(x) :
< index does not have a 'tclass' attribute
< use x <- xts:::.update_index_attributes(x) to update the object
< Warning in tclass.xts(x) :
< index does not have a 'tclass' attribute
< use x <- xts:::.update_index_attributes(x) to update the object
< Warning in tclass.xts(x) :
< index does not have a 'tclass' attribute
< use x <- xts:::.update_index_attributes(x) to update the object
< Warning in tclass.xts(x) :
< index does not have a 'tclass' attribute
< use x <- xts:::.update_index_attributes(x) to update the object
---
> Warning in tclass.xts(x) : index does not have a 'tclass' attribute
> Warning in tclass.xts(x) : index does not have a 'tclass' attribute
> Warning in tclass.xts(x) : index does not have a 'tclass' attribute
> Warning in tclass.xts(x) : index does not have a 'tclass' attribute
> Warning in tclass.xts(x) : index does not have a 'tclass' attribute
> Warning in tclass.xts(x) : index does not have a 'tclass' attribute
> Warning in tzone.xts(x) : index does not have a 'tzone' attribute
> Warning in tclass.xts(x) : index does not have a 'tclass' attribute
> Warning in tzone.xts(x) : index does not have a 'tzone' attribute
> Warning in tclass.xts(x) : index does not have a 'tclass' attribute
> Warning in tzone.xts(x) : index does not have a 'tzone' attribute
> Warning in tclass.xts(x) : index does not have a 'tclass' attribute
> Warning in tzone.xts(x) : index does not have a 'tzone' attribute
> Warning in tclass.xts(x) : index does not have a 'tclass' attribute
> Warning in tzone.xts(x) : index does not have a 'tzone' attribute
> Warning in tclass.xts(x) : index does not have a 'tclass' attribute
> Warning in tzone.xts(x) : index does not have a 'tzone' attribute
> Warning in tclass.xts(x) : index does not have a 'tclass' attribute
> Warning in tzone.xts(x) : index does not have a 'tzone' attribute
> Warning in tclass.xts(x) : index does not have a 'tclass' attribute
> Warning in tzone.xts(x) : index does not have a 'tzone' attribute
> Warning in tclass.xts(x) : index does not have a 'tclass' attribute
> Warning in tzone.xts(x) : index does not have a 'tzone' attribute
> Warning in tclass.xts(x) : index does not have a 'tclass' attribute
> Warning in tclass.xts(x) : index does not have a 'tclass' attribute
> Warning in tclass.xts(x) : index does not have a 'tclass' attribute
> Warning in tclass.xts(x) : index does not have a 'tclass' attribute
> Warning in tclass.xts(x) : index does not have a 'tclass' attribute
> Warning in tclass.xts(x) : index does not have a 'tclass' attribute
> Warning in tclass.xts(x) : index does not have a 'tclass' attribute
> Warning in tclass.xts(x) : index does not have a 'tclass' attribute
> Warning in tclass.xts(x) : index does not have a 'tclass' attribute
> Warning in tclass.xts(x) : index does not have a 'tclass' attribute
> Warning in tclass.xts(x) : index does not have a 'tclass' attribute
> Warning in tclass.xts(x) : index does not have a 'tclass' attribute
> Warning in tclass.xts(x) : index does not have a 'tclass' attribute
> Warning in tclass.xts(x) : index does not have a 'tclass' attribute
> Warning in tclass.xts(x) : index does not have a 'tclass' attribute
> Warning in tclass.xts(x) : index does not have a 'tclass' attribute
> Warning in tclass.xts(x) : index does not have a 'tclass' attribute
> Warning in tclass.xts(x) : index does not have a 'tclass' attribute
4744,4749c6527,6528
< Warning in tclass.xts(x) :
< index does not have a 'tclass' attribute
< use x <- xts:::.update_index_attributes(x) to update the object
< Warning in tclass.xts(x) :
< index does not have a 'tclass' attribute
< use x <- xts:::.update_index_attributes(x) to update the object
---
> Warning in tclass.xts(x) : index does not have a 'tclass' attribute
> Warning in tclass.xts(x) : index does not have a 'tclass' attribute
5010c6789
< [1] "matrix" "array"
---
> [1] "matrix"
5437c7216
< Warning: object index class (Date) does not support timezones.
---
> Warning: index class is Date, which does not support timezones.
5459c7238
< Warning: object index class (Date) does not support timezones.
---
> Warning: index class is Date, which does not support timezones.
5668c7447,7448
< detaching 'package:Hmisc'
---
> detaching 'package:Hmisc', 'package:ggplot2', 'package:Formula',
> 'package:survival', 'package:lattice'
5804c7584
< Mar 1.6 0.9 3.6 4.6 5.8 -1.0 0.6 3.6 0.9 -2.1 4.0
---
> Mar 1.6 0.9 3.6 4.6 5.8 -1.1 0.6 3.6 0.9 -2.1 4.0
5806c7586
< May 0.8 4.4 -2.3 1.6 3.4 5.8 -0.1 3.4 0.8 0.4 -2.7
---
> May 0.8 4.4 -2.3 1.6 3.4 5.8 -0.2 3.4 0.8 0.4 -2.7
5808c7588
< Jul -2.3 1.5 -2.1 1.0 0.5 2.1 -7.6 1.8 0.0 0.9 -1.4
---
> Jul -2.3 1.5 -2.1 1.0 0.5 2.1 -7.5 1.8 0.0 0.9 -1.4
5843c7623,7624
< detaching 'package:Hmisc'
---
> detaching 'package:Hmisc', 'package:ggplot2', 'package:Formula',
> 'package:survival', 'package:lattice'
5948c7729,7730
< detaching 'package:Hmisc'
---
> detaching 'package:Hmisc', 'package:ggplot2', 'package:Formula',
> 'package:survival', 'package:lattice'
6000c7782,7783
< detaching 'package:Hmisc'
---
> detaching 'package:Hmisc', 'package:ggplot2', 'package:Formula',
> 'package:survival', 'package:lattice'
6109c7892,7893
< detaching 'package:Hmisc'
---
> detaching 'package:Hmisc', 'package:ggplot2', 'package:Formula',
> 'package:survival', 'package:lattice'
6165c7949,7950
< detaching 'package:Hmisc'
---
> detaching 'package:Hmisc', 'package:ggplot2', 'package:Formula',
> 'package:survival', 'package:lattice'
6261c8046,8047
< detaching 'package:Hmisc'
---
> detaching 'package:Hmisc', 'package:ggplot2', 'package:Formula',
> 'package:survival', 'package:lattice'
6304c8090,8091
< detaching 'package:Hmisc'
---
> detaching 'package:Hmisc', 'package:ggplot2', 'package:Formula',
> 'package:survival', 'package:lattice'
6350c8137,8138
< detaching 'package:Hmisc'
---
> detaching 'package:Hmisc', 'package:ggplot2', 'package:Formula',
> 'package:survival', 'package:lattice'
6374c8162
< Quartile 3 0.0134 0.0203 0.0175
---
> Quartile 3 0.0134 0.0202 0.0175
6396c8184
< Short Selling 275 0 -0.1340 -0.0265 -0.0053
---
> Short Selling 275 0 -0.1340 -0.0264 -0.0053
6400c8188
< CTA Global 0.0042 0.0039 0.0203 0.0691
---
> CTA Global 0.0042 0.0039 0.0202 0.0691
6460c8248,8249
< detaching 'package:Hmisc'
---
> detaching 'package:Hmisc', 'package:ggplot2', 'package:Formula',
> 'package:survival', 'package:lattice'
6549c8338,8339
< detaching 'package:Hmisc'
---
> detaching 'package:Hmisc', 'package:ggplot2', 'package:Formula',
> 'package:survival', 'package:lattice'
6591c8381,8382
< detaching 'package:Hmisc'
---
> detaching 'package:Hmisc', 'package:ggplot2', 'package:Formula',
> 'package:survival', 'package:lattice'
6637c8428,8429
< detaching 'package:Hmisc'
---
> detaching 'package:Hmisc', 'package:ggplot2', 'package:Formula',
> 'package:survival', 'package:lattice'
6740,6748c8532,8534
< Warning in tzone.xts(x) :
< index does not have a 'tozne' attribute
< use x <- xts:::.update_index_attributes(x) to update the object
< Warning in tclass.xts(x) :
< index does not have a 'tclass' attribute
< use x <- xts:::.update_index_attributes(x) to update the object
< Warning in tclass.xts(x) :
< index does not have a 'tclass' attribute
< use x <- xts:::.update_index_attributes(x) to update the object
---
> Warning in tclass.xts(x) : index does not have a 'tclass' attribute
> Warning in tzone.xts(x) : index does not have a 'tzone' attribute
> Warning in tclass.xts(x) : index does not have a 'tclass' attribute
- checking for unstated dependencies in ‘tests’ ... OK
- checking tests ... [1s/2s] OK
Running ‘tinytest.R’ [1s/2s]
- checking for unstated dependencies in vignettes ... OK
- checking package vignettes in ‘inst/doc’ ... OK
- checking re-building of vignette outputs ... [135s/184s] OK
- checking PDF version of manual ... [17s/23s] OK
- checking HTML version of manual ... [12s/22s] OK
- checking for non-standard things in the check directory ... OK
- DONE
Status: 1 NOTE