* using log directory ‘/home/hornik/tmp/R.check/r-devel-clang/Work/PKGS/NitrogenUptake2016.Rcheck’ * using R Under development (unstable) (2025-07-13 r88407) * using platform: x86_64-pc-linux-gnu * R was compiled by Debian clang version 19.1.7 (3+b1) Debian flang-new version 19.1.7 (3+b1) * running under: Debian GNU/Linux 13 (trixie) * using session charset: UTF-8 * checking for file ‘NitrogenUptake2016/DESCRIPTION’ ... OK * checking extension type ... Package * this is package ‘NitrogenUptake2016’ version ‘0.2.3’ * package encoding: UTF-8 * checking CRAN incoming feasibility ... [1s/2s] NOTE Maintainer: ‘Troy D. Hill ’ No Authors@R field in DESCRIPTION. Please add one, modifying Authors@R: c(person(given = c("Troy", "D."), family = "Hill", role = c("aut", "cre"), email = "hill.troy@gmail.com"), person(given = c("Nathalie", "R."), family = "Sommer", role = "aut"), person(given = c("Caroline", "R."), family = "Kanaskie", role = "aut"), person(given = c("Emily", "A."), family = "Santos", role = "aut"), person(given = c("Autumn", "J."), family = "Oczkowski", role = "aut")) as necessary. Found the following \keyword or \concept entries which likely give several index terms: File ‘CN_mass_data.Rd’: \keyword{data,} \keyword{isotopes,} File ‘allometry.Rd’: \keyword{data,} File ‘dea.Rd’: \keyword{data,} \keyword{denitrification,} File ‘stemHeights.Rd’: \keyword{NAPP,} \keyword{biomass,} \keyword{data,} \keyword{height,} Found the following URLs which should use \doi (with the DOI name only): File ‘CN_mass_data.Rd’: https://doi.org/10.1016/j.dib.2018.09.133 https://doi.org/10.1016/j.jembe.2018.07.006 File ‘allometry.Rd’: https://doi.org/10.1016/j.dib.2018.09.133 https://doi.org/10.1016/j.jembe.2018.07.006 File ‘bCM.Rd’: https://doi.org/10.1002/ecy.1600 File ‘dea.Rd’: https://doi.org/10.1016/j.dib.2018.09.133 https://doi.org/10.1016/j.jembe.2018.07.006 File ‘stemHeights.Rd’: https://doi.org/10.1016/j.dib.2018.09.133 https://doi.org/10.1016/j.jembe.2018.07.006 * checking package namespace information ... OK * checking package dependencies ... OK * checking if this is a source package ... OK * checking if there is a namespace ... OK * checking for executable files ... OK * checking for hidden files and directories ... OK * checking for portable file names ... OK * checking for sufficient/correct file permissions ... OK * checking serialization versions ... OK * checking whether package ‘NitrogenUptake2016’ can be installed ... OK See 'https://www.r-project.org/nosvn/R.check/r-devel-linux-x86_64-debian-clang/NitrogenUptake2016-00install.html' for details. * checking package directory ... OK * checking for future file timestamps ... OK * checking ‘build’ directory ... OK * checking DESCRIPTION meta-information ... OK * checking top-level files ... OK * checking for left-over files ... OK * checking index information ... OK * checking package subdirectories ... OK * checking code files for non-ASCII characters ... OK * checking R files for syntax errors ... OK * checking whether the package can be loaded ... [0s/1s] OK * checking whether the package can be loaded with stated dependencies ... [0s/1s] OK * checking whether the package can be unloaded cleanly ... [0s/1s] OK * checking whether the namespace can be loaded with stated dependencies ... [0s/1s] OK * checking whether the namespace can be unloaded cleanly ... [0s/1s] OK * checking loading without being on the library search path ... [0s/1s] OK * checking use of S3 registration ... OK * checking dependencies in R code ... OK * checking S3 generic/method consistency ... OK * checking replacement functions ... OK * checking foreign function calls ... OK * checking R code for possible problems ... [5s/7s] OK * checking Rd files ... [0s/0s] OK * checking Rd metadata ... OK * checking Rd line widths ... OK * checking Rd cross-references ... OK * checking for missing documentation entries ... OK * checking for code/documentation mismatches ... OK * checking Rd \usage sections ... OK * checking Rd contents ... OK * checking for unstated dependencies in examples ... OK * checking contents of ‘data’ directory ... OK * checking data for non-ASCII characters ... [0s/0s] OK * checking LazyData ... OK * checking data for ASCII and uncompressed saves ... OK * checking sizes of PDF files under ‘inst/doc’ ... OK * checking installed files from ‘inst/doc’ ... OK * checking files in ‘vignettes’ ... OK * checking examples ... [1s/1s] OK * checking for unstated dependencies in vignettes ... OK * checking package vignettes ... OK * checking re-building of vignette outputs ... [1s/2s] OK * checking PDF version of manual ... [4s/6s] OK * checking HTML version of manual ... [0s/1s] OK * checking for non-standard things in the check directory ... OK * DONE Status: 1 NOTE