- using R Under development (unstable) (2025-10-22 r88967)
- using platform: x86_64-pc-linux-gnu
- R was compiled by
Debian clang version 19.1.7 (7)
Debian flang-new version 19.1.7 (7)
- running under: Debian GNU/Linux forky/sid
- using session charset: UTF-8
- checking for file ‘MultiObjMatch/DESCRIPTION’ ... OK
- checking extension type ... Package
- this is package ‘MultiObjMatch’ version ‘1.0.0’
- package encoding: UTF-8
- checking CRAN incoming feasibility ... [1s/1s] OK
- checking package namespace information ... OK
- checking package dependencies ... INFO
Package suggested but not available for checking: ‘rrelaxiv’
- checking if this is a source package ... OK
- checking if there is a namespace ... OK
- checking for executable files ... OK
- checking for hidden files and directories ... OK
- checking for portable file names ... OK
- checking for sufficient/correct file permissions ... OK
- checking serialization versions ... OK
- checking whether package ‘MultiObjMatch’ can be installed ... OK
See the install log for details.
- checking package directory ... OK
- checking for future file timestamps ... OK
- checking DESCRIPTION meta-information ... OK
- checking top-level files ... OK
- checking for left-over files ... OK
- checking index information ... OK
- checking package subdirectories ... OK
- checking code files for non-ASCII characters ... OK
- checking R files for syntax errors ... OK
- checking whether the package can be loaded ... [4s/5s] OK
- checking whether the package can be loaded with stated dependencies ... [4s/5s] OK
- checking whether the package can be unloaded cleanly ... [4s/5s] OK
- checking whether the namespace can be loaded with stated dependencies ... [3s/6s] OK
- checking whether the namespace can be unloaded cleanly ... [4s/6s] OK
- checking loading without being on the library search path ... [4s/6s] OK
- checking use of S3 registration ... OK
- checking dependencies in R code ... OK
- checking S3 generic/method consistency ... OK
- checking replacement functions ... OK
- checking foreign function calls ... OK
- checking R code for possible problems ... [27s/34s] OK
- checking Rd files ... [1s/1s] OK
- checking Rd metadata ... OK
- checking Rd line widths ... OK
- checking Rd cross-references ... OK
- checking for missing documentation entries ... OK
- checking for code/documentation mismatches ... OK
- checking Rd \usage sections ... OK
- checking Rd contents ... OK
- checking for unstated dependencies in examples ... OK
- checking examples ... [81s/106s] OK
Examples with CPU (user + system) or elapsed time > 5s
user system elapsed
compare_matching 10.256 0.200 13.240
compare_tables 9.837 0.106 13.038
dist_bal_match 9.452 0.021 11.660
get_balance_table 9.406 0.003 11.600
get_pairdist_balance_graph 9.348 0.060 12.657
get_pairdist_graph 9.304 0.027 11.724
matched_data 9.109 0.042 13.544
get_tv_graph 9.111 0.005 11.835
- checking for unstated dependencies in ‘tests’ ... OK
- checking tests ... [26s/35s] OK
Running ‘testthat.R’ [26s/35s]
- checking PDF version of manual ... [7s/9s] OK
- checking HTML version of manual ... [1s/3s] OK
- checking for non-standard things in the check directory ... OK
- DONE
Status: OK