- using R Under development (unstable) (2024-04-24 r86483)
- using platform: x86_64-pc-linux-gnu
- R was compiled by
Debian clang version 18.1.0 (rc4-1)
Debian flang-new version 18.1.0 (rc4-1)
- running under: Debian GNU/Linux trixie/sid
- using session charset: UTF-8
- checking for file ‘MoLE/DESCRIPTION’ ... OK
- checking extension type ... Package
- this is package ‘MoLE’ version ‘1.0.1’
- checking package namespace information ... OK
- checking package dependencies ... OK
- checking if this is a source package ... OK
- checking if there is a namespace ... OK
- checking for executable files ... OK
- checking for hidden files and directories ... OK
- checking for portable file names ... OK
- checking for sufficient/correct file permissions ... OK
- checking serialization versions ... OK
- checking whether package ‘MoLE’ can be installed ... OK
See the install log for details.
- checking package directory ... OK
- checking for future file timestamps ... OK
- checking DESCRIPTION meta-information ... OK
- checking top-level files ... OK
- checking for left-over files ... OK
- checking index information ... OK
- checking package subdirectories ... NOTE
Problems with news in ‘NEWS.md’:
No news entries found.
- checking code files for non-ASCII characters ... OK
- checking R files for syntax errors ... OK
- checking whether the package can be loaded ... [0s/1s] OK
- checking whether the package can be loaded with stated dependencies ... [0s/0s] OK
- checking whether the package can be unloaded cleanly ... [0s/0s] OK
- checking whether the namespace can be loaded with stated dependencies ... [0s/0s] OK
- checking whether the namespace can be unloaded cleanly ... [0s/0s] OK
- checking loading without being on the library search path ... [0s/0s] OK
- checking use of S3 registration ... OK
- checking dependencies in R code ... OK
- checking S3 generic/method consistency ... OK
- checking replacement functions ... OK
- checking foreign function calls ... OK
- checking R code for possible problems ... [43s/57s] OK
- checking Rd files ... [1s/1s] NOTE
checkRd: (-1) CHECKSUCCESS.Rd:44: Escaped LaTeX specials: \&
- checking Rd metadata ... OK
- checking Rd line widths ... OK
- checking Rd cross-references ... OK
- checking for missing documentation entries ... OK
- checking for code/documentation mismatches ... OK
- checking Rd \usage sections ... OK
- checking Rd contents ... OK
- checking for unstated dependencies in examples ... OK
- checking contents of ‘data’ directory ... OK
- checking data for non-ASCII characters ... [0s/1s] OK
- checking LazyData ... OK
- checking data for ASCII and uncompressed saves ... OK
- checking examples ... [152s/196s] OK
Examples with CPU (user + system) or elapsed time > 5s
user system elapsed
SUCCESS 6.306 0.011 7.498
INTERPRET.INT 6.249 0.000 9.311
TOPICFIRST 6.163 0.003 8.727
SELECTACTOR 5.956 0.000 7.242
TOPICCOPY 5.919 0.000 7.816
WORDORDER 5.664 0.020 6.972
TURN 5.599 0.000 6.709
ANALYZE 5.506 0.000 7.732
INTERPRET 5.496 0.000 8.376
NOUNMORPHOLOGY 5.463 0.008 7.943
REFCHECK 5.470 0.000 5.737
VERBMORPHOLOGY 5.368 0.004 6.255
PROTOINTERPRETATION 5.318 0.019 5.984
PREPARE 5.334 0.000 7.762
GROUP 5.261 0.000 5.483
FIRSTINFIRSTOUT 5.260 0.000 8.096
EROSION 5.255 0.000 7.257
CHECKSUCCESS 5.241 0.011 8.087
PRODUCE 5.239 0.000 5.572
AGENTFIRST 5.229 0.000 7.359
TYPEMATCH 5.222 0.000 6.215
VERBFINAL 5.164 0.004 6.853
PROPOSITION 5.159 0.000 5.589
REDUCE 5.109 0.000 5.279
FREQUPDATE 5.091 0.004 6.084
DECOMPOSE 5.081 0.004 8.259
GENERALIZE 5.068 0.000 6.569
- checking PDF version of manual ... [8s/10s] OK
- checking HTML version of manual ... [2s/4s] OK
- checking for non-standard things in the check directory ... OK
- DONE
Status: 2 NOTEs