* using log directory ‘/home/hornik/tmp/R.check/r-devel-clang/Work/PKGS/MixGHD.Rcheck’ * using R Under development (unstable) (2025-07-13 r88407) * using platform: x86_64-pc-linux-gnu * R was compiled by Debian clang version 19.1.7 (3+b1) Debian flang-new version 19.1.7 (3+b1) * running under: Debian GNU/Linux 13 (trixie) * using session charset: UTF-8 * checking for file ‘MixGHD/DESCRIPTION’ ... OK * checking extension type ... Package * this is package ‘MixGHD’ version ‘2.3.7’ * checking CRAN incoming feasibility ... [1s/1s] NOTE Maintainer: ‘Cristina Tortora ’ No Authors@R field in DESCRIPTION. Please add one, modifying Authors@R: c(person(given = "Cristina", family = "Tortora", role = c("aut", "cre", "cph"), email = "grikris1@gmail.com"), person(given = "Aisha", family = "ElSherbiny", role = "com"), person(given = c("Ryan", "P."), family = "Browne", role = c("aut", "cph")), person(given = c("Brian", "C."), family = "Franczak", role = c("aut", "cph")), person(given = c("and", "Paul", "D."), family = "McNicholas", role = c("aut", "cph")), person(given = c("Donald", "D."), family = "Amos.", role = "ctb")) as necessary. * checking package namespace information ... OK * checking package dependencies ... OK * checking if this is a source package ... OK * checking if there is a namespace ... OK * checking for executable files ... OK * checking for hidden files and directories ... OK * checking for portable file names ... OK * checking for sufficient/correct file permissions ... OK * checking serialization versions ... OK * checking whether package ‘MixGHD’ can be installed ... OK See 'https://www.r-project.org/nosvn/R.check/r-devel-linux-x86_64-debian-clang/MixGHD-00install.html' for details. * checking package directory ... OK * checking for future file timestamps ... OK * checking DESCRIPTION meta-information ... OK * checking top-level files ... OK * checking for left-over files ... OK * checking index information ... OK * checking package subdirectories ... OK * checking code files for non-ASCII characters ... OK * checking R files for syntax errors ... OK * checking whether the package can be loaded ... [1s/2s] OK * checking whether the package can be loaded with stated dependencies ... [1s/2s] OK * checking whether the package can be unloaded cleanly ... [1s/2s] OK * checking whether the namespace can be loaded with stated dependencies ... [1s/2s] OK * checking whether the namespace can be unloaded cleanly ... [1s/1s] OK * checking loading without being on the library search path ... [1s/2s] OK * checking use of S3 registration ... OK * checking dependencies in R code ... OK * checking S3 generic/method consistency ... OK * checking replacement functions ... OK * checking foreign function calls ... OK * checking R code for possible problems ... [20s/26s] OK * checking Rd files ... [0s/1s] OK * checking Rd metadata ... OK * checking Rd line widths ... OK * checking Rd cross-references ... OK * checking for missing documentation entries ... OK * checking for code/documentation mismatches ... OK * checking Rd \usage sections ... OK * checking Rd contents ... OK * checking for unstated dependencies in examples ... OK * checking contents of ‘data’ directory ... OK * checking data for non-ASCII characters ... [0s/0s] OK * checking data for ASCII and uncompressed saves ... OK * checking examples ... [47s/58s] OK Examples with CPU (user + system) or elapsed time > 5s user system elapsed plot.MixGHD 5.747 0.000 8.088 MGHD 5.724 0.008 6.241 MixGHD-class 5.569 0.000 6.417 contourpl 5.481 0.000 6.304 dMSGHD 4.851 0.000 6.650 * checking PDF version of manual ... [5s/7s] OK * checking HTML version of manual ... [1s/2s] OK * checking for non-standard things in the check directory ... OK * DONE Status: 1 NOTE