- using R Under development (unstable) (2025-10-28 r88973)
 
- using platform: x86_64-pc-linux-gnu
 
- R was compiled by
    Debian clang version 19.1.7 (7)
    Debian flang-new version 19.1.7 (7)
 
- running under: Debian GNU/Linux forky/sid
 
- using session charset: UTF-8
 
- checking for file ‘LatticeKrig/DESCRIPTION’ ... OK
 
- this is package ‘LatticeKrig’ version ‘9.3.0’
 
- checking CRAN incoming feasibility ... [1s/2s] OK
 
- checking package namespace information ... OK
 
- checking package dependencies ... OK
 
- checking if this is a source package ... OK
 
- checking if there is a namespace ... OK
 
- checking for executable files ... OK
 
- checking for hidden files and directories ... OK
 
- checking for portable file names ... OK
 
- checking for sufficient/correct file permissions ... OK
 
- checking whether package ‘LatticeKrig’ can be installed ... OK
See the install log for details.
 
- used C compiler: ‘Debian clang version 19.1.7 (7)’
 
- used Fortran compiler: ‘Debian flang-new version 19.1.7 (7)’
 
- checking package directory ... OK
 
- checking for future file timestamps ... OK
 
- checking DESCRIPTION meta-information ... OK
 
- checking top-level files ... OK
 
- checking for left-over files ... OK
 
- checking index information ... OK
 
- checking package subdirectories ... OK
 
- checking code files for non-ASCII characters ... OK
 
- checking R files for syntax errors ... OK
 
- checking whether the package can be loaded ... [1s/2s] OK
 
- checking whether the package can be loaded with stated dependencies ... [1s/2s] OK
 
- checking whether the package can be unloaded cleanly ... [1s/2s] OK
 
- checking whether the namespace can be loaded with stated dependencies ... [1s/1s] OK
 
- checking whether the namespace can be unloaded cleanly ... [1s/2s] OK
 
- checking loading without being on the library search path ... [2s/2s] OK
 
- checking use of S3 registration ... OK
 
- checking dependencies in R code ... OK
 
- checking S3 generic/method consistency ... OK
 
- checking replacement functions ... OK
 
- checking foreign function calls ... OK
 
- checking R code for possible problems ... [20s/25s] OK
 
- checking Rd files ... [1s/1s] OK
 
- checking Rd metadata ... OK
 
- checking Rd line widths ... OK
 
- checking Rd cross-references ... OK
 
- checking for missing documentation entries ... OK
 
- checking for code/documentation mismatches ... OK
 
- checking Rd \usage sections ... OK
 
- checking Rd contents ... OK
 
- checking for unstated dependencies in examples ... OK
 
- checking contents of ‘data’ directory ... OK
 
- checking data for non-ASCII characters ... [0s/0s] OK
 
- checking data for ASCII and uncompressed saves ... OK
 
- checking line endings in C/C++/Fortran sources/headers ... OK
 
- checking pragmas in C/C++ headers and code ... OK
 
- checking compilation flags used ... OK
 
- checking compiled code ... OK
 
- checking usage of KIND in Fortran files ... OK
 
- checking examples ... [49s/59s] OK
Examples with CPU (user + system) or elapsed time > 5s
                     user system elapsed
LatticeKrig         8.991  0.000  10.470
LKrig.basis         7.326  0.067   9.031
nonstationaryModels 6.914  0.103   8.767
LKrig               5.980  0.055   7.230
LKrig.MLE           5.979  0.010   6.863
 
- checking for unstated dependencies in ‘tests’ ... OK
 
- checking tests ... [332s/420s] OK
  Running ‘LKrig.FindNorm.test.R’ [11s/16s]
  Comparing ‘LKrig.FindNorm.test.Rout’ to ‘LKrig.FindNorm.test.Rout.save’ ... OK
  Running ‘LKrig.LKCylinder.test.R’ [2s/3s]
  Comparing ‘LKrig.LKCylinder.test.Rout’ to ‘LKrig.LKCylinder.test.Rout.save’ ... OK
  Running ‘LKrig.LKSphere.test.R’ [12s/16s]
  Running ‘LKrig.basis.test.R’ [3s/4s]
  Comparing ‘LKrig.basis.test.Rout’ to ‘LKrig.basis.test.Rout.save’ ... OK
  Running ‘LKrig.fixedPart.test.R’ [7s/9s]
  Comparing ‘LKrig.fixedPart.test.Rout’ to ‘LKrig.fixedPart.test.Rout.save’ ... OK
  Running ‘LKrig.lnPLike.test.R’ [37s/44s]
  Running ‘LKrig.nullspace.test.R’ [7s/8s]
  Comparing ‘LKrig.nullspace.test.Rout’ to ‘LKrig.nullspace.test.Rout.save’ ... OK
  Running ‘LKrig.precision.test.R’ [13s/16s]
  Comparing ‘LKrig.precision.test.Rout’ to ‘LKrig.precision.test.Rout.save’ ... OK
  Running ‘LKrig.se.test.R’ [41s/56s]
  Comparing ‘LKrig.se.test.Rout’ to ‘LKrig.se.test.Rout.save’ ... OK
  Running ‘LKrig.test.3D.R’ [15s/19s]
  Comparing ‘LKrig.test.3D.Rout’ to ‘LKrig.test.3D.Rout.save’ ... OK
  Running ‘LKrig.test.Nonstationary.R’ [5s/6s]
  Running ‘LKrig.test.R’ [58s/75s]
  Comparing ‘LKrig.test.Rout’ to ‘LKrig.test.Rout.save’ ... OK
  Running ‘LKrig.test.inverse.R’ [4s/5s]
  Comparing ‘LKrig.test.inverse.Rout’ to ‘LKrig.test.inverse.Rout.save’ ... OK
  Running ‘LKrig.testFindAwght.R’ [95s/114s]
  Comparing ‘LKrig.testFindAwght.Rout’ to ‘LKrig.testFindAwght.Rout.save’ ... OK
  Running ‘LKrigMarginalVariance.test.R’ [3s/4s]
  Comparing ‘LKrigMarginalVariance.test.Rout’ to ‘LKrigMarginalVariance.test.Rout.save’ ... OK
  Running ‘LKrigNormalizeBasis.test.R’ [18s/22s]
  Comparing ‘LKrigNormalizeBasis.test.Rout’ to ‘LKrigNormalizeBasis.test.Rout.save’ ... OK
  Running ‘LKrigSetup.test.R’ [1s/2s]
 
- checking PDF version of manual ... [9s/12s] OK
 
- checking HTML version of manual ... [3s/5s] OK
 
- checking for non-standard things in the check directory ... OK
 
- DONE
 
Status: OK