- using R Under development (unstable) (2025-10-19 r88945)
- using platform: x86_64-pc-linux-gnu
- R was compiled by
Debian clang version 19.1.7 (7)
Debian flang-new version 19.1.7 (7)
- running under: Debian GNU/Linux forky/sid
- using session charset: UTF-8
- checking for file ‘KGode/DESCRIPTION’ ... OK
- this is package ‘KGode’ version ‘1.0.5’
- package encoding: UTF-8
- checking CRAN incoming feasibility ... [1s/1s] OK
- checking package namespace information ... OK
- checking package dependencies ... OK
- checking if this is a source package ... OK
- checking if there is a namespace ... OK
- checking for executable files ... OK
- checking for hidden files and directories ... OK
- checking for portable file names ... OK
- checking for sufficient/correct file permissions ... OK
- checking serialization versions ... OK
- checking whether package ‘KGode’ can be installed ... OK
See the install log for details.
- checking package directory ... OK
- checking for future file timestamps ... OK
- checking DESCRIPTION meta-information ... OK
- checking top-level files ... OK
- checking for left-over files ... OK
- checking index information ... OK
- checking package subdirectories ... OK
- checking code files for non-ASCII characters ... OK
- checking R files for syntax errors ... OK
- checking whether the package can be loaded ... [0s/0s] OK
- checking whether the package can be loaded with stated dependencies ... [0s/0s] OK
- checking whether the package can be unloaded cleanly ... [0s/0s] OK
- checking whether the namespace can be loaded with stated dependencies ... [0s/0s] OK
- checking whether the namespace can be unloaded cleanly ... [0s/0s] OK
- checking loading without being on the library search path ... [0s/0s] OK
- checking use of S3 registration ... OK
- checking dependencies in R code ... OK
- checking S3 generic/method consistency ... OK
- checking replacement functions ... OK
- checking foreign function calls ... OK
- checking R code for possible problems ... [5s/6s] OK
- checking Rd files ... [1s/1s] OK
- checking Rd metadata ... OK
- checking Rd line widths ... OK
- checking Rd cross-references ... OK
- checking for missing documentation entries ... OK
- checking for code/documentation mismatches ... OK
- checking Rd \usage sections ... OK
- checking Rd contents ... OK
- checking for unstated dependencies in examples ... OK
- checking examples ... [26s/34s] OK
Examples with CPU (user + system) or elapsed time > 5s
user system elapsed
warpfun 6.727 0.003 8.891
warpInitLen 5.868 0.000 7.406
crossv 3.758 0.009 5.949
- checking PDF version of manual ... [6s/8s] OK
- checking HTML version of manual ... [2s/3s] NOTE
Found the following HTML validation problems:
Kernel.html:64:1 (Kernel.Rd:35): Warning: <h3> anchor "Methods" already defined
Kernel.html:115:1 (Kernel.Rd:59): Warning: <h5> anchor "Usage" already defined
Kernel.html:129:1 (Kernel.Rd:68): Warning: <h5> anchor "Usage" already defined
Kernel.html:143:1 (Kernel.Rd:77): Warning: <h5> anchor "Usage" already defined
Kernel.html:157:1 (Kernel.Rd:86): Warning: <h5> anchor "Usage" already defined
Kernel.html:173:1 (Kernel.Rd:96): Warning: <h5> anchor "Usage" already defined
MLP.html:103:1 (MLP.Rd:54): Warning: <h5> anchor "Usage" already defined
MLP.html:117:1 (MLP.Rd:63): Warning: <h5> anchor "Usage" already defined
MLP.html:131:1 (MLP.Rd:72): Warning: <h5> anchor "Usage" already defined
MLP.html:145:1 (MLP.Rd:81): Warning: <h5> anchor "Usage" already defined
MLP.html:161:1 (MLP.Rd:91): Warning: <h5> anchor "Usage" already defined
RBF.html:103:1 (RBF.Rd:54): Warning: <h5> anchor "Usage" already defined
RBF.html:117:1 (RBF.Rd:63): Warning: <h5> anchor "Usage" already defined
RBF.html:131:1 (RBF.Rd:72): Warning: <h5> anchor "Usage" already defined
RBF.html:145:1 (RBF.Rd:81): Warning: <h5> anchor "Usage" already defined
RBF.html:161:1 (RBF.Rd:91): Warning: <h5> anchor "Usage" already defined
Warp.html:72:1 (Warp.Rd:43): Warning: <h3> anchor "Methods" already defined
Warp.html:129:1 (Warp.Rd:69): Warning: <h5> anchor "Usage" already defined
Warp.html:143:1 (Warp.Rd:78): Warning: <h5> anchor "Usage" already defined
Warp.html:157:1 (Warp.Rd:87): Warning: <h5> anchor "Usage" already defined
Warp.html:171:1 (Warp.Rd:96): Warning: <h5> anchor "Usage" already defined
Warp.html:185:1 (Warp.Rd:105): Warning: <h5> anchor "Usage" already defined
Warp.html:199:1 (Warp.Rd:114): Warning: <h5> anchor "Usage" already defined
Warp.html:215:1 (Warp.Rd:124): Warning: <h5> anchor "Usage" already defined
ode.html:69:1 (ode.Rd:83): Warning: <h3> anchor "Methods" already defined
ode.html:142:1 (ode.Rd:119): Warning: <h5> anchor "Usage" already defined
ode.html:156:1 (ode.Rd:128): Warning: <h5> anchor "Usage" already defined
ode.html:170:1 (ode.Rd:137): Warning: <h5> anchor "Usage" already defined
ode.html:184:1 (ode.Rd:146): Warning: <h5> anchor "Usage" already defined
ode.html:198:1 (ode.Rd:155): Warning: <h5> anchor "Usage" already defined
ode.html:212:1 (ode.Rd:164): Warning: <h5> anchor "Usage" already defined
ode.html:226:1 (ode.Rd:173): Warning: <h5> anchor "Usage" already defined
ode.html:240:1 (ode.Rd:182): Warning: <h5> anchor "Usage" already defined
ode.html:254:1 (ode.Rd:191): Warning: <h5> anchor "Usage" already defined
ode.html:270:1 (ode.Rd:201): Warning: <h5> anchor "Usage" already defined
rkg3.html:78:1 (rkg3.Rd:44): Warning: <h3> anchor "Methods" already defined
rkg3.html:147:1 (rkg3.Rd:74): Warning: <h5> anchor "Usage" already defined
rkg3.html:161:1 (rkg3.Rd:83): Warning: <h5> anchor "Usage" already defined
rkg3.html:175:1 (rkg3.Rd:92): Warning: <h5> anchor "Usage" already defined
rkg3.html:189:1 (rkg3.Rd:101): Warning: <h5> anchor "Usage" already defined
rkg3.html:203:1 (rkg3.Rd:110): Warning: <h5> anchor "Usage" already defined
rkg3.html:217:1 (rkg3.Rd:119): Warning: <h5> anchor "Usage" already defined
rkg3.html:231:1 (rkg3.Rd:128): Warning: <h5> anchor "Usage" already defined
rkg3.html:245:1 (rkg3.Rd:137): Warning: <h5> anchor "Usage" already defined
rkg3.html:259:1 (rkg3.Rd:146): Warning: <h5> anchor "Usage" already defined
rkg3.html:273:1 (rkg3.Rd:155): Warning: <h5> anchor "Usage" already defined
rkg3.html:289:1 (rkg3.Rd:165): Warning: <h5> anchor "Usage" already defined
rkhs.html:70:1 (rkhs.Rd:142): Warning: <h3> anchor "Methods" already defined
rkhs.html:142:1 (rkhs.Rd:173): Warning: <h5> anchor "Usage" already defined
rkhs.html:156:1 (rkhs.Rd:182): Warning: <h5> anchor "Usage" already defined
rkhs.html:170:1 (rkhs.Rd:191): Warning: <h5> anchor "Usage" already defined
rkhs.html:184:1 (rkhs.Rd:200): Warning: <h5> anchor "Usage" already defined
rkhs.html:198:1 (rkhs.Rd:209): Warning: <h5> anchor "Usage" already defined
rkhs.html:212:1 (rkhs.Rd:218): Warning: <h5> anchor "Usage" already defined
rkhs.html:226:1 (rkhs.Rd:227): Warning: <h5> anchor "Usage" already defined
rkhs.html:240:1 (rkhs.Rd:236): Warning: <h5> anchor "Usage" already defined
rkhs.html:254:1 (rkhs.Rd:245): Warning: <h5> anchor "Usage" already defined
rkhs.html:268:1 (rkhs.Rd:254): Warning: <h5> anchor "Usage" already defined
rkhs.html:282:1 (rkhs.Rd:263): Warning: <h5> anchor "Usage" already defined
rkhs.html:298:1 (rkhs.Rd:273): Warning: <h5> anchor "Usage" already defined
- checking for non-standard things in the check directory ... OK
- DONE
Status: 1 NOTE