- using R Under development (unstable) (2022-08-03 r82668)
- using platform: x86_64-pc-linux-gnu (64-bit)
- using session charset: ISO8859-15
- checking for file 'IGP/DESCRIPTION' ... OK
- checking extension type ... Package
- this is package 'IGP' version '0.2.0'
- package encoding: UTF-8
- checking package namespace information ... OK
- checking package dependencies ... OK
- checking if this is a source package ... OK
- checking if there is a namespace ... OK
- checking for executable files ... OK
- checking for hidden files and directories ... OK
- checking for portable file names ... OK
- checking for sufficient/correct file permissions ... OK
- checking serialization versions ... OK
- checking whether package 'IGP' can be installed ... OK
- checking package directory ... OK
- checking for future file timestamps ... OK
- checking DESCRIPTION meta-information ... OK
- checking top-level files ... OK
- checking for left-over files ... OK
- checking index information ... OK
- checking package subdirectories ... OK
- checking R files for non-ASCII characters ... OK
- checking R files for syntax errors ... OK
- checking whether the package can be loaded ... OK
- checking whether the package can be loaded with stated dependencies ... OK
- checking whether the package can be unloaded cleanly ... OK
- checking whether the namespace can be loaded with stated dependencies ... OK
- checking whether the namespace can be unloaded cleanly ... OK
- checking loading without being on the library search path ... OK
- checking use of S3 registration ... OK
- checking dependencies in R code ... OK
- checking S3 generic/method consistency ... OK
- checking replacement functions ... OK
- checking foreign function calls ... OK
- checking R code for possible problems ... [13s/16s] OK
- checking Rd files ... [2s/2s] OK
- checking Rd metadata ... OK
- checking Rd line widths ... OK
- checking Rd cross-references ... OK
- checking for missing documentation entries ... OK
- checking for code/documentation mismatches ... OK
- checking Rd \usage sections ... OK
- checking Rd contents ... OK
- checking for unstated dependencies in examples ... OK
- checking examples ... [20s/24s] OK
Examples with CPU (user + system) or elapsed time > 5s
user system elapsed
IGP_hetGP 6.028 0.019 7.173
- checking for unstated dependencies in 'tests' ... OK
- checking tests ... [8s/10s] OK
Running 'testthat.R' [8s/9s]
- checking PDF version of manual ... OK
- checking HTML version of manual ... NOTE
Found the following HTML validation problems:
IGP_CGP.html:145:6: Warning: missing </span> before <p>
IGP_CGP.html:145:85: Warning: inserting implicit <span>
IGP_CGP.html:148:6: Warning: missing </span> before <p>
IGP_CGP.html:148:81: Warning: inserting implicit <span>
IGP_CGP.html:151:6: Warning: missing </span> before <p>
IGP_CGP.html:151:83: Warning: inserting implicit <span>
IGP_CGP.html:154:6: Warning: missing </span> before <p>
IGP_CGP.html:154:79: Warning: inserting implicit <span>
IGP_CGP.html:157:6: Warning: missing </span> before <p>
IGP_CGP.html:157:90: Warning: inserting implicit <span>
IGP_CGP.html:160:6: Warning: missing </span> before <p>
IGP_CGP.html:160:84: Warning: inserting implicit <span>
IGP_CGP.html:163:6: Warning: missing </span> before <p>
IGP_CGP.html:163:83: Warning: inserting implicit <span>
IGP_CGP.html:166:6: Warning: missing </span> before <p>
IGP_CGP.html:166:79: Warning: inserting implicit <span>
IGP_CGP.html:169:6: Warning: missing </span> before <p>
IGP_CGP.html:169:85: Warning: inserting implicit <span>
IGP_CGP.html:172:6: Warning: missing </span> before <p>
IGP_CGP.html:172:82: Warning: inserting implicit <span>
IGP_CGP.html:175:6: Warning: missing </span> before <p>
IGP_CGP.html:175:79: Warning: inserting implicit <span>
IGP_CGP.html:178:6: Warning: missing </span> before <p>
IGP_CGP.html:178:81: Warning: inserting implicit <span>
IGP_CGP.html:181:6: Warning: missing </span> before <p>
IGP_CGP.html:181:79: Warning: inserting implicit <span>
IGP_CGP.html:184:6: Warning: missing </span> before <p>
IGP_CGP.html:184:82: Warning: inserting implicit <span>
IGP_CGP.html:187:6: Warning: missing </span> before <p>
IGP_CGP.html:187:85: Warning: inserting implicit <span>
IGP_CGP.html:190:6: Warning: missing </span> before <p>
IGP_CGP.html:190:86: Warning: inserting implicit <span>
IGP_CGP.html:193:6: Warning: missing </span> before <p>
IGP_CGP.html:193:90: Warning: inserting implicit <span>
IGP_CGP.html:196:6: Warning: missing </span> before <p>
IGP_CGP.html:196:77: Warning: inserting implicit <span>
IGP_CGP.html:199:6: Warning: missing </span> before <p>
IGP_CGP.html:199:81: Warning: inserting implicit <span>
IGP_CGP.html:202:6: Warning: missing </span> before <p>
IGP_CGP.html:202:80: Warning: inserting implicit <span>
IGP_CGP.html:205:6: Warning: missing </span> before <p>
IGP_CGP.html:205:81: Warning: inserting implicit <span>
IGP_CGP.html:145:6: Warning: trimming empty <span>
IGP_CGP.html:148:6: Warning: trimming empty <span>
IGP_CGP.html:151:6: Warning: trimming empty <span>
IGP_CGP.html:154:6: Warning: trimming empty <span>
IGP_CGP.html:157:6: Warning: trimming empty <span>
IGP_CGP.html:160:6: Warning: trimming empty <span>
IGP_CGP.html:163:6: Warning: trimming empty <span>
IGP_CGP.html:166:6: Warning: trimming empty <span>
IGP_CGP.html:169:6: Warning: trimming empty <span>
IGP_CGP.html:172:6: Warning: trimming empty <span>
IGP_CGP.html:175:6: Warning: trimming empty <span>
IGP_CGP.html:178:6: Warning: trimming empty <span>
IGP_CGP.html:181:6: Warning: trimming empty <span>
IGP_CGP.html:184:6: Warning: trimming empty <span>
IGP_CGP.html:187:6: Warning: trimming empty <span>
IGP_CGP.html:190:6: Warning: trimming empty <span>
IGP_CGP.html:193:6: Warning: trimming empty <span>
IGP_CGP.html:196:6: Warning: trimming empty <span>
IGP_CGP.html:199:6: Warning: trimming empty <span>
IGP_CGP.html:202:6: Warning: trimming empty <span>
IGP_CGP.html:205:6: Warning: trimming empty <span>
IGP_DiceKriging.html:145:6: Warning: missing </span> before <p>
IGP_DiceKriging.html:145:85: Warning: inserting implicit <span>
IGP_DiceKriging.html:148:6: Warning: missing </span> before <p>
IGP_DiceKriging.html:148:81: Warning: inserting implicit <span>
IGP_DiceKriging.html:151:6: Warning: missing </span> before <p>
IGP_DiceKriging.html:151:83: Warning: inserting implicit <span>
IGP_DiceKriging.html:154:6: Warning: missing </span> before <p>
IGP_DiceKriging.html:154:79: Warning: inserting implicit <span>
IGP_DiceKriging.html:157:6: Warning: missing </span> before <p>
IGP_DiceKriging.html:157:90: Warning: inserting implicit <span>
IGP_DiceKriging.html:160:6: Warning: missing </span> before <p>
IGP_DiceKriging.html:160:84: Warning: inserting implicit <span>
IGP_DiceKriging.html:163:6: Warning: missing </span> before <p>
IGP_DiceKriging.html:163:83: Warning: inserting implicit <span>
IGP_DiceKriging.html:166:6: Warning: missing </span> before <p>
IGP_DiceKriging.html:166:79: Warning: inserting implicit <span>
IGP_DiceKriging.html:169:6: Warning: missing </span> before <p>
IGP_DiceKriging.html:169:85: Warning: inserting implicit <span>
IGP_DiceKriging.html:172:6: Warning: missing </span> before <p>
IGP_DiceKriging.html:172:82: Warning: inserting implicit <span>
IGP_DiceKriging.html:175:6: Warning: missing </span> before <p>
IGP_DiceKriging.html:175:79: Warning: inserting implicit <span>
IGP_DiceKriging.html:178:6: Warning: missing </span> before <p>
IGP_DiceKriging.html:178:81: Warning: inserting implicit <span>
IGP_DiceKriging.html:181:6: Warning: missing </span> before <p>
IGP_DiceKriging.html:181:79: Warning: inserting implicit <span>
IGP_DiceKriging.html:184:6: Warning: missing </span> before <p>
IGP_DiceKriging.html:184:82: Warning: inserting implicit <span>
IGP_DiceKriging.html:187:6: Warning: missing </span> before <p>
IGP_DiceKriging.html:187:85: Warning: inserting implicit <span>
IGP_DiceKriging.html:190:6: Warning: missing </span> before <p>
IGP_DiceKriging.html:190:86: Warning: inserting implicit <span>
IGP_DiceKriging.html:193:6: Warning: missing </span> before <p>
IGP_DiceKriging.html:193:90: Warning: inserting implicit <span>
IGP_DiceKriging.html:196:6: Warning: missing </span> before <p>
IGP_DiceKriging.html:196:77: Warning: inserting implicit <span>
IGP_DiceKriging.html:199:6: Warning: missing </span> before <p>
IGP_DiceKriging.html:199:81: Warning: inserting implicit <span>
IGP_DiceKriging.html:202:6: Warning: missing </span> before <p>
IGP_DiceKriging.html:202:80: Warning: inserting implicit <span>
IGP_DiceKriging.html:205:6: Warning: missing </span> before <p>
IGP_DiceKriging.html:205:81: Warning: inserting implicit <span>
IGP_DiceKriging.html:145:6: Warning: trimming empty <span>
IGP_DiceKriging.html:148:6: Warning: trimming empty <span>
IGP_DiceKriging.html:151:6: Warning: trimming empty <span>
IGP_DiceKriging.html:154:6: Warning: trimming empty <span>
IGP_DiceKriging.html:157:6: Warning: trimming empty <span>
IGP_DiceKriging.html:160:6: Warning: trimming empty <span>
IGP_DiceKriging.html:163:6: Warning: trimming empty <span>
IGP_DiceKriging.html:166:6: Warning: trimming empty <span>
IGP_DiceKriging.html:169:6: Warning: trimming empty <span>
IGP_DiceKriging.html:172:6: Warning: trimming empty <span>
IGP_DiceKriging.html:175:6: Warning: trimming empty <span>
IGP_DiceKriging.html:178:6: Warning: trimming empty <span>
IGP_DiceKriging.html:181:6: Warning: trimming empty <span>
IGP_DiceKriging.html:184:6: Warning: trimming empty <span>
IGP_DiceKriging.html:187:6: Warning: trimming empty <span>
IGP_DiceKriging.html:190:6: Warning: trimming empty <span>
IGP_DiceKriging.html:193:6: Warning: trimming empty <span>
IGP_DiceKriging.html:196:6: Warning: trimming empty <span>
IGP_DiceKriging.html:199:6: Warning: trimming empty <span>
IGP_DiceKriging.html:202:6: Warning: trimming empty <span>
IGP_DiceKriging.html:205:6: Warning: trimming empty <span>
IGP_GPfit.html:145:6: Warning: missing </span> before <p>
IGP_GPfit.html:145:85: Warning: inserting implicit <span>
IGP_GPfit.html:148:6: Warning: missing </span> before <p>
IGP_GPfit.html:148:81: Warning: inserting implicit <span>
IGP_GPfit.html:151:6: Warning: missing </span> before <p>
IGP_GPfit.html:151:83: Warning: inserting implicit <span>
IGP_GPfit.html:154:6: Warning: missing </span> before <p>
IGP_GPfit.html:154:79: Warning: inserting implicit <span>
IGP_GPfit.html:157:6: Warning: missing </span> before <p>
IGP_GPfit.html:157:90: Warning: inserting implicit <span>
IGP_GPfit.html:160:6: Warning: missing </span> before <p>
IGP_GPfit.html:160:84: Warning: inserting implicit <span>
IGP_GPfit.html:163:6: Warning: missing </span> before <p>
IGP_GPfit.html:163:83: Warning: inserting implicit <span>
IGP_GPfit.html:166:6: Warning: missing </span> before <p>
IGP_GPfit.html:166:79: Warning: inserting implicit <span>
IGP_GPfit.html:169:6: Warning: missing </span> before <p>
IGP_GPfit.html:169:85: Warning: inserting implicit <span>
IGP_GPfit.html:172:6: Warning: missing </span> before <p>
IGP_GPfit.html:172:82: Warning: inserting implicit <span>
IGP_GPfit.html:175:6: Warning: missing </span> before <p>
IGP_GPfit.html:175:79: Warning: inserting implicit <span>
IGP_GPfit.html:178:6: Warning: missing </span> before <p>
IGP_GPfit.html:178:81: Warning: inserting implicit <span>
IGP_GPfit.html:181:6: Warning: missing </span> before <p>
IGP_GPfit.html:181:79: Warning: inserting implicit <span>
IGP_GPfit.html:184:6: Warning: missing </span> before <p>
IGP_GPfit.html:184:82: Warning: inserting implicit <span>
IGP_GPfit.html:187:6: Warning: missing </span> before <p>
IGP_GPfit.html:187:85: Warning: inserting implicit <span>
IGP_GPfit.html:190:6: Warning: missing </span> before <p>
IGP_GPfit.html:190:86: Warning: inserting implicit <span>
IGP_GPfit.html:193:6: Warning: missing </span> before <p>
IGP_GPfit.html:193:90: Warning: inserting implicit <span>
IGP_GPfit.html:196:6: Warning: missing </span> before <p>
IGP_GPfit.html:196:77: Warning: inserting implicit <span>
IGP_GPfit.html:199:6: Warning: missing </span> before <p>
IGP_GPfit.html:199:81: Warning: inserting implicit <span>
IGP_GPfit.html:202:6: Warning: missing </span> before <p>
IGP_GPfit.html:202:80: Warning: inserting implicit <span>
IGP_GPfit.html:205:6: Warning: missing </span> before <p>
IGP_GPfit.html:205:81: Warning: inserting implicit <span>
IGP_GPfit.html:145:6: Warning: trimming empty <span>
IGP_GPfit.html:148:6: Warning: trimming empty <span>
IGP_GPfit.html:151:6: Warning: trimming empty <span>
IGP_GPfit.html:154:6: Warning: trimming empty <span>
IGP_GPfit.html:157:6: Warning: trimming empty <span>
IGP_GPfit.html:160:6: Warning: trimming empty <span>
IGP_GPfit.html:163:6: Warning: trimming empty <span>
IGP_GPfit.html:166:6: Warning: trimming empty <span>
IGP_GPfit.html:169:6: Warning: trimming empty <span>
IGP_GPfit.html:172:6: Warning: trimming empty <span>
IGP_GPfit.html:175:6: Warning: trimming empty <span>
IGP_GPfit.html:178:6: Warning: trimming empty <span>
IGP_GPfit.html:181:6: Warning: trimming empty <span>
IGP_GPfit.html:184:6: Warning: trimming empty <span>
IGP_GPfit.html:187:6: Warning: trimming empty <span>
IGP_GPfit.html:190:6: Warning: trimming empty <span>
IGP_GPfit.html:193:6: Warning: trimming empty <span>
IGP_GPfit.html:196:6: Warning: trimming empty <span>
IGP_GPfit.html:199:6: Warning: trimming empty <span>
IGP_GPfit.html:202:6: Warning: trimming empty <span>
IGP_GPfit.html:205:6: Warning: trimming empty <span>
IGP_GPy.html:139:6: Warning: missing </span> before <p>
IGP_GPy.html:139:85: Warning: inserting implicit <span>
IGP_GPy.html:142:6: Warning: missing </span> before <p>
IGP_GPy.html:142:81: Warning: inserting implicit <span>
IGP_GPy.html:145:6: Warning: missing </span> before <p>
IGP_GPy.html:145:83: Warning: inserting implicit <span>
IGP_GPy.html:148:6: Warning: missing </span> before <p>
IGP_GPy.html:148:79: Warning: inserting implicit <span>
IGP_GPy.html:151:6: Warning: missing </span> before <p>
IGP_GPy.html:151:90: Warning: inserting implicit <span>
IGP_GPy.html:154:6: Warning: missing </span> before <p>
IGP_GPy.html:154:84: Warning: inserting implicit <span>
IGP_GPy.html:157:6: Warning: missing </span> before <p>
IGP_GPy.html:157:83: Warning: inserting implicit <span>
IGP_GPy.html:160:6: Warning: missing </span> before <p>
IGP_GPy.html:160:79: Warning: inserting implicit <span>
IGP_GPy.html:163:6: Warning: missing </span> before <p>
IGP_GPy.html:163:85: Warning: inserting implicit <span>
IGP_GPy.html:166:6: Warning: missing </span> before <p>
IGP_GPy.html:166:82: Warning: inserting implicit <span>
IGP_GPy.html:169:6: Warning: missing </span> before <p>
IGP_GPy.html:169:79: Warning: inserting implicit <span>
IGP_GPy.html:172:6: Warning: missing </span> before <p>
IGP_GPy.html:172:81: Warning: inserting implicit <span>
IGP_GPy.html:175:6: Warning: missing </span> before <p>
IGP_GPy.html:175:79: Warning: inserting implicit <span>
IGP_GPy.html:178:6: Warning: missing </span> before <p>
IGP_GPy.html:178:82: Warning: inserting implicit <span>
IGP_GPy.html:181:6: Warning: missing </span> before <p>
IGP_GPy.html:181:85: Warning: inserting implicit <span>
IGP_GPy.html:184:6: Warning: missing </span> before <p>
IGP_GPy.html:184:86: Warning: inserting implicit <span>
IGP_GPy.html:187:6: Warning: missing </span> before <p>
IGP_GPy.html:187:90: Warning: inserting implicit <span>
IGP_GPy.html:190:6: Warning: missing </span> before <p>
IGP_GPy.html:190:77: Warning: inserting implicit <span>
IGP_GPy.html:193:6: Warning: missing </span> before <p>
IGP_GPy.html:193:81: Warning: inserting implicit <span>
IGP_GPy.html:196:6: Warning: missing </span> before <p>
IGP_GPy.html:196:80: Warning: inserting implicit <span>
IGP_GPy.html:199:6: Warning: missing </span> before <p>
IGP_GPy.html:199:81: Warning: inserting implicit <span>
IGP_GPy.html:139:6: Warning: trimming empty <span>
IGP_GPy.html:142:6: Warning: trimming empty <span>
IGP_GPy.html:145:6: Warning: trimming empty <span>
IGP_GPy.html:148:6: Warning: trimming empty <span>
IGP_GPy.html:151:6: Warning: trimming empty <span>
IGP_GPy.html:154:6: Warning: trimming empty <span>
IGP_GPy.html:157:6: Warning: trimming empty <span>
IGP_GPy.html:160:6: Warning: trimming empty <span>
IGP_GPy.html:163:6: Warning: trimming empty <span>
IGP_GPy.html:166:6: Warning: trimming empty <span>
IGP_GPy.html:169:6: Warning: trimming empty <span>
IGP_GPy.html:172:6: Warning: trimming empty <span>
IGP_GPy.html:175:6: Warning: trimming empty <span>
IGP_GPy.html:178:6: Warning: trimming empty <span>
IGP_GPy.html:181:6: Warning: trimming empty <span>
IGP_GPy.html:184:6: Warning: trimming empty <span>
IGP_GPy.html:187:6: Warning: trimming empty <span>
IGP_GPy.html:190:6: Warning: trimming empty <span>
IGP_GPy.html:193:6: Warning: trimming empty <span>
IGP_GPy.html:196:6: Warning: trimming empty <span>
IGP_GPy.html:199:6: Warning: trimming empty <span>
IGP_GauPro.html:148:6: Warning: missing </span> before <p>
IGP_GauPro.html:148:85: Warning: inserting implicit <span>
IGP_GauPro.html:151:6: Warning: missing </span> before <p>
IGP_GauPro.html:151:81: Warning: inserting implicit <span>
IGP_GauPro.html:154:6: Warning: missing </span> before <p>
IGP_GauPro.html:154:83: Warning: inserting implicit <span>
IGP_GauPro.html:157:6: Warning: missing </span> before <p>
IGP_GauPro.html:157:79: Warning: inserting implicit <span>
IGP_GauPro.html:160:6: Warning: missing </span> before <p>
IGP_GauPro.html:160:90: Warning: inserting implicit <span>
IGP_GauPro.html:163:6: Warning: missing </span> before <p>
IGP_GauPro.html:163:84: Warning: inserting implicit <span>
IGP_GauPro.html:166:6: Warning: missing </span> before <p>
IGP_GauPro.html:166:83: Warning: inserting implicit <span>
IGP_GauPro.html:169:6: Warning: missing </span> before <p>
IGP_GauPro.html:169:79: Warning: inserting implicit <span>
IGP_GauPro.html:172:6: Warning: missing </span> before <p>
IGP_GauPro.html:172:85: Warning: inserting implicit <span>
IGP_GauPro.html:175:6: Warning: missing </span> before <p>
IGP_GauPro.html:175:82: Warning: inserting implicit <span>
IGP_GauPro.html:178:6: Warning: missing </span> before <p>
IGP_GauPro.html:178:79: Warning: inserting implicit <span>
IGP_GauPro.html:181:6: Warning: missing </span> before <p>
IGP_GauPro.html:181:81: Warning: inserting implicit <span>
IGP_GauPro.html:184:6: Warning: missing </span> before <p>
IGP_GauPro.html:184:79: Warning: inserting implicit <span>
IGP_GauPro.html:187:6: Warning: missing </span> before <p>
IGP_GauPro.html:187:82: Warning: inserting implicit <span>
IGP_GauPro.html:190:6: Warning: missing </span> before <p>
IGP_GauPro.html:190:85: Warning: inserting implicit <span>
IGP_GauPro.html:193:6: Warning: missing </span> before <p>
IGP_GauPro.html:193:86: Warning: inserting implicit <span>
IGP_GauPro.html:196:6: Warning: missing </span> before <p>
IGP_GauPro.html:196:90: Warning: inserting implicit <span>
IGP_GauPro.html:199:6: Warning: missing </span> before <p>
IGP_GauPro.html:199:77: Warning: inserting implicit <span>
IGP_GauPro.html:202:6: Warning: missing </span> before <p>
IGP_GauPro.html:202:81: Warning: inserting implicit <span>
IGP_GauPro.html:205:6: Warning: missing </span> before <p>
IGP_GauPro.html:205:80: Warning: inserting implicit <span>
IGP_GauPro.html:208:6: Warning: missing </span> before <p>
IGP_GauPro.html:208:81: Warning: inserting implicit <span>
IGP_GauPro.html:148:6: Warning: trimming empty <span>
IGP_GauPro.html:151:6: Warning: trimming empty <span>
IGP_GauPro.html:154:6: Warning: trimming empty <span>
IGP_GauPro.html:157:6: Warning: trimming empty <span>
IGP_GauPro.html:160:6: Warning: trimming empty <span>
IGP_GauPro.html:163:6: Warning: trimming empty <span>
IGP_GauPro.html:166:6: Warning: trimming empty <span>
IGP_GauPro.html:169:6: Warning: trimming empty <span>
IGP_GauPro.html:172:6: Warning: trimming empty <span>
IGP_GauPro.html:175:6: Warning: trimming empty <span>
IGP_GauPro.html:178:6: Warning: trimming empty <span>
IGP_GauPro.html:181:6: Warning: trimming empty <span>
IGP_GauPro.html:184:6: Warning: trimming empty <span>
IGP_GauPro.html:187:6: Warning: trimming empty <span>
IGP_GauPro.html:190:6: Warning: trimming empty <span>
IGP_GauPro.html:193:6: Warning: trimming empty <span>
IGP_GauPro.html:196:6: Warning: trimming empty <span>
IGP_GauPro.html:199:6: Warning: trimming empty <span>
IGP_GauPro.html:202:6: Warning: trimming empty <span>
IGP_GauPro.html:205:6: Warning: trimming empty <span>
IGP_GauPro.html:208:6: Warning: trimming empty <span>
IGP_GauPro_kernel.html:148:6: Warning: missing </span> before <p>
IGP_GauPro_kernel.html:148:85: Warning: inserting implicit <span>
IGP_GauPro_kernel.html:151:6: Warning: missing </span> before <p>
IGP_GauPro_kernel.html:151:81: Warning: inserting implicit <span>
IGP_GauPro_kernel.html:154:6: Warning: missing </span> before <p>
IGP_GauPro_kernel.html:154:83: Warning: inserting implicit <span>
IGP_GauPro_kernel.html:157:6: Warning: missing </span> before <p>
IGP_GauPro_kernel.html:157:79: Warning: inserting implicit <span>
IGP_GauPro_kernel.html:160:6: Warning: missing </span> before <p>
IGP_GauPro_kernel.html:160:90: Warning: inserting implicit <span>
IGP_GauPro_kernel.html:163:6: Warning: missing </span> before <p>
IGP_GauPro_kernel.html:163:84: Warning: inserting implicit <span>
IGP_GauPro_kernel.html:166:6: Warning: missing </span> before <p>
IGP_GauPro_kernel.html:166:83: Warning: inserting implicit <span>
IGP_GauPro_kernel.html:169:6: Warning: missing </span> before <p>
IGP_GauPro_kernel.html:169:79: Warning: inserting implicit <span>
IGP_GauPro_kernel.html:172:6: Warning: missing </span> before <p>
IGP_GauPro_kernel.html:172:85: Warning: inserting implicit <span>
IGP_GauPro_kernel.html:175:6: Warning: missing </span> before <p>
IGP_GauPro_kernel.html:175:82: Warning: inserting implicit <span>
IGP_GauPro_kernel.html:178:6: Warning: missing </span> before <p>
IGP_GauPro_kernel.html:178:79: Warning: inserting implicit <span>
IGP_GauPro_kernel.html:181:6: Warning: missing </span> before <p>
IGP_GauPro_kernel.html:181:81: Warning: inserting implicit <span>
IGP_GauPro_kernel.html:184:6: Warning: missing </span> before <p>
IGP_GauPro_kernel.html:184:79: Warning: inserting implicit <span>
IGP_GauPro_kernel.html:187:6: Warning: missing </span> before <p>
IGP_GauPro_kernel.html:187:82: Warning: inserting implicit <span>
IGP_GauPro_kernel.html:190:6: Warning: missing </span> before <p>
IGP_GauPro_kernel.html:190:85: Warning: inserting implicit <span>
IGP_GauPro_kernel.html:193:6: Warning: missing </span> before <p>
IGP_GauPro_kernel.html:193:86: Warning: inserting implicit <span>
IGP_GauPro_kernel.html:196:6: Warning: missing </span> before <p>
IGP_GauPro_kernel.html:196:90: Warning: inserting implicit <span>
IGP_GauPro_kernel.html:199:6: Warning: missing </span> before <p>
IGP_GauPro_kernel.html:199:77: Warning: inserting implicit <span>
IGP_GauPro_kernel.html:202:6: Warning: missing </span> before <p>
IGP_GauPro_kernel.html:202:81: Warning: inserting implicit <span>
IGP_GauPro_kernel.html:205:6: Warning: missing </span> before <p>
IGP_GauPro_kernel.html:205:80: Warning: inserting implicit <span>
IGP_GauPro_kernel.html:208:6: Warning: missing </span> before <p>
IGP_GauPro_kernel.html:208:81: Warning: inserting implicit <span>
IGP_GauPro_kernel.html:148:6: Warning: trimming empty <span>
IGP_GauPro_kernel.html:151:6: Warning: trimming empty <span>
IGP_GauPro_kernel.html:154:6: Warning: trimming empty <span>
IGP_GauPro_kernel.html:157:6: Warning: trimming empty <span>
IGP_GauPro_kernel.html:160:6: Warning: trimming empty <span>
IGP_GauPro_kernel.html:163:6: Warning: trimming empty <span>
IGP_GauPro_kernel.html:166:6: Warning: trimming empty <span>
IGP_GauPro_kernel.html:169:6: Warning: trimming empty <span>
IGP_GauPro_kernel.html:172:6: Warning: trimming empty <span>
IGP_GauPro_kernel.html:175:6: Warning: trimming empty <span>
IGP_GauPro_kernel.html:178:6: Warning: trimming empty <span>
IGP_GauPro_kernel.html:181:6: Warning: trimming empty <span>
IGP_GauPro_kernel.html:184:6: Warning: trimming empty <span>
IGP_GauPro_kernel.html:187:6: Warning: trimming empty <span>
IGP_GauPro_kernel.html:190:6: Warning: trimming empty <span>
IGP_GauPro_kernel.html:193:6: Warning: trimming empty <span>
IGP_GauPro_kernel.html:196:6: Warning: trimming empty <span>
IGP_GauPro_kernel.html:199:6: Warning: trimming empty <span>
IGP_GauPro_kernel.html:202:6: Warning: trimming empty <span>
IGP_GauPro_kernel.html:205:6: Warning: trimming empty <span>
IGP_GauPro_kernel.html:208:6: Warning: trimming empty <span>
IGP_LOOEC_GauPro_kernel.html:148:6: Warning: missing </span> before <p>
IGP_LOOEC_GauPro_kernel.html:148:85: Warning: inserting implicit <span>
IGP_LOOEC_GauPro_kernel.html:151:6: Warning: missing </span> before <p>
IGP_LOOEC_GauPro_kernel.html:151:81: Warning: inserting implicit <span>
IGP_LOOEC_GauPro_kernel.html:154:6: Warning: missing </span> before <p>
IGP_LOOEC_GauPro_kernel.html:154:83: Warning: inserting implicit <span>
IGP_LOOEC_GauPro_kernel.html:157:6: Warning: missing </span> before <p>
IGP_LOOEC_GauPro_kernel.html:157:79: Warning: inserting implicit <span>
IGP_LOOEC_GauPro_kernel.html:160:6: Warning: missing </span> before <p>
IGP_LOOEC_GauPro_kernel.html:160:90: Warning: inserting implicit <span>
IGP_LOOEC_GauPro_kernel.html:163:6: Warning: missing </span> before <p>
IGP_LOOEC_GauPro_kernel.html:163:84: Warning: inserting implicit <span>
IGP_LOOEC_GauPro_kernel.html:166:6: Warning: missing </span> before <p>
IGP_LOOEC_GauPro_kernel.html:166:83: Warning: inserting implicit <span>
IGP_LOOEC_GauPro_kernel.html:169:6: Warning: missing </span> before <p>
IGP_LOOEC_GauPro_kernel.html:169:79: Warning: inserting implicit <span>
IGP_LOOEC_GauPro_kernel.html:172:6: Warning: missing </span> before <p>
IGP_LOOEC_GauPro_kernel.html:172:85: Warning: inserting implicit <span>
IGP_LOOEC_GauPro_kernel.html:175:6: Warning: missing </span> before <p>
IGP_LOOEC_GauPro_kernel.html:175:82: Warning: inserting implicit <span>
IGP_LOOEC_GauPro_kernel.html:178:6: Warning: missing </span> before <p>
IGP_LOOEC_GauPro_kernel.html:178:79: Warning: inserting implicit <span>
IGP_LOOEC_GauPro_kernel.html:181:6: Warning: missing </span> before <p>
IGP_LOOEC_GauPro_kernel.html:181:81: Warning: inserting implicit <span>
IGP_LOOEC_GauPro_kernel.html:184:6: Warning: missing </span> before <p>
IGP_LOOEC_GauPro_kernel.html:184:79: Warning: inserting implicit <span>
IGP_LOOEC_GauPro_kernel.html:187:6: Warning: missing </span> before <p>
IGP_LOOEC_GauPro_kernel.html:187:82: Warning: inserting implicit <span>
IGP_LOOEC_GauPro_kernel.html:190:6: Warning: missing </span> before <p>
IGP_LOOEC_GauPro_kernel.html:190:85: Warning: inserting implicit <span>
IGP_LOOEC_GauPro_kernel.html:193:6: Warning: missing </span> before <p>
IGP_LOOEC_GauPro_kernel.html:193:86: Warning: inserting implicit <span>
IGP_LOOEC_GauPro_kernel.html:196:6: Warning: missing </span> before <p>
IGP_LOOEC_GauPro_kernel.html:196:90: Warning: inserting implicit <span>
IGP_LOOEC_GauPro_kernel.html:199:6: Warning: missing </span> before <p>
IGP_LOOEC_GauPro_kernel.html:199:77: Warning: inserting implicit <span>
IGP_LOOEC_GauPro_kernel.html:202:6: Warning: missing </span> before <p>
IGP_LOOEC_GauPro_kernel.html:202:81: Warning: inserting implicit <span>
IGP_LOOEC_GauPro_kernel.html:205:6: Warning: missing </span> before <p>
IGP_LOOEC_GauPro_kernel.html:205:80: Warning: inserting implicit <span>
IGP_LOOEC_GauPro_kernel.html:208:6: Warning: missing </span> before <p>
IGP_LOOEC_GauPro_kernel.html:208:81: Warning: inserting implicit <span>
IGP_LOOEC_GauPro_kernel.html:148:6: Warning: trimming empty <span>
IGP_LOOEC_GauPro_kernel.html:151:6: Warning: trimming empty <span>
IGP_LOOEC_GauPro_kernel.html:154:6: Warning: trimming empty <span>
IGP_LOOEC_GauPro_kernel.html:157:6: Warning: trimming empty <span>
IGP_LOOEC_GauPro_kernel.html:160:6: Warning: trimming empty <span>
IGP_LOOEC_GauPro_kernel.html:163:6: Warning: trimming empty <span>
IGP_LOOEC_GauPro_kernel.html:166:6: Warning: trimming empty <span>
IGP_LOOEC_GauPro_kernel.html:169:6: Warning: trimming empty <span>
IGP_LOOEC_GauPro_kernel.html:172:6: Warning: trimming empty <span>
IGP_LOOEC_GauPro_kernel.html:175:6: Warning: trimming empty <span>
IGP_LOOEC_GauPro_kernel.html:178:6: Warning: trimming empty <span>
IGP_LOOEC_GauPro_kernel.html:181:6: Warning: trimming empty <span>
IGP_LOOEC_GauPro_kernel.html:184:6: Warning: trimming empty <span>
IGP_LOOEC_GauPro_kernel.html:187:6: Warning: trimming empty <span>
IGP_LOOEC_GauPro_kernel.html:190:6: Warning: trimming empty <span>
IGP_LOOEC_GauPro_kernel.html:193:6: Warning: trimming empty <span>
IGP_LOOEC_GauPro_kernel.html:196:6: Warning: trimming empty <span>
IGP_LOOEC_GauPro_kernel.html:199:6: Warning: trimming empty <span>
IGP_LOOEC_GauPro_kernel.html:202:6: Warning: trimming empty <span>
IGP_LOOEC_GauPro_kernel.html:205:6: Warning: trimming empty <span>
IGP_LOOEC_GauPro_kernel.html:208:6: Warning: trimming empty <span>
IGP_LOOEC_laGP_GauPro.html:149:6: Warning: missing </span> before <p>
IGP_LOOEC_laGP_GauPro.html:149:85: Warning: inserting implicit <span>
IGP_LOOEC_laGP_GauPro.html:152:6: Warning: missing </span> before <p>
IGP_LOOEC_laGP_GauPro.html:152:81: Warning: inserting implicit <span>
IGP_LOOEC_laGP_GauPro.html:155:6: Warning: missing </span> before <p>
IGP_LOOEC_laGP_GauPro.html:155:83: Warning: inserting implicit <span>
IGP_LOOEC_laGP_GauPro.html:158:6: Warning: missing </span> before <p>
IGP_LOOEC_laGP_GauPro.html:158:79: Warning: inserting implicit <span>
IGP_LOOEC_laGP_GauPro.html:161:6: Warning: missing </span> before <p>
IGP_LOOEC_laGP_GauPro.html:161:90: Warning: inserting implicit <span>
IGP_LOOEC_laGP_GauPro.html:164:6: Warning: missing </span> before <p>
IGP_LOOEC_laGP_GauPro.html:164:84: Warning: inserting implicit <span>
IGP_LOOEC_laGP_GauPro.html:167:6: Warning: missing </span> before <p>
IGP_LOOEC_laGP_GauPro.html:167:83: Warning: inserting implicit <span>
IGP_LOOEC_laGP_GauPro.html:170:6: Warning: missing </span> before <p>
IGP_LOOEC_laGP_GauPro.html:170:79: Warning: inserting implicit <span>
IGP_LOOEC_laGP_GauPro.html:173:6: Warning: missing </span> before <p>
IGP_LOOEC_laGP_GauPro.html:173:82: Warning: inserting implicit <span>
IGP_LOOEC_laGP_GauPro.html:176:6: Warning: missing </span> before <p>
IGP_LOOEC_laGP_GauPro.html:176:79: Warning: inserting implicit <span>
IGP_LOOEC_laGP_GauPro.html:179:6: Warning: missing </span> before <p>
IGP_LOOEC_laGP_GauPro.html:179:81: Warning: inserting implicit <span>
IGP_LOOEC_laGP_GauPro.html:182:6: Warning: missing </span> before <p>
IGP_LOOEC_laGP_GauPro.html:182:79: Warning: inserting implicit <span>
IGP_LOOEC_laGP_GauPro.html:185:6: Warning: missing </span> before <p>
IGP_LOOEC_laGP_GauPro.html:185:82: Warning: inserting implicit <span>
IGP_LOOEC_laGP_GauPro.html:188:6: Warning: missing </span> before <p>
IGP_LOOEC_laGP_GauPro.html:188:85: Warning: inserting implicit <span>
IGP_LOOEC_laGP_GauPro.html:191:6: Warning: missing </span> before <p>
IGP_LOOEC_laGP_GauPro.html:191:86: Warning: inserting implicit <span>
IGP_LOOEC_laGP_GauPro.html:194:6: Warning: missing </span> before <p>
IGP_LOOEC_laGP_GauPro.html:194:90: Warning: inserting implicit <span>
IGP_LOOEC_laGP_GauPro.html:197:6: Warning: missing </span> before <p>
IGP_LOOEC_laGP_GauPro.html:197:77: Warning: inserting implicit <span>
IGP_LOOEC_laGP_GauPro.html:200:6: Warning: missing </span> before <p>
IGP_LOOEC_laGP_GauPro.html:200:81: Warning: inserting implicit <span>
IGP_LOOEC_laGP_GauPro.html:203:6: Warning: missing </span> before <p>
IGP_LOOEC_laGP_GauPro.html:203:80: Warning: inserting implicit <span>
IGP_LOOEC_laGP_GauPro.html:206:6: Warning: missing </span> before <p>
IGP_LOOEC_laGP_GauPro.html:206:81: Warning: inserting implicit <span>
IGP_LOOEC_laGP_GauPro.html:149:6: Warning: trimming empty <span>
IGP_LOOEC_laGP_GauPro.html:152:6: Warning: trimming empty <span>
IGP_LOOEC_laGP_GauPro.html:155:6: Warning: trimming empty <span>
IGP_LOOEC_laGP_GauPro.html:158:6: Warning: trimming empty <span>
IGP_LOOEC_laGP_GauPro.html:161:6: Warning: trimming empty <span>
IGP_LOOEC_laGP_GauPro.html:164:6: Warning: trimming empty <span>
IGP_LOOEC_laGP_GauPro.html:167:6: Warning: trimming empty <span>
IGP_LOOEC_laGP_GauPro.html:170:6: Warning: trimming empty <span>
IGP_LOOEC_laGP_GauPro.html:173:6: Warning: trimming empty <span>
IGP_LOOEC_laGP_GauPro.html:176:6: Warning: trimming empty <span>
IGP_LOOEC_laGP_GauPro.html:179:6: Warning: trimming empty <span>
IGP_LOOEC_laGP_GauPro.html:182:6: Warning: trimming empty <span>
IGP_LOOEC_laGP_GauPro.html:185:6: Warning: trimming empty <span>
IGP_LOOEC_laGP_GauPro.html:188:6: Warning: trimming empty <span>
IGP_LOOEC_laGP_GauPro.html:191:6: Warning: trimming empty <span>
IGP_LOOEC_laGP_GauPro.html:194:6: Warning: trimming empty <span>
IGP_LOOEC_laGP_GauPro.html:197:6: Warning: trimming empty <span>
IGP_LOOEC_laGP_GauPro.html:200:6: Warning: trimming empty <span>
IGP_LOOEC_laGP_GauPro.html:203:6: Warning: trimming empty <span>
IGP_LOOEC_laGP_GauPro.html:206:6: Warning: trimming empty <span>
IGP_hetGP.html:148:6: Warning: missing </span> before <p>
IGP_hetGP.html:148:85: Warning: inserting implicit <span>
IGP_hetGP.html:151:6: Warning: missing </span> before <p>
IGP_hetGP.html:151:81: Warning: inserting implicit <span>
IGP_hetGP.html:154:6: Warning: missing </span> before <p>
IGP_hetGP.html:154:83: Warning: inserting implicit <span>
IGP_hetGP.html:157:6: Warning: missing </span> before <p>
IGP_hetGP.html:157:79: Warning: inserting implicit <span>
IGP_hetGP.html:160:6: Warning: missing </span> before <p>
IGP_hetGP.html:160:90: Warning: inserting implicit <span>
IGP_hetGP.html:163:6: Warning: missing </span> before <p>
IGP_hetGP.html:163:84: Warning: inserting implicit <span>
IGP_hetGP.html:166:6: Warning: missing </span> before <p>
IGP_hetGP.html:166:83: Warning: inserting implicit <span>
IGP_hetGP.html:169:6: Warning: missing </span> before <p>
IGP_hetGP.html:169:79: Warning: inserting implicit <span>
IGP_hetGP.html:172:6: Warning: missing </span> before <p>
IGP_hetGP.html:172:85: Warning: inserting implicit <span>
IGP_hetGP.html:175:6: Warning: missing </span> before <p>
IGP_hetGP.html:175:82: Warning: inserting implicit <span>
IGP_hetGP.html:178:6: Warning: missing </span> before <p>
IGP_hetGP.html:178:79: Warning: inserting implicit <span>
IGP_hetGP.html:181:6: Warning: missing </span> before <p>
IGP_hetGP.html:181:81: Warning: inserting implicit <span>
IGP_hetGP.html:184:6: Warning: missing </span> before <p>
IGP_hetGP.html:184:79: Warning: inserting implicit <span>
IGP_hetGP.html:187:6: Warning: missing </span> before <p>
IGP_hetGP.html:187:82: Warning: inserting implicit <span>
IGP_hetGP.html:190:6: Warning: missing </span> before <p>
IGP_hetGP.html:190:85: Warning: inserting implicit <span>
IGP_hetGP.html:193:6: Warning: missing </span> before <p>
IGP_hetGP.html:193:86: Warning: inserting implicit <span>
IGP_hetGP.html:196:6: Warning: missing </span> before <p>
IGP_hetGP.html:196:90: Warning: inserting implicit <span>
IGP_hetGP.html:199:6: Warning: missing </span> before <p>
IGP_hetGP.html:199:77: Warning: inserting implicit <span>
IGP_hetGP.html:202:6: Warning: missing </span> before <p>
IGP_hetGP.html:202:81: Warning: inserting implicit <span>
IGP_hetGP.html:205:6: Warning: missing </span> before <p>
IGP_hetGP.html:205:80: Warning: inserting implicit <span>
IGP_hetGP.html:208:6: Warning: missing </span> before <p>
IGP_hetGP.html:208:81: Warning: inserting implicit <span>
IGP_hetGP.html:148:6: Warning: trimming empty <span>
IGP_hetGP.html:151:6: Warning: trimming empty <span>
IGP_hetGP.html:154:6: Warning: trimming empty <span>
IGP_hetGP.html:157:6: Warning: trimming empty <span>
IGP_hetGP.html:160:6: Warning: trimming empty <span>
IGP_hetGP.html:163:6: Warning: trimming empty <span>
IGP_hetGP.html:166:6: Warning: trimming empty <span>
IGP_hetGP.html:169:6: Warning: trimming empty <span>
IGP_hetGP.html:172:6: Warning: trimming empty <span>
IGP_hetGP.html:175:6: Warning: trimming empty <span>
IGP_hetGP.html:178:6: Warning: trimming empty <span>
IGP_hetGP.html:181:6: Warning: trimming empty <span>
IGP_hetGP.html:184:6: Warning: trimming empty <span>
IGP_hetGP.html:187:6: Warning: trimming empty <span>
IGP_hetGP.html:190:6: Warning: trimming empty <span>
IGP_hetGP.html:193:6: Warning: trimming empty <span>
IGP_hetGP.html:196:6: Warning: trimming empty <span>
IGP_hetGP.html:199:6: Warning: trimming empty <span>
IGP_hetGP.html:202:6: Warning: trimming empty <span>
IGP_hetGP.html:205:6: Warning: trimming empty <span>
IGP_hetGP.html:208:6: Warning: trimming empty <span>
IGP_laGP.html:145:6: Warning: missing </span> before <p>
IGP_laGP.html:145:85: Warning: inserting implicit <span>
IGP_laGP.html:148:6: Warning: missing </span> before <p>
IGP_laGP.html:148:81: Warning: inserting implicit <span>
IGP_laGP.html:151:6: Warning: missing </span> before <p>
IGP_laGP.html:151:83: Warning: inserting implicit <span>
IGP_laGP.html:154:6: Warning: missing </span> before <p>
IGP_laGP.html:154:79: Warning: inserting implicit <span>
IGP_laGP.html:157:6: Warning: missing </span> before <p>
IGP_laGP.html:157:90: Warning: inserting implicit <span>
IGP_laGP.html:160:6: Warning: missing </span> before <p>
IGP_laGP.html:160:84: Warning: inserting implicit <span>
IGP_laGP.html:163:6: Warning: missing </span> before <p>
IGP_laGP.html:163:83: Warning: inserting implicit <span>
IGP_laGP.html:166:6: Warning: missing </span> before <p>
IGP_laGP.html:166:79: Warning: inserting implicit <span>
IGP_laGP.html:169:6: Warning: missing </span> before <p>
IGP_laGP.html:169:85: Warning: inserting implicit <span>
IGP_laGP.html:172:6: Warning: missing </span> before <p>
IGP_laGP.html:172:82: Warning: inserting implicit <span>
IGP_laGP.html:175:6: Warning: missing </span> before <p>
IGP_laGP.html:175:79: Warning: inserting implicit <span>
IGP_laGP.html:178:6: Warning: missing </span> before <p>
IGP_laGP.html:178:81: Warning: inserting implicit <span>
IGP_laGP.html:181:6: Warning: missing </span> before <p>
IGP_laGP.html:181:79: Warning: inserting implicit <span>
IGP_laGP.html:184:6: Warning: missing </span> before <p>
IGP_laGP.html:184:82: Warning: inserting implicit <span>
IGP_laGP.html:187:6: Warning: missing </span> before <p>
IGP_laGP.html:187:85: Warning: inserting implicit <span>
IGP_laGP.html:190:6: Warning: missing </span> before <p>
IGP_laGP.html:190:86: Warning: inserting implicit <span>
IGP_laGP.html:193:6: Warning: missing </span> before <p>
IGP_laGP.html:193:90: Warning: inserting implicit <span>
IGP_laGP.html:196:6: Warning: missing </span> before <p>
IGP_laGP.html:196:77: Warning: inserting implicit <span>
IGP_laGP.html:199:6: Warning: missing </span> before <p>
IGP_laGP.html:199:81: Warning: inserting implicit <span>
IGP_laGP.html:202:6: Warning: missing </span> before <p>
IGP_laGP.html:202:80: Warning: inserting implicit <span>
IGP_laGP.html:205:6: Warning: missing </span> before <p>
IGP_laGP.html:205:81: Warning: inserting implicit <span>
IGP_laGP.html:145:6: Warning: trimming empty <span>
IGP_laGP.html:148:6: Warning: trimming empty <span>
IGP_laGP.html:151:6: Warning: trimming empty <span>
IGP_laGP.html:154:6: Warning: trimming empty <span>
IGP_laGP.html:157:6: Warning: trimming empty <span>
IGP_laGP.html:160:6: Warning: trimming empty <span>
IGP_laGP.html:163:6: Warning: trimming empty <span>
IGP_laGP.html:166:6: Warning: trimming empty <span>
IGP_laGP.html:169:6: Warning: trimming empty <span>
IGP_laGP.html:172:6: Warning: trimming empty <span>
IGP_laGP.html:175:6: Warning: trimming empty <span>
IGP_laGP.html:178:6: Warning: trimming empty <span>
IGP_laGP.html:181:6: Warning: trimming empty <span>
IGP_laGP.html:184:6: Warning: trimming empty <span>
IGP_laGP.html:187:6: Warning: trimming empty <span>
IGP_laGP.html:190:6: Warning: trimming empty <span>
IGP_laGP.html:193:6: Warning: trimming empty <span>
IGP_laGP.html:196:6: Warning: trimming empty <span>
IGP_laGP.html:199:6: Warning: trimming empty <span>
IGP_laGP.html:202:6: Warning: trimming empty <span>
IGP_laGP.html:205:6: Warning: trimming empty <span>
IGP_laGP_GauPro.html:150:6: Warning: missing </span> before <p>
IGP_laGP_GauPro.html:150:85: Warning: inserting implicit <span>
IGP_laGP_GauPro.html:153:6: Warning: missing </span> before <p>
IGP_laGP_GauPro.html:153:81: Warning: inserting implicit <span>
IGP_laGP_GauPro.html:156:6: Warning: missing </span> before <p>
IGP_laGP_GauPro.html:156:83: Warning: inserting implicit <span>
IGP_laGP_GauPro.html:159:6: Warning: missing </span> before <p>
IGP_laGP_GauPro.html:159:79: Warning: inserting implicit <span>
IGP_laGP_GauPro.html:162:6: Warning: missing </span> before <p>
IGP_laGP_GauPro.html:162:90: Warning: inserting implicit <span>
IGP_laGP_GauPro.html:165:6: Warning: missing </span> before <p>
IGP_laGP_GauPro.html:165:84: Warning: inserting implicit <span>
IGP_laGP_GauPro.html:168:6: Warning: missing </span> before <p>
IGP_laGP_GauPro.html:168:83: Warning: inserting implicit <span>
IGP_laGP_GauPro.html:171:6: Warning: missing </span> before <p>
IGP_laGP_GauPro.html:171:79: Warning: inserting implicit <span>
IGP_laGP_GauPro.html:174:6: Warning: missing </span> before <p>
IGP_laGP_GauPro.html:174:85: Warning: inserting implicit <span>
IGP_laGP_GauPro.html:177:6: Warning: missing </span> before <p>
IGP_laGP_GauPro.html:177:82: Warning: inserting implicit <span>
IGP_laGP_GauPro.html:180:6: Warning: missing </span> before <p>
IGP_laGP_GauPro.html:180:79: Warning: inserting implicit <span>
IGP_laGP_GauPro.html:183:6: Warning: missing </span> before <p>
IGP_laGP_GauPro.html:183:81: Warning: inserting implicit <span>
IGP_laGP_GauPro.html:186:6: Warning: missing </span> before <p>
IGP_laGP_GauPro.html:186:79: Warning: inserting implicit <span>
IGP_laGP_GauPro.html:189:6: Warning: missing </span> before <p>
IGP_laGP_GauPro.html:189:82: Warning: inserting implicit <span>
IGP_laGP_GauPro.html:192:6: Warning: missing </span> before <p>
IGP_laGP_GauPro.html:192:85: Warning: inserting implicit <span>
IGP_laGP_GauPro.html:195:6: Warning: missing </span> before <p>
IGP_laGP_GauPro.html:195:86: Warning: inserting implicit <span>
IGP_laGP_GauPro.html:198:6: Warning: missing </span> before <p>
IGP_laGP_GauPro.html:198:90: Warning: inserting implicit <span>
IGP_laGP_GauPro.html:201:6: Warning: missing </span> before <p>
IGP_laGP_GauPro.html:201:77: Warning: inserting implicit <span>
IGP_laGP_GauPro.html:204:6: Warning: missing </span> before <p>
IGP_laGP_GauPro.html:204:81: Warning: inserting implicit <span>
IGP_laGP_GauPro.html:207:6: Warning: missing </span> before <p>
IGP_laGP_GauPro.html:207:80: Warning: inserting implicit <span>
IGP_laGP_GauPro.html:210:6: Warning: missing </span> before <p>
IGP_laGP_GauPro.html:210:81: Warning: inserting implicit <span>
IGP_laGP_GauPro.html:150:6: Warning: trimming empty <span>
IGP_laGP_GauPro.html:153:6: Warning: trimming empty <span>
IGP_laGP_GauPro.html:156:6: Warning: trimming empty <span>
IGP_laGP_GauPro.html:159:6: Warning: trimming empty <span>
IGP_laGP_GauPro.html:162:6: Warning: trimming empty <span>
IGP_laGP_GauPro.html:165:6: Warning: trimming empty <span>
IGP_laGP_GauPro.html:168:6: Warning: trimming empty <span>
IGP_laGP_GauPro.html:171:6: Warning: trimming empty <span>
IGP_laGP_GauPro.html:174:6: Warning: trimming empty <span>
IGP_laGP_GauPro.html:177:6: Warning: trimming empty <span>
IGP_laGP_GauPro.html:180:6: Warning: trimming empty <span>
IGP_laGP_GauPro.html:183:6: Warning: trimming empty <span>
IGP_laGP_GauPro.html:186:6: Warning: trimming empty <span>
IGP_laGP_GauPro.html:189:6: Warning: trimming empty <span>
IGP_laGP_GauPro.html:192:6: Warning: trimming empty <span>
IGP_laGP_GauPro.html:195:6: Warning: trimming empty <span>
IGP_laGP_GauPro.html:198:6: Warning: trimming empty <span>
IGP_laGP_GauPro.html:201:6: Warning: trimming empty <span>
IGP_laGP_GauPro.html:204:6: Warning: trimming empty <span>
IGP_laGP_GauPro.html:207:6: Warning: trimming empty <span>
IGP_laGP_GauPro.html:210:6: Warning: trimming empty <span>
IGP_laGP_GauPro_kernel.html:150:6: Warning: missing </span> before <p>
IGP_laGP_GauPro_kernel.html:150:85: Warning: inserting implicit <span>
IGP_laGP_GauPro_kernel.html:153:6: Warning: missing </span> before <p>
IGP_laGP_GauPro_kernel.html:153:81: Warning: inserting implicit <span>
IGP_laGP_GauPro_kernel.html:156:6: Warning: missing </span> before <p>
IGP_laGP_GauPro_kernel.html:156:83: Warning: inserting implicit <span>
IGP_laGP_GauPro_kernel.html:159:6: Warning: missing </span> before <p>
IGP_laGP_GauPro_kernel.html:159:79: Warning: inserting implicit <span>
IGP_laGP_GauPro_kernel.html:162:6: Warning: missing </span> before <p>
IGP_laGP_GauPro_kernel.html:162:90: Warning: inserting implicit <span>
IGP_laGP_GauPro_kernel.html:165:6: Warning: missing </span> before <p>
IGP_laGP_GauPro_kernel.html:165:84: Warning: inserting implicit <span>
IGP_laGP_GauPro_kernel.html:168:6: Warning: missing </span> before <p>
IGP_laGP_GauPro_kernel.html:168:83: Warning: inserting implicit <span>
IGP_laGP_GauPro_kernel.html:171:6: Warning: missing </span> before <p>
IGP_laGP_GauPro_kernel.html:171:79: Warning: inserting implicit <span>
IGP_laGP_GauPro_kernel.html:174:6: Warning: missing </span> before <p>
IGP_laGP_GauPro_kernel.html:174:85: Warning: inserting implicit <span>
IGP_laGP_GauPro_kernel.html:177:6: Warning: missing </span> before <p>
IGP_laGP_GauPro_kernel.html:177:82: Warning: inserting implicit <span>
IGP_laGP_GauPro_kernel.html:180:6: Warning: missing </span> before <p>
IGP_laGP_GauPro_kernel.html:180:79: Warning: inserting implicit <span>
IGP_laGP_GauPro_kernel.html:183:6: Warning: missing </span> before <p>
IGP_laGP_GauPro_kernel.html:183:81: Warning: inserting implicit <span>
IGP_laGP_GauPro_kernel.html:186:6: Warning: missing </span> before <p>
IGP_laGP_GauPro_kernel.html:186:79: Warning: inserting implicit <span>
IGP_laGP_GauPro_kernel.html:189:6: Warning: missing </span> before <p>
IGP_laGP_GauPro_kernel.html:189:82: Warning: inserting implicit <span>
IGP_laGP_GauPro_kernel.html:192:6: Warning: missing </span> before <p>
IGP_laGP_GauPro_kernel.html:192:85: Warning: inserting implicit <span>
IGP_laGP_GauPro_kernel.html:195:6: Warning: missing </span> before <p>
IGP_laGP_GauPro_kernel.html:195:86: Warning: inserting implicit <span>
IGP_laGP_GauPro_kernel.html:198:6: Warning: missing </span> before <p>
IGP_laGP_GauPro_kernel.html:198:90: Warning: inserting implicit <span>
IGP_laGP_GauPro_kernel.html:201:6: Warning: missing </span> before <p>
IGP_laGP_GauPro_kernel.html:201:77: Warning: inserting implicit <span>
IGP_laGP_GauPro_kernel.html:204:6: Warning: missing </span> before <p>
IGP_laGP_GauPro_kernel.html:204:81: Warning: inserting implicit <span>
IGP_laGP_GauPro_kernel.html:207:6: Warning: missing </span> before <p>
IGP_laGP_GauPro_kernel.html:207:80: Warning: inserting implicit <span>
IGP_laGP_GauPro_kernel.html:210:6: Warning: missing </span> before <p>
IGP_laGP_GauPro_kernel.html:210:81: Warning: inserting implicit <span>
IGP_laGP_GauPro_kernel.html:150:6: Warning: trimming empty <span>
IGP_laGP_GauPro_kernel.html:153:6: Warning: trimming empty <span>
IGP_laGP_GauPro_kernel.html:156:6: Warning: trimming empty <span>
IGP_laGP_GauPro_kernel.html:159:6: Warning: trimming empty <span>
IGP_laGP_GauPro_kernel.html:162:6: Warning: trimming empty <span>
IGP_laGP_GauPro_kernel.html:165:6: Warning: trimming empty <span>
IGP_laGP_GauPro_kernel.html:168:6: Warning: trimming empty <span>
IGP_laGP_GauPro_kernel.html:171:6: Warning: trimming empty <span>
IGP_laGP_GauPro_kernel.html:174:6: Warning: trimming empty <span>
IGP_laGP_GauPro_kernel.html:177:6: Warning: trimming empty <span>
IGP_laGP_GauPro_kernel.html:180:6: Warning: trimming empty <span>
IGP_laGP_GauPro_kernel.html:183:6: Warning: trimming empty <span>
IGP_laGP_GauPro_kernel.html:186:6: Warning: trimming empty <span>
IGP_laGP_GauPro_kernel.html:189:6: Warning: trimming empty <span>
IGP_laGP_GauPro_kernel.html:192:6: Warning: trimming empty <span>
IGP_laGP_GauPro_kernel.html:195:6: Warning: trimming empty <span>
IGP_laGP_GauPro_kernel.html:198:6: Warning: trimming empty <span>
IGP_laGP_GauPro_kernel.html:201:6: Warning: trimming empty <span>
IGP_laGP_GauPro_kernel.html:204:6: Warning: trimming empty <span>
IGP_laGP_GauPro_kernel.html:207:6: Warning: trimming empty <span>
IGP_laGP_GauPro_kernel.html:210:6: Warning: trimming empty <span>
IGP_mlegp.html:145:6: Warning: missing </span> before <p>
IGP_mlegp.html:145:85: Warning: inserting implicit <span>
IGP_mlegp.html:148:6: Warning: missing </span> before <p>
IGP_mlegp.html:148:81: Warning: inserting implicit <span>
IGP_mlegp.html:151:6: Warning: missing </span> before <p>
IGP_mlegp.html:151:83: Warning: inserting implicit <span>
IGP_mlegp.html:154:6: Warning: missing </span> before <p>
IGP_mlegp.html:154:79: Warning: inserting implicit <span>
IGP_mlegp.html:157:6: Warning: missing </span> before <p>
IGP_mlegp.html:157:90: Warning: inserting implicit <span>
IGP_mlegp.html:160:6: Warning: missing </span> before <p>
IGP_mlegp.html:160:84: Warning: inserting implicit <span>
IGP_mlegp.html:163:6: Warning: missing </span> before <p>
IGP_mlegp.html:163:83: Warning: inserting implicit <span>
IGP_mlegp.html:166:6: Warning: missing </span> before <p>
IGP_mlegp.html:166:79: Warning: inserting implicit <span>
IGP_mlegp.html:169:6: Warning: missing </span> before <p>
IGP_mlegp.html:169:85: Warning: inserting implicit <span>
IGP_mlegp.html:172:6: Warning: missing </span> before <p>
IGP_mlegp.html:172:82: Warning: inserting implicit <span>
IGP_mlegp.html:175:6: Warning: missing </span> before <p>
IGP_mlegp.html:175:79: Warning: inserting implicit <span>
IGP_mlegp.html:178:6: Warning: missing </span> before <p>
IGP_mlegp.html:178:81: Warning: inserting implicit <span>
IGP_mlegp.html:181:6: Warning: missing </span> before <p>
IGP_mlegp.html:181:79: Warning: inserting implicit <span>
IGP_mlegp.html:184:6: Warning: missing </span> before <p>
IGP_mlegp.html:184:82: Warning: inserting implicit <span>
IGP_mlegp.html:187:6: Warning: missing </span> before <p>
IGP_mlegp.html:187:85: Warning: inserting implicit <span>
IGP_mlegp.html:190:6: Warning: missing </span> before <p>
IGP_mlegp.html:190:86: Warning: inserting implicit <span>
IGP_mlegp.html:193:6: Warning: missing </span> before <p>
IGP_mlegp.html:193:90: Warning: inserting implicit <span>
IGP_mlegp.html:196:6: Warning: missing </span> before <p>
IGP_mlegp.html:196:77: Warning: inserting implicit <span>
IGP_mlegp.html:199:6: Warning: missing </span> before <p>
IGP_mlegp.html:199:81: Warning: inserting implicit <span>
IGP_mlegp.html:202:6: Warning: missing </span> before <p>
IGP_mlegp.html:202:80: Warning: inserting implicit <span>
IGP_mlegp.html:205:6: Warning: missing </span> before <p>
IGP_mlegp.html:205:81: Warning: inserting implicit <span>
IGP_mlegp.html:145:6: Warning: trimming empty <span>
IGP_mlegp.html:148:6: Warning: trimming empty <span>
IGP_mlegp.html:151:6: Warning: trimming empty <span>
IGP_mlegp.html:154:6: Warning: trimming empty <span>
IGP_mlegp.html:157:6: Warning: trimming empty <span>
IGP_mlegp.html:160:6: Warning: trimming empty <span>
IGP_mlegp.html:163:6: Warning: trimming empty <span>
IGP_mlegp.html:166:6: Warning: trimming empty <span>
IGP_mlegp.html:169:6: Warning: trimming empty <span>
IGP_mlegp.html:172:6: Warning: trimming empty <span>
IGP_mlegp.html:175:6: Warning: trimming empty <span>
IGP_mlegp.html:178:6: Warning: trimming empty <span>
IGP_mlegp.html:181:6: Warning: trimming empty <span>
IGP_mlegp.html:184:6: Warning: trimming empty <span>
IGP_mlegp.html:187:6: Warning: trimming empty <span>
IGP_mlegp.html:190:6: Warning: trimming empty <span>
IGP_mlegp.html:193:6: Warning: trimming empty <span>
IGP_mlegp.html:196:6: Warning: trimming empty <span>
IGP_mlegp.html:199:6: Warning: trimming empty <span>
IGP_mlegp.html:202:6: Warning: trimming empty <span>
IGP_mlegp.html:205:6: Warning: trimming empty <span>
IGP_sklearn.html:139:6: Warning: missing </span> before <p>
IGP_sklearn.html:139:85: Warning: inserting implicit <span>
IGP_sklearn.html:142:6: Warning: missing </span> before <p>
IGP_sklearn.html:142:81: Warning: inserting implicit <span>
IGP_sklearn.html:145:6: Warning: missing </span> before <p>
IGP_sklearn.html:145:83: Warning: inserting implicit <span>
IGP_sklearn.html:148:6: Warning: missing </span> before <p>
IGP_sklearn.html:148:79: Warning: inserting implicit <span>
IGP_sklearn.html:151:6: Warning: missing </span> before <p>
IGP_sklearn.html:151:90: Warning: inserting implicit <span>
IGP_sklearn.html:154:6: Warning: missing </span> before <p>
IGP_sklearn.html:154:84: Warning: inserting implicit <span>
IGP_sklearn.html:157:6: Warning: missing </span> before <p>
IGP_sklearn.html:157:83: Warning: inserting implicit <span>
IGP_sklearn.html:160:6: Warning: missing </span> before <p>
IGP_sklearn.html:160:79: Warning: inserting implicit <span>
IGP_sklearn.html:163:6: Warning: missing </span> before <p>
IGP_sklearn.html:163:85: Warning: inserting implicit <span>
IGP_sklearn.html:166:6: Warning: missing </span> before <p>
IGP_sklearn.html:166:82: Warning: inserting implicit <span>
IGP_sklearn.html:169:6: Warning: missing </span> before <p>
IGP_sklearn.html:169:79: Warning: inserting implicit <span>
IGP_sklearn.html:172:6: Warning: missing </span> before <p>
IGP_sklearn.html:172:81: Warning: inserting implicit <span>
IGP_sklearn.html:175:6: Warning: missing </span> before <p>
IGP_sklearn.html:175:79: Warning: inserting implicit <span>
IGP_sklearn.html:178:6: Warning: missing </span> before <p>
IGP_sklearn.html:178:82: Warning: inserting implicit <span>
IGP_sklearn.html:181:6: Warning: missing </span> before <p>
IGP_sklearn.html:181:85: Warning: inserting implicit <span>
IGP_sklearn.html:184:6: Warning: missing </span> before <p>
IGP_sklearn.html:184:86: Warning: inserting implicit <span>
IGP_sklearn.html:187:6: Warning: missing </span> before <p>
IGP_sklearn.html:187:90: Warning: inserting implicit <span>
IGP_sklearn.html:190:6: Warning: missing </span> before <p>
IGP_sklearn.html:190:77: Warning: inserting implicit <span>
IGP_sklearn.html:193:6: Warning: missing </span> before <p>
IGP_sklearn.html:193:81: Warning: inserting implicit <span>
IGP_sklearn.html:196:6: Warning: missing </span> before <p>
IGP_sklearn.html:196:80: Warning: inserting implicit <span>
IGP_sklearn.html:199:6: Warning: missing </span> before <p>
IGP_sklearn.html:199:81: Warning: inserting implicit <span>
IGP_sklearn.html:139:6: Warning: trimming empty <span>
IGP_sklearn.html:142:6: Warning: trimming empty <span>
IGP_sklearn.html:145:6: Warning: trimming empty <span>
IGP_sklearn.html:148:6: Warning: trimming empty <span>
IGP_sklearn.html:151:6: Warning: trimming empty <span>
IGP_sklearn.html:154:6: Warning: trimming empty <span>
IGP_sklearn.html:157:6: Warning: trimming empty <span>
IGP_sklearn.html:160:6: Warning: trimming empty <span>
IGP_sklearn.html:163:6: Warning: trimming empty <span>
IGP_sklearn.html:166:6: Warning: trimming empty <span>
IGP_sklearn.html:169:6: Warning: trimming empty <span>
IGP_sklearn.html:172:6: Warning: trimming empty <span>
IGP_sklearn.html:175:6: Warning: trimming empty <span>
IGP_sklearn.html:178:6: Warning: trimming empty <span>
IGP_sklearn.html:181:6: Warning: trimming empty <span>
IGP_sklearn.html:184:6: Warning: trimming empty <span>
IGP_sklearn.html:187:6: Warning: trimming empty <span>
IGP_sklearn.html:190:6: Warning: trimming empty <span>
IGP_sklearn.html:193:6: Warning: trimming empty <span>
IGP_sklearn.html:196:6: Warning: trimming empty <span>
IGP_sklearn.html:199:6: Warning: trimming empty <span>
IGP_tgp.html:139:6: Warning: missing </span> before <p>
IGP_tgp.html:139:85: Warning: inserting implicit <span>
IGP_tgp.html:142:6: Warning: missing </span> before <p>
IGP_tgp.html:142:81: Warning: inserting implicit <span>
IGP_tgp.html:145:6: Warning: missing </span> before <p>
IGP_tgp.html:145:83: Warning: inserting implicit <span>
IGP_tgp.html:148:6: Warning: missing </span> before <p>
IGP_tgp.html:148:79: Warning: inserting implicit <span>
IGP_tgp.html:151:6: Warning: missing </span> before <p>
IGP_tgp.html:151:90: Warning: inserting implicit <span>
IGP_tgp.html:154:6: Warning: missing </span> before <p>
IGP_tgp.html:154:84: Warning: inserting implicit <span>
IGP_tgp.html:157:6: Warning: missing </span> before <p>
IGP_tgp.html:157:83: Warning: inserting implicit <span>
IGP_tgp.html:160:6: Warning: missing </span> before <p>
IGP_tgp.html:160:79: Warning: inserting implicit <span>
IGP_tgp.html:163:6: Warning: missing </span> before <p>
IGP_tgp.html:163:85: Warning: inserting implicit <span>
IGP_tgp.html:166:6: Warning: missing </span> before <p>
IGP_tgp.html:166:82: Warning: inserting implicit <span>
IGP_tgp.html:169:6: Warning: missing </span> before <p>
IGP_tgp.html:169:79: Warning: inserting implicit <span>
IGP_tgp.html:172:6: Warning: missing </span> before <p>
IGP_tgp.html:172:81: Warning: inserting implicit <span>
IGP_tgp.html:175:6: Warning: missing </span> before <p>
IGP_tgp.html:175:79: Warning: inserting implicit <span>
IGP_tgp.html:178:6: Warning: missing </span> before <p>
IGP_tgp.html:178:82: Warning: inserting implicit <span>
IGP_tgp.html:181:6: Warning: missing </span> before <p>
IGP_tgp.html:181:85: Warning: inserting implicit <span>
IGP_tgp.html:184:6: Warning: missing </span> before <p>
IGP_tgp.html:184:86: Warning: inserting implicit <span>
IGP_tgp.html:187:6: Warning: missing </span> before <p>
IGP_tgp.html:187:90: Warning: inserting implicit <span>
IGP_tgp.html:190:6: Warning: missing </span> before <p>
IGP_tgp.html:190:77: Warning: inserting implicit <span>
IGP_tgp.html:193:6: Warning: missing </span> before <p>
IGP_tgp.html:193:81: Warning: inserting implicit <span>
IGP_tgp.html:196:6: Warning: missing </span> before <p>
IGP_tgp.html:196:80: Warning: inserting implicit <span>
IGP_tgp.html:199:6: Warning: missing </span> before <p>
IGP_tgp.html:199:81: Warning: inserting implicit <span>
IGP_tgp.html:139:6: Warning: trimming empty <span>
IGP_tgp.html:142:6: Warning: trimming empty <span>
IGP_tgp.html:145:6: Warning: trimming empty <span>
IGP_tgp.html:148:6: Warning: trimming empty <span>
IGP_tgp.html:151:6: Warning: trimming empty <span>
IGP_tgp.html:154:6: Warning: trimming empty <span>
IGP_tgp.html:157:6: Warning: trimming empty <span>
IGP_tgp.html:160:6: Warning: trimming empty <span>
IGP_tgp.html:163:6: Warning: trimming empty <span>
IGP_tgp.html:166:6: Warning: trimming empty <span>
IGP_tgp.html:169:6: Warning: trimming empty <span>
IGP_tgp.html:172:6: Warning: trimming empty <span>
IGP_tgp.html:175:6: Warning: trimming empty <span>
IGP_tgp.html:178:6: Warning: trimming empty <span>
IGP_tgp.html:181:6: Warning: trimming empty <span>
IGP_tgp.html:184:6: Warning: trimming empty <span>
IGP_tgp.html:187:6: Warning: trimming empty <span>
IGP_tgp.html:190:6: Warning: trimming empty <span>
IGP_tgp.html:193:6: Warning: trimming empty <span>
IGP_tgp.html:196:6: Warning: trimming empty <span>
IGP_tgp.html:199:6: Warning: trimming empty <span>
- checking for non-standard things in the check directory ... OK
- DONE
Status: 1 NOTE