* using log directory ‘/home/hornik/tmp/R.check/r-devel-clang/Work/PKGS/EntropyMCMC.Rcheck’ * using R Under development (unstable) (2025-07-13 r88407) * using platform: x86_64-pc-linux-gnu * R was compiled by Debian clang version 19.1.7 (3+b1) Debian flang-new version 19.1.7 (3+b1) * running under: Debian GNU/Linux 13 (trixie) * using session charset: UTF-8 * checking for file ‘EntropyMCMC/DESCRIPTION’ ... OK * checking extension type ... Package * this is package ‘EntropyMCMC’ version ‘1.0.4’ * checking CRAN incoming feasibility ... [1s/1s] NOTE Maintainer: ‘Didier Chauveau ’ Package CITATION file contains call(s) to old-style personList() or as.personList(). Please use c() on person objects instead. Package CITATION file contains call(s) to old-style citEntry(). Please use bibentry() instead. Found the following URLs which should use \doi (with the DOI name only): File ‘EntropyMCMC-package.Rd’: http://dx.doi.org/10.1051/ps/2012004 File ‘EntropyMCMC.Rd’: http://dx.doi.org/10.1051/ps/2012004 File ‘EntropyParallel.Rd’: http://dx.doi.org/10.1051/ps/2012004 File ‘MCMCcopies.Rd’: http://dx.doi.org/10.1051/ps/2012004 File ‘MCMCcopies.cl.Rd’: http://dx.doi.org/10.1051/ps/2012004 File ‘MCMCcopies.mc.Rd’: http://dx.doi.org/10.1051/ps/2012004 File ‘plot.KbMCMC.Rd’: http://dx.doi.org/10.1051/ps/2012004 File ‘plot.plMCMC.Rd’: http://dx.doi.org/10.1051/ps/2012004 File ‘plot_Kblist.Rd’: http://dx.doi.org/10.1051/ps/2012004 File ‘summary.plMCMC.Rd’: http://dx.doi.org/10.1051/ps/2012004 * checking package namespace information ... OK * checking package dependencies ... OK * checking if this is a source package ... OK * checking if there is a namespace ... OK * checking for executable files ... OK * checking for hidden files and directories ... OK * checking for portable file names ... OK * checking for sufficient/correct file permissions ... OK * checking serialization versions ... OK * checking whether package ‘EntropyMCMC’ can be installed ... OK See 'https://www.r-project.org/nosvn/R.check/r-devel-linux-x86_64-debian-clang/EntropyMCMC-00install.html' for details. * used C compiler: ‘Debian clang version 19.1.7 (3+b1)’ * checking package directory ... OK * checking for future file timestamps ... OK * checking DESCRIPTION meta-information ... OK * checking top-level files ... OK * checking for left-over files ... OK * checking index information ... OK * checking package subdirectories ... OK * checking code files for non-ASCII characters ... OK * checking R files for syntax errors ... OK * checking whether the package can be loaded ... [4s/6s] OK * checking whether the package can be loaded with stated dependencies ... [4s/4s] OK * checking whether the package can be unloaded cleanly ... [4s/5s] OK * checking whether the namespace can be loaded with stated dependencies ... [4s/5s] OK * checking whether the namespace can be unloaded cleanly ... [4s/6s] OK * checking loading without being on the library search path ... [4s/5s] OK * checking use of S3 registration ... OK * checking dependencies in R code ... OK * checking S3 generic/method consistency ... OK * checking replacement functions ... OK * checking foreign function calls ... OK * checking R code for possible problems ... [24s/31s] OK * checking Rd files ... [1s/1s] OK * checking Rd metadata ... OK * checking Rd line widths ... OK * checking Rd cross-references ... OK * checking for missing documentation entries ... OK * checking for code/documentation mismatches ... OK * checking Rd \usage sections ... OK * checking Rd contents ... OK * checking for unstated dependencies in examples ... OK * checking line endings in C/C++/Fortran sources/headers ... OK * checking pragmas in C/C++ headers and code ... OK * checking compilation flags used ... OK * checking compiled code ... OK * checking examples ... [17s/19s] OK Examples with CPU (user + system) or elapsed time > 5s user system elapsed EntropyMCMC 5.352 0.119 5.991 EntropyParallel 5.353 0.068 6.081 * checking PDF version of manual ... [7s/9s] OK * checking HTML version of manual ... [2s/3s] OK * checking for non-standard things in the check directory ... OK * DONE Status: 1 NOTE