- using R Under development (unstable) (2025-07-02 r88374)
- using platform: x86_64-pc-linux-gnu
- R was compiled by
Debian clang version 19.1.7 (3+b1)
Debian flang-new version 19.1.7 (3+b1)
- running under: Debian GNU/Linux 13 (trixie)
- using session charset: UTF-8
- checking for file ‘BayesCVI/DESCRIPTION’ ... OK
- checking extension type ... Package
- this is package ‘BayesCVI’ version ‘1.0.1’
- package encoding: UTF-8
- checking CRAN incoming feasibility ... [2s/3s] OK
- checking package namespace information ... OK
- checking package dependencies ... OK
- checking if this is a source package ... OK
- checking if there is a namespace ... OK
- checking for executable files ... OK
- checking for hidden files and directories ... OK
- checking for portable file names ... OK
- checking for sufficient/correct file permissions ... OK
- checking serialization versions ... OK
- checking whether package ‘BayesCVI’ can be installed ... OK
See the install log for details.
- checking package directory ... OK
- checking for future file timestamps ... OK
- checking DESCRIPTION meta-information ... OK
- checking top-level files ... OK
- checking for left-over files ... OK
- checking index information ... OK
- checking package subdirectories ... OK
- checking code files for non-ASCII characters ... OK
- checking R files for syntax errors ... OK
- checking whether the package can be loaded ... [2s/2s] OK
- checking whether the package can be loaded with stated dependencies ... [1s/2s] OK
- checking whether the package can be unloaded cleanly ... [1s/2s] OK
- checking whether the namespace can be loaded with stated dependencies ... [1s/2s] OK
- checking whether the namespace can be unloaded cleanly ... [2s/2s] OK
- checking loading without being on the library search path ... [1s/2s] OK
- checking use of S3 registration ... OK
- checking dependencies in R code ... OK
- checking S3 generic/method consistency ... OK
- checking replacement functions ... OK
- checking foreign function calls ... OK
- checking R code for possible problems ... [16s/21s] OK
- checking Rd files ... [1s/1s] OK
- checking Rd metadata ... OK
- checking Rd line widths ... OK
- checking Rd cross-references ... OK
- checking for missing documentation entries ... OK
- checking for code/documentation mismatches ... OK
- checking Rd \usage sections ... OK
- checking Rd contents ... OK
- checking for unstated dependencies in examples ... OK
- checking contents of ‘data’ directory ... OK
- checking data for non-ASCII characters ... [0s/1s] OK
- checking LazyData ... OK
- checking data for ASCII and uncompressed saves ... OK
- checking examples ... [115s/133s] OK
Examples with CPU (user + system) or elapsed time > 5s
user system elapsed
B_WP.IDX 9.595 0.008 10.551
B_GC.IDX 9.545 0.040 10.881
plot_BCVI 8.930 0.012 9.437
B_CCV.IDX 8.218 0.083 9.366
B_WL.IDX 8.083 0.000 8.758
B_KWON2.IDX 7.914 0.000 9.390
B_KWON.IDX 7.856 0.040 9.916
B_XB.IDX 7.878 0.000 9.385
B_TANG.IDX 7.863 0.000 9.960
B_KPBM.IDX 7.820 0.012 9.265
B_HF.IDX 7.725 0.000 8.352
B_PBM.IDX 7.664 0.000 8.718
- checking PDF version of manual ... [6s/9s] OK
- checking HTML version of manual ... [4s/5s] OK
- checking for non-standard things in the check directory ... OK
- DONE
Status: OK