- using R Under development (unstable) (2024-04-24 r86483)
- using platform: x86_64-pc-linux-gnu
- R was compiled by
Debian clang version 18.1.0 (rc4-1)
Debian flang-new version 18.1.0 (rc4-1)
- running under: Debian GNU/Linux trixie/sid
- using session charset: UTF-8
- checking for file ‘BNPdensity/DESCRIPTION’ ... OK
- checking extension type ... Package
- this is package ‘BNPdensity’ version ‘2023.3.8’
- package encoding: UTF-8
- checking package namespace information ... OK
- checking package dependencies ... OK
- checking if this is a source package ... OK
- checking if there is a namespace ... OK
- checking for executable files ... OK
- checking for hidden files and directories ... OK
- checking for portable file names ... OK
- checking for sufficient/correct file permissions ... OK
- checking whether package ‘BNPdensity’ can be installed ... OK
See the install log for details.
- checking package directory ... OK
- checking for future file timestamps ... OK
- checking DESCRIPTION meta-information ... OK
- checking top-level files ... OK
- checking for left-over files ... OK
- checking index information ... OK
- checking package subdirectories ... OK
- checking code files for non-ASCII characters ... OK
- checking R files for syntax errors ... OK
- checking whether the package can be loaded ... [2s/2s] OK
- checking whether the package can be loaded with stated dependencies ... [1s/2s] OK
- checking whether the package can be unloaded cleanly ... [1s/1s] OK
- checking whether the namespace can be loaded with stated dependencies ... [1s/2s] OK
- checking whether the namespace can be unloaded cleanly ... [2s/2s] OK
- checking loading without being on the library search path ... [2s/2s] OK
- checking use of S3 registration ... OK
- checking dependencies in R code ... OK
- checking S3 generic/method consistency ... OK
- checking replacement functions ... OK
- checking foreign function calls ... OK
- checking R code for possible problems ... [24s/29s] OK
- checking Rd files ... [1s/2s] NOTE
checkRd: (-1) MvInv.Rd:23-35: Lost braces
23 | function(eps, u = 0.5, alpha = 1, kappa = 1, gama = 1 / 2, N = 3001) {
| ^
checkRd: (-1) dt_.Rd:19-21: Lost braces
19 | function(x, df, mean, sd) {
| ^
- checking Rd metadata ... OK
- checking Rd line widths ... OK
- checking Rd cross-references ... OK
- checking for missing documentation entries ... OK
- checking for code/documentation mismatches ... OK
- checking Rd \usage sections ... OK
- checking Rd contents ... OK
- checking for unstated dependencies in examples ... OK
- checking contents of ‘data’ directory ... OK
- checking data for non-ASCII characters ... [1s/1s] OK
- checking LazyData ... OK
- checking data for ASCII and uncompressed saves ... OK
- checking R/sysdata.rda ... OK
- checking examples ... [108s/115s] OK
Examples with CPU (user + system) or elapsed time > 5s
user system elapsed
GOFplots 6.880 0.211 7.732
plot.NRMI1 5.955 0.239 6.150
plot.NRMI2 5.643 0.004 5.821
GOFplots_noncensored 5.459 0.020 6.036
GOFplots_censored 5.281 0.139 6.410
print.NRMI2 5.064 0.003 5.824
summary.NRMI2 4.941 0.008 5.357
plotPDF_noncensored 4.877 0.009 5.714
plotPDF_censored 4.820 0.012 5.348
pp_plot_noncensored 4.797 0.000 5.285
pp_plot_censored 4.769 0.004 5.348
print.NRMI1 4.539 0.008 5.309
Examples with CPU time > 2.5 times elapsed time
user system elapsed ratio
multMixNRMI2 2.51 0.346 1.096 2.606
- checking PDF version of manual ... [10s/12s] OK
- checking HTML version of manual ... [5s/8s] OK
- checking for non-standard things in the check directory ... OK
- DONE
Status: 1 NOTE