- using R Under development (unstable) (2024-01-17 r85813)
- using platform: x86_64-apple-darwin20
- R was compiled by
Apple clang version 14.0.0 (clang-1400.0.29.202)
GNU Fortran (GCC) 12.2.0
- running under: macOS Ventura 13.3.1
- using session charset: UTF-8
- checking for file ‘rlang/DESCRIPTION’ ... OK
- this is package ‘rlang’ version ‘1.1.3’
- package encoding: UTF-8
- checking package namespace information ... OK
- checking package dependencies ... NOTE
Packages suggested but not available for checking:
'cli', 'covr', 'crayon', 'fs', 'glue', 'knitr', 'magrittr', 'pillar',
'rmarkdown', 'testthat', 'tibble', 'usethis', 'vctrs', 'withr'
Package which this enhances but not available for checking: ‘winch’
- checking if this is a source package ... OK
- checking if there is a namespace ... OK
- checking for executable files ... OK
- checking for hidden files and directories ... OK
- checking for portable file names ... OK
- checking for sufficient/correct file permissions ... OK
- checking whether package ‘rlang’ can be installed ... [14s/18s] OK
See the install log for details.
- used C compiler: ‘Apple clang version 14.0.3 (clang-1403.0.22.14.1)’
- used SDK: ‘MacOSX11.3.sdk’
- checking installed package size ... OK
- checking package directory ... OK
- checking DESCRIPTION meta-information ... OK
- checking top-level files ... OK
- checking for left-over files ... OK
- checking index information ... OK
- checking package subdirectories ... OK
- checking R files for non-ASCII characters ... OK
- checking R files for syntax errors ... OK
- checking whether the package can be loaded ... [0s/0s] OK
- checking whether the package can be loaded with stated dependencies ... [0s/0s] OK
- checking whether the package can be unloaded cleanly ... [0s/0s] OK
- checking whether the namespace can be loaded with stated dependencies ... [0s/0s] OK
- checking whether the namespace can be unloaded cleanly ... [0s/0s] OK
- checking loading without being on the library search path ... [0s/0s] OK
- checking whether startup messages can be suppressed ... [0s/0s] OK
- checking dependencies in R code ... OK
- checking S3 generic/method consistency ... OK
- checking replacement functions ... OK
- checking foreign function calls ... OK
- checking R code for possible problems ...* using check arguments '--no-clean-on-error '