- using R version 4.3.0 alpha (2023-03-31 r84137)
- using platform: aarch64-apple-darwin20 (64-bit)
- R was compiled by
Apple clang version 14.0.0 (clang-1400.0.29.202)
GNU Fortran (GCC) 12.2.0
- running under: macOS Big Sur 11.6.7
- using session charset: UTF-8
- checking for file ‘urbin/DESCRIPTION’ ... OK
- this is package ‘urbin’ version ‘0.1-12’
- checking package namespace information ... OK
- checking package dependencies ... OK
- checking if this is a source package ... OK
- checking if there is a namespace ... OK
- checking for executable files ... OK
- checking for hidden files and directories ... OK
- checking for portable file names ... OK
- checking for sufficient/correct file permissions ... OK
- checking whether package ‘urbin’ can be installed ... [1s/1s] OK
See the install log for details.
- checking installed package size ... OK
- checking package directory ... OK
- checking ‘build’ directory ... OK
- checking DESCRIPTION meta-information ... OK
- checking top-level files ... OK
- checking for left-over files ... OK
- checking index information ... OK
- checking package subdirectories ... OK
- checking R files for non-ASCII characters ... OK
- checking R files for syntax errors ... OK
- checking whether the package can be loaded ... [0s/0s] OK
- checking whether the package can be loaded with stated dependencies ... [0s/0s] OK
- checking whether the package can be unloaded cleanly ... [0s/0s] OK
- checking whether the namespace can be loaded with stated dependencies ... [0s/0s] OK
- checking whether the namespace can be unloaded cleanly ... [0s/0s] OK
- checking loading without being on the library search path ... [0s/0s] OK
- checking dependencies in R code ... OK
- checking S3 generic/method consistency ... OK
- checking replacement functions ... OK
- checking foreign function calls ... OK
- checking R code for possible problems ... [1s/2s] OK
- checking Rd files ... [0s/0s] OK
- checking Rd metadata ... OK
- checking Rd cross-references ... OK
- checking for missing documentation entries ... OK
- checking for code/documentation mismatches ... OK
- checking Rd \usage sections ... OK
- checking Rd contents ... OK
- checking for unstated dependencies in examples ... OK
- checking sizes of PDF files under ‘inst/doc’ ... OK
- checking installed files from ‘inst/doc’ ... OK
- checking files in ‘vignettes’ ... OK
- checking examples ... [1s/1s] OK
- checking for unstated dependencies in ‘tests’ ... OK
- checking tests ... [16s/19s] OK
Running ‘logit.R’ [2s/2s]
Comparing ‘logit.Rout’ to ‘logit.Rout.save’ ...39a40,43
> Deviance Residuals:
> Min 1Q Median 3Q Max
> -1.873 -1.232 0.803 1.056 1.587
>
137a142,145
> Deviance Residuals:
> Min 1Q Median 3Q Max
> -1.899 -1.232 0.789 1.051 1.649
>
293a302,305
> Deviance Residuals:
> Min 1Q Median 3Q Max
> -1.874 -1.216 0.805 1.067 1.722
>
Running ‘logitEffCat.R’ [0s/0s]
Comparing ‘logitEffCat.Rout’ to ‘logitEffCat.Rout.save’ ... OK
Running ‘logitEffInt.R’ [0s/0s]
Comparing ‘logitEffInt.Rout’ to ‘logitEffInt.Rout.save’ ... OK
Running ‘logitEla.R’ [0s/0s]
Comparing ‘logitEla.Rout’ to ‘logitEla.Rout.save’ ... OK
Running ‘logitElaInt.R’ [0s/0s]
Comparing ‘logitElaInt.Rout’ to ‘logitElaInt.Rout.save’ ... OK
Running ‘lpm.R’ [1s/1s]
Comparing ‘lpm.Rout’ to ‘lpm.Rout.save’ ... OK
Running ‘mlogit.R’ [2s/2s]
Comparing ‘mlogit.Rout’ to ‘mlogit.Rout.save’ ... OK
Running ‘mvprobit.R’ [7s/9s]
Comparing ‘mvprobit.Rout’ to ‘mvprobit.Rout.save’ ... OK
Running ‘oprobit.R’ [1s/2s]
Comparing ‘oprobit.Rout’ to ‘oprobit.Rout.save’ ... OK
Running ‘probit.R’ [1s/2s]
Comparing ‘probit.Rout’ to ‘probit.Rout.save’ ...39a40,43
> Deviance Residuals:
> Min 1Q Median 3Q Max
> -1.895 -1.234 0.802 1.059 1.589
>
137a142,145
> Deviance Residuals:
> Min 1Q Median 3Q Max
> -1.927 -1.231 0.785 1.053 1.654
>
293a302,305
> Deviance Residuals:
> Min 1Q Median 3Q Max
> -1.897 -1.215 0.804 1.069 1.729
>
- checking for unstated dependencies in vignettes ... OK
- checking package vignettes in ‘inst/doc’ ... OK
- checking running R code from vignettes ... [0s/1s] NONE
‘ExtendedAppendix.Rnw’... [0s/0s] OK
‘Manuscript.Rnw’... [0s/0s] OK
- checking re-building of vignette outputs ... [20s/22s] OK
- checking PDF version of manual ... [3s/4s] OK
- DONE
Status: OK
- using check arguments '--no-clean-on-error '