- using R version 4.4.0 (2024-04-24)
- using platform: x86_64-pc-linux-gnu
- R was compiled by
gcc-13 (Debian 13.2.0-23) 13.2.0
GNU Fortran (Debian 13.2.0-23) 13.2.0
- running under: Debian GNU/Linux trixie/sid
- using session charset: UTF-8
- checking for file ‘npboottprm/DESCRIPTION’ ... OK
- this is package ‘npboottprm’ version ‘0.2.1’
- package encoding: UTF-8
- checking package namespace information ... OK
- checking package dependencies ... OK
- checking if this is a source package ... OK
- checking if there is a namespace ... OK
- checking for executable files ... OK
- checking for hidden files and directories ... OK
- checking for portable file names ... OK
- checking for sufficient/correct file permissions ... OK
- checking serialization versions ... OK
- checking whether package ‘npboottprm’ can be installed ... OK
See the install log for details.
- checking package directory ... OK
- checking for future file timestamps ... OK
- checking DESCRIPTION meta-information ... OK
- checking top-level files ... OK
- checking for left-over files ... OK
- checking index information ... OK
- checking package subdirectories ... OK
- checking code files for non-ASCII characters ... OK
- checking R files for syntax errors ... OK
- checking whether the package can be loaded ... [0s/0s] OK
- checking whether the package can be loaded with stated dependencies ... [0s/0s] OK
- checking whether the package can be unloaded cleanly ... [0s/0s] OK
- checking whether the namespace can be loaded with stated dependencies ... [0s/0s] OK
- checking whether the namespace can be unloaded cleanly ... [0s/0s] OK
- checking loading without being on the library search path ... [0s/0s] OK
- checking use of S3 registration ... OK
- checking dependencies in R code ... OK
- checking S3 generic/method consistency ... OK
- checking replacement functions ... OK
- checking foreign function calls ... OK
- checking R code for possible problems ... [9s/11s] OK
- checking Rd files ... [1s/1s] OK
- checking Rd metadata ... OK
- checking Rd line widths ... OK
- checking Rd cross-references ... OK
- checking for missing documentation entries ... OK
- checking for code/documentation mismatches ... OK
- checking Rd \usage sections ... OK
- checking Rd contents ... OK
- checking for unstated dependencies in examples ... OK
- checking contents of ‘data’ directory ... OK
- checking data for non-ASCII characters ... [0s/1s] OK
- checking LazyData ... OK
- checking data for ASCII and uncompressed saves ... OK
- checking examples ... [129s/147s] OK
Examples with CPU (user + system) or elapsed time > 5s
user system elapsed
replext_t2_c1.1 6.778 0.270 8.373
nonparboot 5.253 0.016 6.281
replext_ts2_c4.1 5.160 0.079 5.499
replext_ts2_c3.2 5.169 0.036 6.338
replext_ts2_c2.2 5.057 0.012 6.084
replext_ts3_c2.1 4.984 0.047 5.541
replext_ts2_c2.1 5.008 0.008 5.625
replext_ts3_c3.2 4.978 0.032 5.652
replext_ts2_c3.1 4.952 0.004 6.550
replext_ts2_c4.2 4.906 0.031 5.861
replext_ts3_c4.2 4.921 0.012 5.315
replext_ts3_c4.1 4.921 0.000 5.526
replext_ts3_c3.1 4.910 0.000 5.154
replext_ts3_c2.2 4.897 0.004 5.411
replext_ts3_c1.2 4.835 0.005 5.377
replext_ts3_c1.1 4.832 0.004 5.164
replext_ts2_c1.1 4.782 0.011 5.160
replext_ts2_c1.2 4.670 0.059 5.341
- checking for unstated dependencies in ‘tests’ ... OK
- checking tests ... [67s/77s] OK
Running ‘testthat.R’ [67s/77s]
- checking PDF version of manual ... [9s/12s] OK
- checking HTML version of manual ... [4s/6s] OK
- checking for non-standard things in the check directory ... OK
- DONE
Status: OK