- using R version 4.4.0 (2024-04-24)
- using platform: x86_64-pc-linux-gnu
- R was compiled by
gcc-13 (Debian 13.2.0-23) 13.2.0
GNU Fortran (Debian 13.2.0-23) 13.2.0
- running under: Debian GNU/Linux trixie/sid
- using session charset: UTF-8
- checking for file ‘movementsync/DESCRIPTION’ ... OK
- checking extension type ... Package
- this is package ‘movementsync’ version ‘0.1.4’
- package encoding: UTF-8
- checking package namespace information ... OK
- checking package dependencies ... OK
- checking if this is a source package ... OK
- checking if there is a namespace ... OK
- checking for executable files ... OK
- checking for hidden files and directories ... OK
- checking for portable file names ... OK
- checking for sufficient/correct file permissions ... OK
- checking serialization versions ... OK
- checking whether package ‘movementsync’ can be installed ... OK
See the install log for details.
- checking package directory ... OK
- checking for future file timestamps ... OK
- checking DESCRIPTION meta-information ... OK
- checking top-level files ... OK
- checking for left-over files ... OK
- checking index information ... OK
- checking package subdirectories ... OK
- checking code files for non-ASCII characters ... OK
- checking R files for syntax errors ... OK
- checking whether the package can be loaded ... [2s/2s] OK
- checking whether the package can be loaded with stated dependencies ... [1s/1s] OK
- checking whether the package can be unloaded cleanly ... [1s/1s] OK
- checking whether the namespace can be loaded with stated dependencies ... [1s/2s] OK
- checking whether the namespace can be unloaded cleanly ... [2s/2s] OK
- checking loading without being on the library search path ... [2s/2s] OK
- checking whether startup messages can be suppressed ... [2s/2s] OK
- checking use of S3 registration ... OK
- checking dependencies in R code ... OK
- checking S3 generic/method consistency ... OK
- checking replacement functions ... OK
- checking foreign function calls ... OK
- checking R code for possible problems ... [22s/27s] OK
- checking Rd files ... [1s/1s] OK
- checking Rd metadata ... OK
- checking Rd line widths ... OK
- checking Rd cross-references ... OK
- checking for missing documentation entries ... OK
- checking for code/documentation mismatches ... OK
- checking Rd \usage sections ... OK
- checking Rd contents ... OK
- checking for unstated dependencies in examples ... OK
- checking contents of ‘data’ directory ... OK
- checking data for non-ASCII characters ... [1s/1s] OK
- checking data for ASCII and uncompressed saves ... OK
- checking examples ... [125s/146s] OK
Examples with CPU (user + system) or elapsed time > 5s
user system elapsed
compare_avg_cross_power2 8.928 0.140 11.318
plot_sel_phases 8.561 0.013 8.985
plot_roll_resultant_length 8.382 0.031 9.229
analyze_coherency 7.874 0.379 9.340
ave_cross_power_over_splices 7.814 0.111 8.609
plot_average_coherency 7.702 0.194 8.984
plot_cross_spectrum 7.716 0.083 9.193
plot_cwt_energy 7.719 0.036 9.258
summary.sel.phases 7.430 0.054 9.034
granger_test 4.251 0.031 5.404
- checking for unstated dependencies in ‘tests’ ... OK
- checking tests ... [3s/4s] OK
Running ‘testthat.R’ [3s/3s]
- checking PDF version of manual ... [11s/15s] OK
- checking HTML version of manual ... [5s/8s] OK
- checking for non-standard things in the check directory ... OK
- DONE
Status: OK