- using R version 4.3.3 (2024-02-29)
- using platform: x86_64-pc-linux-gnu (64-bit)
- R was compiled by
gcc-13 (Debian 13.2.0-13) 13.2.0
GNU Fortran (Debian 13.2.0-13) 13.2.0
- running under: Debian GNU/Linux trixie/sid
- using session charset: UTF-8
- checking for file ‘lsirm12pl/DESCRIPTION’ ... OK
- checking extension type ... Package
- this is package ‘lsirm12pl’ version ‘1.3.1’
- package encoding: UTF-8
- checking package namespace information ... OK
- checking package dependencies ... OK
- checking if this is a source package ... OK
- checking if there is a namespace ... OK
- checking for executable files ... OK
- checking for hidden files and directories ... OK
- checking for portable file names ... OK
- checking for sufficient/correct file permissions ... OK
- checking serialization versions ... OK
- checking whether package ‘lsirm12pl’ can be installed ... OK
See the install log for details.
- used C++ compiler: ‘g++-13 (Debian 13.2.0-13) 13.2.0’
- checking package directory ... OK
- checking for future file timestamps ... OK
- checking DESCRIPTION meta-information ... OK
- checking top-level files ... OK
- checking for left-over files ... OK
- checking index information ... OK
- checking package subdirectories ... OK
- checking R files for non-ASCII characters ... OK
- checking R files for syntax errors ... OK
- checking whether the package can be loaded ... [7s/9s] OK
- checking whether the package can be loaded with stated dependencies ... [6s/7s] OK
- checking whether the package can be unloaded cleanly ... [7s/9s] OK
- checking whether the namespace can be loaded with stated dependencies ... [6s/8s] OK
- checking whether the namespace can be unloaded cleanly ... [7s/10s] OK
- checking loading without being on the library search path ... [7s/9s] OK
- checking use of S3 registration ... OK
- checking dependencies in R code ... OK
- checking S3 generic/method consistency ... OK
- checking replacement functions ... OK
- checking foreign function calls ... OK
- checking R code for possible problems ... [55s/63s] OK
- checking Rd files ... [2s/2s] OK
- checking Rd metadata ... OK
- checking Rd line widths ... OK
- checking Rd cross-references ... OK
- checking for missing documentation entries ... OK
- checking for code/documentation mismatches ... OK
- checking Rd \usage sections ... OK
- checking Rd contents ... OK
- checking for unstated dependencies in examples ... OK
- checking contents of ‘data’ directory ... OK
- checking data for non-ASCII characters ... [0s/0s] OK
- checking LazyData ... OK
- checking data for ASCII and uncompressed saves ... OK
- checking line endings in C/C++/Fortran sources/headers ... OK
- checking line endings in Makefiles ... OK
- checking compilation flags in Makevars ... OK
- checking for GNU extensions in Makefiles ... OK
- checking for portable use of $(BLAS_LIBS) and $(LAPACK_LIBS) ... OK
- checking use of PKG_*FLAGS in Makefiles ... OK
- checking use of SHLIB_OPENMP_*FLAGS in Makefiles ... OK
- checking pragmas in C/C++ headers and code ... OK
- checking compilation flags used ... OK
- checking compiled code ... OK
- checking examples ... [126s/138s] OK
Examples with CPU (user + system) or elapsed time > 5s
user system elapsed
lsirm1pl_normal_fixed_gamma_mar 7.338 1.196 8.554
lsirm2pl_normal_mar_ss 6.743 1.342 9.368
lsirm2pl_normal_mar 6.638 1.263 9.221
lsirm2pl_normal_mcar_ss 6.256 1.462 9.591
lsirm2pl_normal_ss 6.331 1.339 9.506
lsirm2pl_normal_mcar 6.282 1.363 9.847
lsirm2pl_normal_o 6.124 1.475 8.830
lsirm1pl_normal_fixed_gamma 6.116 1.269 7.508
lsirm1pl_normal_mar_ss 5.675 1.168 6.851
lsirm1pl_normal_mar 5.578 1.212 6.859
lsirm1pl_normal_fixed_gamma_mcar 5.277 1.387 6.670
lsirm2pl_normal_fixed_gamma_mcar 4.626 0.828 5.455
lsirm2pl_normal_fixed_gamma_mar 4.554 0.840 5.393
lsirm1pl_normal_mcar 4.097 1.072 5.168
- checking PDF version of manual ... [11s/14s] OK
- checking HTML version of manual ... [7s/10s] OK
- checking for non-standard things in the check directory ... OK
- DONE
Status: OK