- using R version 4.3.3 (2024-02-29)
- using platform: x86_64-pc-linux-gnu (64-bit)
- R was compiled by
gcc-13 (Debian 13.2.0-13) 13.2.0
GNU Fortran (Debian 13.2.0-13) 13.2.0
- running under: Debian GNU/Linux trixie/sid
- using session charset: UTF-8
- checking for file ‘bayesplot/DESCRIPTION’ ... OK
- checking extension type ... Package
- this is package ‘bayesplot’ version ‘1.11.1’
- package encoding: UTF-8
- checking package namespace information ... OK
- checking package dependencies ... OK
- checking if this is a source package ... OK
- checking if there is a namespace ... OK
- checking for executable files ... OK
- checking for hidden files and directories ... OK
- checking for portable file names ... OK
- checking for sufficient/correct file permissions ... OK
- checking serialization versions ... OK
- checking whether package ‘bayesplot’ can be installed ... OK
See the install log for details.
- checking package directory ... OK
- checking for future file timestamps ... OK
- checking ‘build’ directory ... OK
- checking DESCRIPTION meta-information ... OK
- checking top-level files ... OK
- checking for left-over files ... OK
- checking index information ... OK
- checking package subdirectories ... OK
- checking R files for non-ASCII characters ... OK
- checking R files for syntax errors ... OK
- checking whether the package can be loaded ... [2s/2s] OK
- checking whether the package can be loaded with stated dependencies ... [1s/1s] OK
- checking whether the package can be unloaded cleanly ... [1s/1s] OK
- checking whether the namespace can be loaded with stated dependencies ... [1s/2s] OK
- checking whether the namespace can be unloaded cleanly ... [2s/2s] OK
- checking loading without being on the library search path ... [2s/2s] OK
- checking startup messages can be suppressed ... [2s/3s] OK
- checking use of S3 registration ... OK
- checking dependencies in R code ... OK
- checking S3 generic/method consistency ... OK
- checking replacement functions ... OK
- checking foreign function calls ... OK
- checking R code for possible problems ... [31s/37s] OK
- checking Rd files ... [1s/1s] OK
- checking Rd metadata ... OK
- checking Rd line widths ... OK
- checking Rd cross-references ... OK
- checking for missing documentation entries ... OK
- checking for code/documentation mismatches ... OK
- checking Rd \usage sections ... OK
- checking Rd contents ... OK
- checking for unstated dependencies in examples ... OK
- checking R/sysdata.rda ... OK
- checking installed files from ‘inst/doc’ ... OK
- checking files in ‘vignettes’ ... OK
- checking examples ... [161s/191s] OK
Examples with CPU (user + system) or elapsed time > 5s
user system elapsed
bayesplot-colors 14.878 0.051 19.062
PPC-intervals 12.917 0.139 15.504
MCMC-intervals 11.848 0.091 16.406
PPD-intervals 11.053 0.028 13.280
MCMC-traces 9.834 0.153 12.482
bayesplot-helpers 9.200 0.071 9.864
PPC-test-statistics 9.090 0.011 10.414
MCMC-diagnostics 7.025 0.103 7.883
bayesplot_theme_get 6.813 0.005 6.907
PPC-discrete 6.003 0.056 7.995
MCMC-combos 5.854 0.144 6.982
bayesplot-package 5.961 0.020 7.085
MCMC-distributions 5.452 0.091 6.634
theme_default 5.326 0.036 5.361
pp_check 5.220 0.020 5.240
PPC-distributions 5.104 0.032 5.655
tidy-params 5.093 0.005 5.178
MCMC-scatterplots 4.239 0.067 5.776
PPC-errors 4.052 0.007 5.113
- checking for unstated dependencies in ‘tests’ ... OK
- checking tests ... [396s/491s] OK
Running ‘testthat.R’ [396s/491s]
- checking for unstated dependencies in vignettes ... OK
- checking package vignettes in ‘inst/doc’ ... OK
- checking re-building of vignette outputs ... [13s/20s] OK
- checking PDF version of manual ... [11s/15s] OK
- checking HTML version of manual ... [6s/9s] OK
- checking for non-standard things in the check directory ... OK
- DONE
Status: OK