- using R version 4.3.3 (2024-02-29)
- using platform: x86_64-pc-linux-gnu (64-bit)
- R was compiled by
gcc-13 (Debian 13.2.0-13) 13.2.0
GNU Fortran (Debian 13.2.0-13) 13.2.0
- running under: Debian GNU/Linux trixie/sid
- using session charset: UTF-8
- checking for file ‘MoLE/DESCRIPTION’ ... OK
- checking extension type ... Package
- this is package ‘MoLE’ version ‘1.0.1’
- checking package namespace information ... OK
- checking package dependencies ... OK
- checking if this is a source package ... OK
- checking if there is a namespace ... OK
- checking for executable files ... OK
- checking for hidden files and directories ... OK
- checking for portable file names ... OK
- checking for sufficient/correct file permissions ... OK
- checking serialization versions ... OK
- checking whether package ‘MoLE’ can be installed ... OK
See the install log for details.
- checking package directory ... OK
- checking for future file timestamps ... OK
- checking DESCRIPTION meta-information ... OK
- checking top-level files ... OK
- checking for left-over files ... OK
- checking index information ... OK
- checking package subdirectories ... NOTE
Problems with news in ‘NEWS.md’:
No news entries found.
- checking R files for non-ASCII characters ... OK
- checking R files for syntax errors ... OK
- checking whether the package can be loaded ... [0s/1s] OK
- checking whether the package can be loaded with stated dependencies ... [0s/0s] OK
- checking whether the package can be unloaded cleanly ... [0s/0s] OK
- checking whether the namespace can be loaded with stated dependencies ... [0s/0s] OK
- checking whether the namespace can be unloaded cleanly ... [0s/1s] OK
- checking loading without being on the library search path ... [0s/0s] OK
- checking use of S3 registration ... OK
- checking dependencies in R code ... OK
- checking S3 generic/method consistency ... OK
- checking replacement functions ... OK
- checking foreign function calls ... OK
- checking R code for possible problems ... [40s/42s] OK
- checking Rd files ... [1s/1s] NOTE
checkRd: (-1) CHECKSUCCESS.Rd:44: Escaped LaTeX specials: \&
- checking Rd metadata ... OK
- checking Rd line widths ... OK
- checking Rd cross-references ... OK
- checking for missing documentation entries ... OK
- checking for code/documentation mismatches ... OK
- checking Rd \usage sections ... OK
- checking Rd contents ... OK
- checking for unstated dependencies in examples ... OK
- checking contents of ‘data’ directory ... OK
- checking data for non-ASCII characters ... [0s/0s] OK
- checking LazyData ... OK
- checking data for ASCII and uncompressed saves ... OK
- checking examples ... [146s/170s] OK
Examples with CPU (user + system) or elapsed time > 5s
user system elapsed
TURN 6.006 0.001 6.624
SUCCESS 5.885 0.003 6.237
TYPEMATCH 5.735 0.003 6.146
PROTOINTERPRETATION 5.622 0.000 6.104
REDUCE 5.599 0.000 6.264
REFCHECK 5.553 0.004 5.678
TOPICCOPY 5.545 0.000 6.038
VERBMORPHOLOGY 5.542 0.000 6.250
TOPICFIRST 5.464 0.000 6.239
SELECTACTOR 5.454 0.004 6.172
EROSION 5.203 0.016 5.620
VERBFINAL 5.188 0.005 5.390
PROPOSITION 5.176 0.008 5.826
INTERPRET 5.162 0.004 6.598
INTERPRET.INT 5.149 0.000 5.974
WORDORDER 5.109 0.000 7.450
ANALYZE 5.098 0.002 6.039
GROUP 5.010 0.000 6.042
AGENTFIRST 5.003 0.000 6.663
FREQUPDATE 4.946 0.008 6.468
DECOMPOSE 4.883 0.027 6.405
CHECKSUCCESS 4.900 0.008 5.841
GENERALIZE 4.885 0.008 5.962
FIRSTINFIRSTOUT 4.867 0.004 5.147
NOUNMORPHOLOGY 4.851 0.004 6.187
PRODUCE 4.830 0.004 5.978
PREPARE 4.687 0.004 5.435
- checking PDF version of manual ... [8s/11s] OK
- checking HTML version of manual ... [2s/4s] OK
- checking for non-standard things in the check directory ... OK
- DONE
Status: 2 NOTEs