- using R version 4.4.0 (2024-04-24)
- using platform: x86_64-pc-linux-gnu
- R was compiled by
gcc-13 (Debian 13.2.0-23) 13.2.0
GNU Fortran (Debian 13.2.0-23) 13.2.0
- running under: Debian GNU/Linux trixie/sid
- using session charset: UTF-8
- checking for file ‘BayesCVI/DESCRIPTION’ ... OK
- checking extension type ... Package
- this is package ‘BayesCVI’ version ‘1.0.0’
- package encoding: UTF-8
- checking package namespace information ... OK
- checking package dependencies ... OK
- checking if this is a source package ... OK
- checking if there is a namespace ... OK
- checking for executable files ... OK
- checking for hidden files and directories ... OK
- checking for portable file names ... OK
- checking for sufficient/correct file permissions ... OK
- checking serialization versions ... OK
- checking whether package ‘BayesCVI’ can be installed ... OK
See the install log for details.
- checking package directory ... OK
- checking for future file timestamps ... OK
- checking DESCRIPTION meta-information ... OK
- checking top-level files ... OK
- checking for left-over files ... OK
- checking index information ... OK
- checking package subdirectories ... OK
- checking code files for non-ASCII characters ... OK
- checking R files for syntax errors ... OK
- checking whether the package can be loaded ... [2s/2s] OK
- checking whether the package can be loaded with stated dependencies ... [1s/2s] OK
- checking whether the package can be unloaded cleanly ... [1s/2s] OK
- checking whether the namespace can be loaded with stated dependencies ... [1s/1s] OK
- checking whether the namespace can be unloaded cleanly ... [2s/2s] OK
- checking loading without being on the library search path ... [1s/2s] OK
- checking use of S3 registration ... OK
- checking dependencies in R code ... OK
- checking S3 generic/method consistency ... OK
- checking replacement functions ... OK
- checking foreign function calls ... OK
- checking R code for possible problems ... [19s/22s] OK
- checking Rd files ... [1s/1s] OK
- checking Rd metadata ... OK
- checking Rd line widths ... OK
- checking Rd cross-references ... OK
- checking for missing documentation entries ... OK
- checking for code/documentation mismatches ... OK
- checking Rd \usage sections ... OK
- checking Rd contents ... OK
- checking for unstated dependencies in examples ... OK
- checking contents of ‘data’ directory ... OK
- checking data for non-ASCII characters ... [0s/0s] OK
- checking LazyData ... OK
- checking data for ASCII and uncompressed saves ... OK
- checking examples ... [169s/177s] OK
Examples with CPU (user + system) or elapsed time > 5s
user system elapsed
B_GC.IDX 14.666 0.041 15.148
B_WP.IDX 14.338 0.044 14.910
plot_BCVI 13.037 0.004 13.734
B_CCV.IDX 12.343 0.191 13.242
B_WL.IDX 11.822 0.004 12.099
B_TANG.IDX 11.809 0.008 12.380
B_KPBM.IDX 11.692 0.004 11.974
B_PBM.IDX 11.640 0.001 11.812
B_XB.IDX 11.573 0.043 12.355
B_KWON2.IDX 11.610 0.004 12.287
B_KWON.IDX 11.592 0.004 12.810
B_HF.IDX 11.571 0.008 12.341
BayesCVIs 6.129 0.004 6.523
- checking PDF version of manual ... [9s/10s] OK
- checking HTML version of manual ... [4s/5s] OK
- checking for non-standard things in the check directory ... OK
- DONE
Status: OK