- using R version 4.4.0 RC (2024-04-16 r86473)
- using platform: x86_64-pc-linux-gnu
- R was compiled by
gcc-13 (Debian 13.2.0-13) 13.2.0
GNU Fortran (Debian 13.2.0-13) 13.2.0
- running under: Debian GNU/Linux trixie/sid
- using session charset: UTF-8
- checking for file ‘ursa/DESCRIPTION’ ... OK
- checking extension type ... Package
- this is package ‘ursa’ version ‘3.10.4’
- checking package namespace information ... OK
- checking package dependencies ... OK
- checking if this is a source package ... OK
- checking if there is a namespace ... OK
- checking for executable files ... OK
- checking for hidden files and directories ... OK
- checking for portable file names ... OK
- checking for sufficient/correct file permissions ... OK
- checking whether package ‘ursa’ can be installed ... OK
See the install log for details.
- used C compiler: ‘gcc-13 (Debian 13.2.0-13) 13.2.0’
- checking package directory ... OK
- checking for future file timestamps ... OK
- checking DESCRIPTION meta-information ... OK
- checking top-level files ... OK
- checking for left-over files ... OK
- checking index information ... OK
- checking package subdirectories ... OK
- checking code files for non-ASCII characters ... OK
- checking R files for syntax errors ... OK
- checking whether the package can be loaded ... [0s/1s] OK
- checking whether the package can be loaded with stated dependencies ... [0s/0s] OK
- checking whether the package can be unloaded cleanly ... [0s/0s] OK
- checking whether the namespace can be loaded with stated dependencies ... [0s/0s] OK
- checking whether the namespace can be unloaded cleanly ... [0s/1s] OK
- checking loading without being on the library search path ... [0s/0s] OK
- checking whether startup messages can be suppressed ... [0s/0s] OK
- checking use of S3 registration ... OK
- checking dependencies in R code ... OK
- checking S3 generic/method consistency ... OK
- checking replacement functions ... OK
- checking foreign function calls ... OK
- checking R code for possible problems ... [149s/180s] OK
- checking Rd files ... [2s/3s] OK
- checking Rd metadata ... OK
- checking Rd line widths ... OK
- checking Rd cross-references ... OK
- checking for missing documentation entries ... OK
- checking for code/documentation mismatches ... OK
- checking Rd \usage sections ... OK
- checking Rd contents ... OK
- checking for unstated dependencies in examples ... OK
- checking line endings in C/C++/Fortran sources/headers ... OK
- checking pragmas in C/C++ headers and code ... OK
- checking compilation flags used ... OK
- checking compiled code ... OK
- checking examples ... [188s/236s] OK
Examples with CPU (user + system) or elapsed time > 5s
user system elapsed
compose_open 5.716 0.621 7.371
panel_shading 5.985 0.181 7.386
panel_raster 5.900 0.199 8.182
panel_graticule 5.748 0.263 8.632
legend_colorbar 5.591 0.093 7.030
display_brick 5.267 0.133 5.946
panel_new 5.123 0.126 5.863
regrid 4.724 0.221 5.898
compose_design 4.548 0.153 6.594
compose_legend 4.399 0.246 5.192
panel_scalebar 4.359 0.164 5.139
Ops.local_group 4.226 0.269 5.776
classRaster_plot 4.248 0.102 5.355
panel_coastline 4.143 0.072 5.405
Ops.local_stat 3.934 0.140 5.156
- checking PDF version of manual ... [17s/23s] OK
- checking HTML version of manual ... [12s/17s] OK
- checking for non-standard things in the check directory ... OK
- DONE
Status: OK