- using R version 4.4.0 RC (2024-04-16 r86473)
- using platform: x86_64-pc-linux-gnu
- R was compiled by
gcc-13 (Debian 13.2.0-13) 13.2.0
GNU Fortran (Debian 13.2.0-13) 13.2.0
- running under: Debian GNU/Linux trixie/sid
- using session charset: UTF-8
- checking for file ‘success/DESCRIPTION’ ... OK
- this is package ‘success’ version ‘1.0.1’
- package encoding: UTF-8
- checking package namespace information ... OK
- checking package dependencies ... NOTE
Package suggested but not available for checking: ‘vlad’
- checking if this is a source package ... OK
- checking if there is a namespace ... OK
- checking for executable files ... OK
- checking for hidden files and directories ... OK
- checking for portable file names ... OK
- checking for sufficient/correct file permissions ... OK
- checking whether package ‘success’ can be installed ... OK
See the install log for details.
- checking package directory ... OK
- checking for future file timestamps ... OK
- checking ‘build’ directory ... OK
- checking DESCRIPTION meta-information ... OK
- checking top-level files ... OK
- checking for left-over files ... OK
- checking index information ... OK
- checking package subdirectories ... OK
- checking code files for non-ASCII characters ... OK
- checking R files for syntax errors ... OK
- checking whether the package can be loaded ... [4s/4s] OK
- checking whether the package can be loaded with stated dependencies ... [3s/4s] OK
- checking whether the package can be unloaded cleanly ... [3s/4s] OK
- checking whether the namespace can be loaded with stated dependencies ... [3s/4s] OK
- checking whether the namespace can be unloaded cleanly ... [4s/6s] OK
- checking loading without being on the library search path ... [4s/5s] OK
- checking use of S3 registration ... OK
- checking dependencies in R code ... OK
- checking S3 generic/method consistency ... OK
- checking replacement functions ... OK
- checking foreign function calls ... OK
- checking R code for possible problems ... [29s/38s] OK
- checking Rd files ... [1s/1s] NOTE
checkRd: (-1) bernoulli_ARL.Rd:54: Lost braces; missing escapes or markup?
54 | depending on the state in which the process starts (E_0, E_1, ..., E_{n_grid-1})
| ^
checkRd: (-1) bernoulli_ARL.Rd:57: Lost braces; missing escapes or markup?
57 | discretized state spaces E_{i};}
| ^
checkRd: (-1) bernoulli_RL_cdf.Rd:57: Lost braces; missing escapes or markup?
57 | depending on the state in which the process starts (E_0, E_1, ..., E_{n_grid-1})
| ^
checkRd: (-1) bernoulli_RL_cdf.Rd:60: Lost braces; missing escapes or markup?
60 | discretized state spaces E_{i};}
| ^
checkRd: (-1) bk_cusum.Rd:92-94: Lost braces in \itemize; meant \describe ?
checkRd: (-1) bk_cusum.Rd:95-97: Lost braces in \itemize; meant \describe ?
checkRd: (-1) cgr_cusum.Rd:109-111: Lost braces in \itemize; meant \describe ?
checkRd: (-1) cgr_cusum.Rd:112-114: Lost braces in \itemize; meant \describe ?
checkRd: (-1) parameter_assist.Rd:58: Lost braces in \itemize; \value handles \item{}{} directly
checkRd: (-1) parameter_assist.Rd:59: Lost braces in \itemize; \value handles \item{}{} directly
checkRd: (-1) parameter_assist.Rd:60: Lost braces in \itemize; \value handles \item{}{} directly
checkRd: (-1) parameter_assist.Rd:61-63: Lost braces in \itemize; \value handles \item{}{} directly
checkRd: (-1) parameter_assist.Rd:64-66: Lost braces in \itemize; \value handles \item{}{} directly
checkRd: (-1) parameter_assist.Rd:67: Lost braces in \itemize; \value handles \item{}{} directly
checkRd: (-1) parameter_assist.Rd:68: Lost braces in \itemize; \value handles \item{}{} directly
checkRd: (-1) parameter_assist.Rd:69: Lost braces in \itemize; \value handles \item{}{} directly
checkRd: (-1) parameter_assist.Rd:70: Lost braces in \itemize; \value handles \item{}{} directly
checkRd: (-1) parameter_assist.Rd:71: Lost braces in \itemize; \value handles \item{}{} directly
- checking Rd metadata ... OK
- checking Rd line widths ... OK
- checking Rd cross-references ... OK
- checking for missing documentation entries ... OK
- checking for code/documentation mismatches ... OK
- checking Rd \usage sections ... OK
- checking Rd contents ... OK
- checking for unstated dependencies in examples ... OK
- checking contents of ‘data’ directory ... OK
- checking data for non-ASCII characters ... [0s/0s] OK
- checking LazyData ... OK
- checking data for ASCII and uncompressed saves ... OK
- checking sizes of PDF files under ‘inst/doc’ ... OK
- checking installed files from ‘inst/doc’ ... OK
- checking files in ‘vignettes’ ... OK
- checking examples ... [38s/49s] OK
Examples with CPU (user + system) or elapsed time > 5s
user system elapsed
bernoulli_RL_cdf 7.395 0.059 9.379
breast 6.161 0.017 7.494
bk_control_limit 4.591 0.134 6.280
bernoulli_ARL 4.070 0.074 5.273
- checking for unstated dependencies in ‘tests’ ... OK
- checking tests ... [132s/157s] OK
Running ‘testthat.R’ [132s/156s]
- checking for unstated dependencies in vignettes ... OK
- checking package vignettes ... OK
- checking re-building of vignette outputs ... [4s/6s] OK
- checking PDF version of manual ... [8s/10s] OK
- checking HTML version of manual ... [3s/5s] OK
- checking for non-standard things in the check directory ... OK
- DONE
Status: 2 NOTEs