- using R version 4.4.0 alpha (2024-03-26 r86209)
- using platform: x86_64-pc-linux-gnu
- R was compiled by
gcc-13 (Debian 13.2.0-13) 13.2.0
GNU Fortran (Debian 13.2.0-13) 13.2.0
- running under: Debian GNU/Linux trixie/sid
- using session charset: UTF-8
- checking for file ‘quickpsy/DESCRIPTION’ ... OK
- checking extension type ... Package
- this is package ‘quickpsy’ version ‘0.1.5.1’
- package encoding: UTF-8
- checking package namespace information ... OK
- checking package dependencies ... OK
- checking if this is a source package ... OK
- checking if there is a namespace ... OK
- checking for executable files ... OK
- checking for hidden files and directories ... OK
- checking for portable file names ... OK
- checking for sufficient/correct file permissions ... OK
- checking serialization versions ... OK
- checking whether package ‘quickpsy’ can be installed ... OK
See the install log for details.
- checking package directory ... OK
- checking for future file timestamps ... OK
- checking DESCRIPTION meta-information ... OK
- checking top-level files ... OK
- checking for left-over files ... OK
- checking index information ... OK
- checking package subdirectories ... OK
- checking code files for non-ASCII characters ... OK
- checking R files for syntax errors ... OK
- checking whether the package can be loaded ... [2s/2s] OK
- checking whether the package can be loaded with stated dependencies ... [1s/2s] OK
- checking whether the package can be unloaded cleanly ... [1s/2s] OK
- checking whether the namespace can be loaded with stated dependencies ... [1s/1s] OK
- checking whether the namespace can be unloaded cleanly ... [2s/2s] OK
- checking loading without being on the library search path ... [2s/2s] OK
- checking use of S3 registration ... OK
- checking dependencies in R code ... OK
- checking S3 generic/method consistency ... OK
- checking replacement functions ... OK
- checking foreign function calls ... OK
- checking R code for possible problems ... [16s/18s] OK
- checking Rd files ... [1s/1s] OK
- checking Rd metadata ... OK
- checking Rd line widths ... OK
- checking Rd cross-references ... OK
- checking for missing documentation entries ... OK
- checking for code/documentation mismatches ... OK
- checking Rd \usage sections ... OK
- checking Rd contents ... OK
- checking for unstated dependencies in examples ... OK
- checking contents of ‘data’ directory ... OK
- checking data for non-ASCII characters ... [0s/0s] OK
- checking LazyData ... OK
- checking data for ASCII and uncompressed saves ... OK
- checking examples ... [154s/173s] OK
Examples with CPU (user + system) or elapsed time > 5s
user system elapsed
logliksboot 15.036 0.075 17.534
logliksbootsaturated 14.762 0.080 16.267
deviance 14.197 0.405 16.223
devianceboot 14.354 0.097 16.596
loglikssaturated 13.384 0.000 15.620
ypred 13.112 0.016 13.701
plotpar 12.313 0.040 13.679
plotthresholds_ 10.594 0.004 12.384
quickpsy 10.496 0.000 12.134
plotthresholds 10.358 0.028 11.882
plotcurves 9.208 0.012 9.610
plotcurves_ 8.903 0.006 9.865
- checking PDF version of manual ... [7s/8s] OK
- checking HTML version of manual ... [2s/4s] OK
- checking for non-standard things in the check directory ... OK
- DONE
Status: OK