- using R version 4.3.3 Patched (2024-02-29 r86109)
- using platform: x86_64-pc-linux-gnu (64-bit)
- R was compiled by
gcc-13 (Debian 13.2.0-13) 13.2.0
GNU Fortran (Debian 13.2.0-13) 13.2.0
- running under: Debian GNU/Linux trixie/sid
- using session charset: UTF-8
- checking for file ‘netmeta/DESCRIPTION’ ... OK
- this is package ‘netmeta’ version ‘2.9-0’
- package encoding: UTF-8
- checking package namespace information ... OK
- checking package dependencies ... OK
- checking if this is a source package ... OK
- checking if there is a namespace ... OK
- checking for executable files ... OK
- checking for hidden files and directories ... OK
- checking for portable file names ... OK
- checking for sufficient/correct file permissions ... OK
- checking whether package ‘netmeta’ can be installed ... OK
See the install log for details.
- checking package directory ... OK
- checking for future file timestamps ... OK
- checking ‘build’ directory ... OK
- checking DESCRIPTION meta-information ... OK
- checking top-level files ... OK
- checking for left-over files ... OK
- checking index information ... OK
- checking package subdirectories ... OK
- checking R files for non-ASCII characters ... OK
- checking R files for syntax errors ... OK
- checking whether the package can be loaded ... [5s/5s] OK
- checking whether the package can be loaded with stated dependencies ... [4s/4s] OK
- checking whether the package can be unloaded cleanly ... [4s/4s] OK
- checking whether the namespace can be loaded with stated dependencies ... [4s/4s] OK
- checking whether the namespace can be unloaded cleanly ... [5s/6s] OK
- checking loading without being on the library search path ... [5s/5s] OK
- checking startup messages can be suppressed ... [5s/5s] OK
- checking use of S3 registration ... OK
- checking dependencies in R code ... OK
- checking S3 generic/method consistency ... OK
- checking replacement functions ... OK
- checking foreign function calls ... OK
- checking R code for possible problems ... [112s/125s] OK
- checking Rd files ... [2s/3s] OK
- checking Rd metadata ... OK
- checking Rd line widths ... OK
- checking Rd cross-references ... OK
- checking for missing documentation entries ... OK
- checking for code/documentation mismatches ... OK
- checking Rd \usage sections ... OK
- checking Rd contents ... OK
- checking for unstated dependencies in examples ... OK
- checking contents of ‘data’ directory ... OK
- checking data for non-ASCII characters ... [0s/0s] OK
- checking data for ASCII and uncompressed saves ... OK
- checking sizes of PDF files under ‘inst/doc’ ... OK
- checking installed files from ‘inst/doc’ ... OK
- checking files in ‘vignettes’ ... OK
- checking examples ... [345s/392s] OK
Examples with CPU (user + system) or elapsed time > 5s
user system elapsed
Gurusamy2011 11.438 0.151 13.167
Dong2013 9.169 0.214 10.730
netmetabin 9.197 0.032 10.240
netmeasures 8.382 0.012 9.422
netpairwise 8.335 0.027 9.161
plot.rankogram 7.856 0.012 8.298
forest.netmeta 7.780 0.024 8.733
netrank 7.553 0.064 8.889
netmeta 7.560 0.008 9.121
smokingcessation 7.451 0.067 11.104
as.data.frame.netmeta 7.374 0.079 7.888
treats 7.443 0.000 9.062
invmat 7.418 0.016 8.359
netgraph 7.418 0.016 8.451
summary.netmeta 7.383 0.024 8.911
netmatrix 7.378 0.012 8.412
print.summary.netmeta 7.366 0.020 8.052
netdistance 7.321 0.008 7.989
netgraph.netmeta 7.311 0.012 7.811
netbind 7.137 0.011 7.632
forest.netbind 7.083 0.019 7.772
forest.netcomplex 6.938 0.067 8.715
forest.netcomparison 6.817 0.012 7.498
netcomb 6.594 0.028 7.447
Franchini2012 6.301 0.147 7.140
netgraph.netimpact 6.272 0.012 6.898
print.netimpact 6.242 0.036 7.534
netimpact 6.212 0.012 6.900
netcomparison 6.000 0.016 7.094
forest.netcomb 5.970 0.036 6.807
netcontrib 5.786 0.095 6.601
rankogram 5.821 0.000 6.390
print.netcomb 5.694 0.028 6.120
dietaryfat 5.680 0.008 6.322
summary.netcomb 5.672 0.016 6.301
print.netbind 5.639 0.008 6.356
Linde2016 5.555 0.079 6.596
netcomplex 5.565 0.008 6.815
print.summary.netcomb 5.553 0.008 6.479
netgraph.netcomb 5.416 0.016 6.280
netheat 5.315 0.019 5.531
print.decomp.design 5.041 0.023 5.748
nettable 5.023 0.039 6.234
netsplit 4.968 0.047 5.858
decomp.design 4.972 0.028 5.296
forest.netsplit 4.965 0.028 5.542
netleague 4.873 0.059 5.287
Woods2010 4.693 0.001 5.204
heatplot.netmeta 4.088 0.063 5.015
- checking for unstated dependencies in vignettes ... OK
- checking package vignettes in ‘inst/doc’ ... OK
- checking re-building of vignette outputs ... [1s/1s] OK
- checking PDF version of manual ... [15s/20s] OK
- checking HTML version of manual ... [10s/15s] OK
- checking for non-standard things in the check directory ... OK
- DONE
Status: OK