- using R version 4.3.3 Patched (2024-02-29 r86109)
- using platform: x86_64-pc-linux-gnu (64-bit)
- R was compiled by
gcc-13 (Debian 13.2.0-13) 13.2.0
GNU Fortran (Debian 13.2.0-13) 13.2.0
- running under: Debian GNU/Linux trixie/sid
- using session charset: UTF-8
- checking for file ‘ggpubr/DESCRIPTION’ ... OK
- checking extension type ... Package
- this is package ‘ggpubr’ version ‘0.6.0’
- package encoding: UTF-8
- checking package namespace information ... OK
- checking package dependencies ... OK
- checking if this is a source package ... OK
- checking if there is a namespace ... OK
- checking for executable files ... OK
- checking for hidden files and directories ... OK
- checking for portable file names ... OK
- checking for sufficient/correct file permissions ... OK
- checking serialization versions ... OK
- checking whether package ‘ggpubr’ can be installed ... OK
See the install log for details.
- checking package directory ... OK
- checking for future file timestamps ... OK
- checking DESCRIPTION meta-information ... OK
- checking top-level files ... OK
- checking for left-over files ... OK
- checking index information ... OK
- checking package subdirectories ... OK
- checking R files for non-ASCII characters ... OK
- checking R files for syntax errors ... OK
- checking whether the package can be loaded ... [2s/3s] OK
- checking whether the package can be loaded with stated dependencies ... [1s/2s] OK
- checking whether the package can be unloaded cleanly ... [1s/2s] OK
- checking whether the namespace can be loaded with stated dependencies ... [1s/2s] OK
- checking whether the namespace can be unloaded cleanly ... [2s/2s] OK
- checking loading without being on the library search path ... [2s/2s] OK
- checking use of S3 registration ... OK
- checking dependencies in R code ... OK
- checking S3 generic/method consistency ... OK
- checking replacement functions ... OK
- checking foreign function calls ... OK
- checking R code for possible problems ... [38s/46s] OK
- checking Rd files ... [2s/2s] OK
- checking Rd metadata ... OK
- checking Rd line widths ... OK
- checking Rd cross-references ... OK
- checking for missing documentation entries ... OK
- checking for code/documentation mismatches ... OK
- checking Rd \usage sections ... OK
- checking Rd contents ... OK
- checking for unstated dependencies in examples ... OK
- checking contents of ‘data’ directory ... OK
- checking data for non-ASCII characters ... [1s/1s] OK
- checking LazyData ... OK
- checking data for ASCII and uncompressed saves ... OK
- checking examples ... [164s/192s] OK
Examples with CPU (user + system) or elapsed time > 5s
user system elapsed
ggtexttable 7.203 0.064 8.623
ggsummarystats 6.684 0.012 7.749
ggbarplot 6.552 0.020 7.691
ggmaplot 6.394 0.131 8.074
stat_anova_test 5.820 0.004 6.736
ggline 5.472 0.047 5.811
ggviolin 5.277 0.039 6.892
ggpar 5.186 0.008 5.586
geom_pwc 4.980 0.044 6.600
ggscatter 4.715 0.151 5.410
diff_express 4.526 0.234 5.583
ggadjust_pvalue 4.458 0.012 5.402
stat_compare_means 4.191 0.008 5.217
- checking for unstated dependencies in ‘tests’ ... OK
- checking tests ... [27s/32s] OK
Running ‘testthat.R’ [27s/31s]
- checking PDF version of manual ... [13s/17s] OK
- checking HTML version of manual ... [9s/13s] OK
- checking for non-standard things in the check directory ... OK
- DONE
Status: OK