- using R version 4.3.3 Patched (2024-02-29 r86109)
- using platform: x86_64-pc-linux-gnu (64-bit)
- R was compiled by
gcc-13 (Debian 13.2.0-13) 13.2.0
GNU Fortran (Debian 13.2.0-13) 13.2.0
- running under: Debian GNU/Linux trixie/sid
- using session charset: UTF-8
- checking for file ‘bayesplot/DESCRIPTION’ ... OK
- checking extension type ... Package
- this is package ‘bayesplot’ version ‘1.11.1’
- package encoding: UTF-8
- checking package namespace information ... OK
- checking package dependencies ... OK
- checking if this is a source package ... OK
- checking if there is a namespace ... OK
- checking for executable files ... OK
- checking for hidden files and directories ... OK
- checking for portable file names ... OK
- checking for sufficient/correct file permissions ... OK
- checking serialization versions ... OK
- checking whether package ‘bayesplot’ can be installed ... OK
See the install log for details.
- checking package directory ... OK
- checking for future file timestamps ... OK
- checking ‘build’ directory ... OK
- checking DESCRIPTION meta-information ... OK
- checking top-level files ... OK
- checking for left-over files ... OK
- checking index information ... OK
- checking package subdirectories ... OK
- checking R files for non-ASCII characters ... OK
- checking R files for syntax errors ... OK
- checking whether the package can be loaded ... [2s/2s] OK
- checking whether the package can be loaded with stated dependencies ... [1s/1s] OK
- checking whether the package can be unloaded cleanly ... [1s/1s] OK
- checking whether the namespace can be loaded with stated dependencies ... [1s/1s] OK
- checking whether the namespace can be unloaded cleanly ... [2s/2s] OK
- checking loading without being on the library search path ... [2s/2s] OK
- checking startup messages can be suppressed ... [2s/2s] OK
- checking use of S3 registration ... OK
- checking dependencies in R code ... OK
- checking S3 generic/method consistency ... OK
- checking replacement functions ... OK
- checking foreign function calls ... OK
- checking R code for possible problems ... [30s/35s] OK
- checking Rd files ... [1s/2s] OK
- checking Rd metadata ... OK
- checking Rd line widths ... OK
- checking Rd cross-references ... OK
- checking for missing documentation entries ... OK
- checking for code/documentation mismatches ... OK
- checking Rd \usage sections ... OK
- checking Rd contents ... OK
- checking for unstated dependencies in examples ... OK
- checking R/sysdata.rda ... OK
- checking installed files from ‘inst/doc’ ... OK
- checking files in ‘vignettes’ ... OK
- checking examples ... [156s/178s] OK
Examples with CPU (user + system) or elapsed time > 5s
user system elapsed
bayesplot-colors 13.978 0.119 16.368
PPC-intervals 12.546 0.055 15.112
MCMC-intervals 11.358 0.135 12.813
PPD-intervals 10.926 0.047 13.112
MCMC-traces 9.677 0.175 11.753
PPC-test-statistics 8.839 0.099 10.319
bayesplot-helpers 8.881 0.024 9.429
MCMC-diagnostics 6.926 0.190 8.083
bayesplot_theme_get 6.416 0.000 6.814
MCMC-combos 5.757 0.186 7.459
PPC-discrete 5.757 0.008 7.451
pp_check 5.628 0.033 5.683
bayesplot-package 5.508 0.016 6.036
theme_default 5.199 0.004 5.222
MCMC-distributions 5.064 0.075 5.677
PPC-distributions 4.846 0.095 5.474
PPC-errors 3.949 0.009 5.032
- checking for unstated dependencies in ‘tests’ ... OK
- checking tests ... [277s/294s] OK
Running ‘testthat.R’ [277s/293s]
- checking for unstated dependencies in vignettes ... OK
- checking package vignettes in ‘inst/doc’ ... OK
- checking re-building of vignette outputs ... [11s/14s] OK
- checking PDF version of manual ... [11s/14s] OK
- checking HTML version of manual ... [6s/9s] OK
- checking for non-standard things in the check directory ... OK
- DONE
Status: OK