- using R version 4.3.3 Patched (2024-02-29 r86109)
- using platform: x86_64-pc-linux-gnu (64-bit)
- R was compiled by
gcc-13 (Debian 13.2.0-13) 13.2.0
GNU Fortran (Debian 13.2.0-13) 13.2.0
- running under: Debian GNU/Linux trixie/sid
- using session charset: UTF-8
- checking for file ‘RKEEL/DESCRIPTION’ ... OK
- checking extension type ... Package
- this is package ‘RKEEL’ version ‘1.3.4’
- checking package namespace information ... OK
- checking package dependencies ... OK
- checking if this is a source package ... OK
- checking if there is a namespace ... OK
- checking for executable files ... OK
- checking for hidden files and directories ... OK
- checking for portable file names ... OK
- checking for sufficient/correct file permissions ... OK
- checking serialization versions ... OK
- checking whether package ‘RKEEL’ can be installed ... OK
See the install log for details.
- checking package directory ... OK
- checking for future file timestamps ... OK
- checking DESCRIPTION meta-information ... OK
- checking top-level files ... OK
- checking for left-over files ... OK
- checking index information ... OK
- checking package subdirectories ... OK
- checking R files for non-ASCII characters ... OK
- checking R files for syntax errors ... OK
- checking whether the package can be loaded ... [1s/1s] OK
- checking whether the package can be loaded with stated dependencies ... [1s/1s] OK
- checking whether the package can be unloaded cleanly ... [1s/1s] OK
- checking whether the namespace can be loaded with stated dependencies ... [1s/1s] OK
- checking whether the namespace can be unloaded cleanly ... [1s/1s] OK
- checking loading without being on the library search path ... [1s/1s] OK
- checking startup messages can be suppressed ... [1s/1s] OK
- checking use of S3 registration ... OK
- checking dependencies in R code ... OK
- checking S3 generic/method consistency ... OK
- checking replacement functions ... OK
- checking foreign function calls ... OK
- checking R code for possible problems ... [17s/21s] OK
- checking Rd files ... [2s/3s] OK
- checking Rd metadata ... OK
- checking Rd line widths ... OK
- checking Rd cross-references ... OK
- checking for missing documentation entries ... OK
- checking for code/documentation mismatches ... OK
- checking Rd \usage sections ... OK
- checking Rd contents ... OK
- checking for unstated dependencies in examples ... OK
- checking examples ... [369s/441s] OK
Examples with CPU (user + system) or elapsed time > 5s
user system elapsed
ANR-F 10.062 0.645 11.295
Nominal2Binary-TR 8.903 0.257 10.278
Alcalaetal-A 8.226 0.386 10.175
ABB-IEP-FS 8.061 0.512 10.135
UniformWidth-D 7.189 0.379 8.526
Bayesian-D 6.930 0.496 8.525
Proportional-D 6.963 0.371 8.148
UniformFrequency-D 6.988 0.324 7.746
SSGA-Integer-knn-FS 6.889 0.368 7.864
KMeans-MV 6.923 0.219 7.851
GANN-C 6.931 0.162 7.291
ID3-D 6.697 0.389 7.704
AllPosible-MV 6.782 0.284 7.733
CleanAttributes-TR 6.602 0.297 8.013
Eclat-A 6.546 0.345 8.158
MinMax-TR 6.671 0.205 7.860
ZScore-TR 6.704 0.144 7.710
Ignore-MV 6.655 0.190 7.528
MostCommon-MV 6.603 0.186 7.494
Relief-FS 6.553 0.230 8.498
DecimalScaling-TR 6.499 0.276 7.734
ART-C 6.439 0.261 6.785
Apriori-A 6.336 0.349 7.780
FPgrowth-A 6.248 0.411 7.975
KNN-MV 6.448 0.141 7.448
FuzzyApriori-A 6.225 0.325 7.565
GeneticFuzzyApriori-A 6.116 0.340 7.580
ID3-C 6.119 0.272 6.203
GeneticFuzzyAprioriDC-A 5.957 0.321 7.245
LVF-IEP-FS 5.975 0.241 6.518
SFS-IEP-FS 5.719 0.214 6.803
RISE-C 5.716 0.208 6.621
NB-C 5.222 0.233 5.669
CART-R 4.704 0.479 5.597
JFKNN-C 4.449 0.180 5.027
BSE-C 4.165 0.333 5.794
runCV 0.592 0.007 9.187
runSequential 0.173 0.005 7.564
- checking PDF version of manual ... [13s/17s] OK
- checking HTML version of manual ... [6s/12s] OK
- checking for non-standard things in the check directory ... OK
- DONE
Status: OK