- using R version 4.3.3 Patched (2024-02-29 r86109)
- using platform: x86_64-pc-linux-gnu (64-bit)
- R was compiled by
gcc-13 (Debian 13.2.0-13) 13.2.0
GNU Fortran (Debian 13.2.0-13) 13.2.0
- running under: Debian GNU/Linux trixie/sid
- using session charset: UTF-8
- checking for file ‘LatticeKrig/DESCRIPTION’ ... OK
- this is package ‘LatticeKrig’ version ‘8.4’
- checking package namespace information ... OK
- checking package dependencies ... OK
- checking if this is a source package ... OK
- checking if there is a namespace ... OK
- checking for executable files ... OK
- checking for hidden files and directories ... OK
- checking for portable file names ... OK
- checking for sufficient/correct file permissions ... OK
- checking whether package ‘LatticeKrig’ can be installed ... OK
See the install log for details.
- used C compiler: ‘gcc-13 (Debian 13.2.0-13) 13.2.0’
- used Fortran compiler: ‘GNU Fortran (Debian 13.2.0-13) 13.2.0’
- checking package directory ... OK
- checking for future file timestamps ... OK
- checking DESCRIPTION meta-information ... OK
- checking top-level files ... OK
- checking for left-over files ... OK
- checking index information ... OK
- checking package subdirectories ... OK
- checking R files for non-ASCII characters ... OK
- checking R files for syntax errors ... OK
- checking whether the package can be loaded ... [2s/2s] OK
- checking whether the package can be loaded with stated dependencies ... [2s/2s] OK
- checking whether the package can be unloaded cleanly ... [2s/2s] OK
- checking whether the namespace can be loaded with stated dependencies ... [1s/2s] OK
- checking whether the namespace can be unloaded cleanly ... [2s/2s] OK
- checking loading without being on the library search path ... [2s/2s] OK
- checking use of S3 registration ... OK
- checking dependencies in R code ... OK
- checking S3 generic/method consistency ... OK
- checking replacement functions ... OK
- checking foreign function calls ... OK
- checking R code for possible problems ... [25s/29s] OK
- checking Rd files ... [2s/2s] NOTE
checkRd: (-1) LKrig.MLE.Rd:114: Escaped LaTeX specials: \$ \$
checkRd: (-1) LKrig.MLE.Rd:115: Escaped LaTeX specials: \$
- checking Rd metadata ... OK
- checking Rd line widths ... OK
- checking Rd cross-references ... OK
- checking for missing documentation entries ... OK
- checking for code/documentation mismatches ... OK
- checking Rd \usage sections ... OK
- checking Rd contents ... OK
- checking for unstated dependencies in examples ... OK
- checking contents of ‘data’ directory ... OK
- checking data for non-ASCII characters ... [0s/0s] OK
- checking data for ASCII and uncompressed saves ... OK
- checking line endings in C/C++/Fortran sources/headers ... OK
- checking pragmas in C/C++ headers and code ... OK
- checking compilation flags used ... OK
- checking compiled code ... OK
- checking examples ... [38s/45s] OK
Examples with CPU (user + system) or elapsed time > 5s
user system elapsed
LatticeKrig 7.949 0.004 9.464
LKrig.MLE 5.972 0.012 7.551
nonstationaryModels 4.551 0.028 5.494
LKrig.basis 4.418 0.010 5.183
LKrig 4.360 0.005 5.364
- checking for unstated dependencies in ‘tests’ ... OK
- checking tests ... [241s/288s] OK
Running ‘LKrig.FindNorm.test.R’ [6s/8s]
Comparing ‘LKrig.FindNorm.test.Rout’ to ‘LKrig.FindNorm.test.Rout.save’ ... OK
Running ‘LKrig.LKCylinder.test.R’ [3s/3s]
Comparing ‘LKrig.LKCylinder.test.Rout’ to ‘LKrig.LKCylinder.test.Rout.save’ ... OK
Running ‘LKrig.LKSphere.test.R’ [14s/16s]
Running ‘LKrig.basis.test.R’ [3s/3s]
Comparing ‘LKrig.basis.test.Rout’ to ‘LKrig.basis.test.Rout.save’ ... OK
Running ‘LKrig.lnPLike.test.R’ [29s/34s]
Running ‘LKrig.nullspace.test.R’ [5s/6s]
Comparing ‘LKrig.nullspace.test.Rout’ to ‘LKrig.nullspace.test.Rout.save’ ... OK
Running ‘LKrig.precision.test.R’ [13s/17s]
Comparing ‘LKrig.precision.test.Rout’ to ‘LKrig.precision.test.Rout.save’ ... OK
Running ‘LKrig.se.test.R’ [32s/38s]
Comparing ‘LKrig.se.test.Rout’ to ‘LKrig.se.test.Rout.save’ ... OK
Running ‘LKrig.test.3D.R’ [18s/22s]
Comparing ‘LKrig.test.3D.Rout’ to ‘LKrig.test.3D.Rout.save’ ... OK
Running ‘LKrig.test.Nonstationary.R’ [4s/5s]
Running ‘LKrig.test.R’ [32s/35s]
Comparing ‘LKrig.test.Rout’ to ‘LKrig.test.Rout.save’ ... OK
Running ‘LKrig.test.inverse.R’ [3s/4s]
Comparing ‘LKrig.test.inverse.Rout’ to ‘LKrig.test.inverse.Rout.save’ ... OK
Running ‘LKrig.testFindAwght.R’ [76s/89s]
Comparing ‘LKrig.testFindAwght.Rout’ to ‘LKrig.testFindAwght.Rout.save’ ... OK
Running ‘LKrigMarginalVariance.test.R’ [3s/4s]
Comparing ‘LKrigMarginalVariance.test.Rout’ to ‘LKrigMarginalVariance.test.Rout.save’ ... OK
- checking PDF version of manual ... [9s/12s] OK
- checking HTML version of manual ... [4s/5s] OK
- checking for non-standard things in the check directory ... OK
- DONE
Status: 1 NOTE