- using R version 4.4.0 RC (2024-04-16 r86473)
- using platform: x86_64-pc-linux-gnu
- R was compiled by
gcc-13 (Debian 13.2.0-13) 13.2.0
GNU Fortran (Debian 13.2.0-13) 13.2.0
- running under: Debian GNU/Linux trixie/sid
- using session charset: UTF-8
- checking for file ‘AIUQ/DESCRIPTION’ ... OK
- checking extension type ... Package
- this is package ‘AIUQ’ version ‘0.5.1’
- package encoding: UTF-8
- checking package namespace information ... OK
- checking package dependencies ... OK
- checking if this is a source package ... OK
- checking if there is a namespace ... OK
- checking for executable files ... OK
- checking for hidden files and directories ... OK
- checking for portable file names ... OK
- checking for sufficient/correct file permissions ... OK
- checking serialization versions ... OK
- checking whether package ‘AIUQ’ can be installed ... OK
See the install log for details.
- checking package directory ... OK
- checking for future file timestamps ... OK
- checking DESCRIPTION meta-information ... OK
- checking top-level files ... OK
- checking for left-over files ... OK
- checking index information ... OK
- checking package subdirectories ... OK
- checking code files for non-ASCII characters ... OK
- checking R files for syntax errors ... OK
- checking whether the package can be loaded ... [0s/1s] OK
- checking whether the package can be loaded with stated dependencies ... [0s/1s] OK
- checking whether the package can be unloaded cleanly ... [0s/1s] OK
- checking whether the namespace can be loaded with stated dependencies ... [1s/1s] OK
- checking whether the namespace can be unloaded cleanly ... [0s/1s] OK
- checking loading without being on the library search path ... [0s/1s] OK
- checking use of S3 registration ... OK
- checking dependencies in R code ... OK
- checking S3 generic/method consistency ... OK
- checking replacement functions ... OK
- checking foreign function calls ... OK
- checking R code for possible problems ... [31s/35s] OK
- checking Rd files ... [1s/2s] OK
- checking Rd metadata ... OK
- checking Rd line widths ... OK
- checking Rd cross-references ... OK
- checking for missing documentation entries ... OK
- checking for code/documentation mismatches ... OK
- checking Rd \usage sections ... OK
- checking Rd contents ... OK
- checking for unstated dependencies in examples ... OK
- checking examples ... [120s/133s] OK
Examples with CPU (user + system) or elapsed time > 5s
user system elapsed
get_isf 13.494 0.473 15.712
get_dqt 13.136 0.396 15.238
SAM 12.697 0.685 15.008
modeled_dqt 12.119 0.435 14.741
modeled_isf 11.989 0.455 13.753
show.sam 11.718 0.308 12.236
aniso_SAM 10.877 0.291 11.991
plot_MSD 8.466 0.498 10.297
aniso_simulation 5.636 0.496 6.907
show.aniso_sam 5.904 0.115 6.679
simulation 4.770 0.277 5.062
- checking PDF version of manual ... [7s/7s] OK
- checking HTML version of manual ... [3s/3s] OK
- checking for non-standard things in the check directory ... OK
- DONE
Status: OK