- using R version 4.3.3 (2024-02-29 ucrt)
- using platform: x86_64-w64-mingw32 (64-bit)
- R was compiled by
gcc.exe (GCC) 12.3.0
GNU Fortran (GCC) 12.3.0
- running under: Windows Server 2022 x64 (build 20348)
- using session charset: UTF-8
- checking for file 'tramvs/DESCRIPTION' ... OK
- checking extension type ... Package
- this is package 'tramvs' version '0.0-4'
- package encoding: UTF-8
- checking package namespace information ... OK
- checking package dependencies ... OK
- checking if this is a source package ... OK
- checking if there is a namespace ... OK
- checking for hidden files and directories ... OK
- checking for portable file names ... OK
- checking whether package 'tramvs' can be installed ... OK
See the install log for details.
- checking installed package size ... OK
- checking package directory ... OK
- checking 'build' directory ... OK
- checking DESCRIPTION meta-information ... OK
- checking top-level files ... OK
- checking for left-over files ... OK
- checking index information ... OK
- checking package subdirectories ... OK
- checking R files for non-ASCII characters ... OK
- checking R files for syntax errors ... OK
- checking whether the package can be loaded ... [3s] OK
- checking whether the package can be loaded with stated dependencies ... [3s] OK
- checking whether the package can be unloaded cleanly ... [3s] OK
- checking whether the namespace can be loaded with stated dependencies ... [3s] OK
- checking whether the namespace can be unloaded cleanly ... [3s] OK
- checking loading without being on the library search path ... [2s] OK
- checking use of S3 registration ... OK
- checking dependencies in R code ... OK
- checking S3 generic/method consistency ... OK
- checking replacement functions ... OK
- checking foreign function calls ... OK
- checking R code for possible problems ... [7s] OK
- checking Rd files ... [1s] OK
- checking Rd metadata ... OK
- checking Rd cross-references ... OK
- checking for missing documentation entries ... OK
- checking for code/documentation mismatches ... OK
- checking Rd \usage sections ... OK
- checking Rd contents ... OK
- checking for unstated dependencies in examples ... OK
- checking sizes of PDF files under 'inst/doc' ... OK
- checking installed files from 'inst/doc' ... OK
- checking files in 'vignettes' ... OK
- checking examples ... [7s] OK
- checking for unstated dependencies in 'tests' ... OK
- checking tests ... [166s] OK
Running 'test-continuous.R' [6s]
Comparing 'test-continuous.Rout' to 'test-continuous.Rout.save' ...158,161d157
<
< Thank you for using abess! To acknowledge our work, please cite the package:
<
< Zhu J, Wang X, Hu L, Huang J, Jiang K, Zhang Y, Lin S, Zhu J (2022). 'abess: A Fast Best Subset Selection Library in Python and R.' Journal of Machine Learning Research, 23(202), 1-7. https://www.jmlr.org/papers/v23/21-1060.html.
Running 'test-count.R' [15s]
Comparing 'test-count.Rout' to 'test-count.Rout.save' ... OK
Running 'test-mandatory.R' [20s]
Comparing 'test-mandatory.Rout' to 'test-mandatory.Rout.save' ... OK
Running 'test-ordinal.R' [5s]
Comparing 'test-ordinal.Rout' to 'test-ordinal.Rout.save' ... OK
Running 'test-shiftscale.R' [8s]
Comparing 'test-shiftscale.Rout' to 'test-shiftscale.Rout.save' ... OK
Running 'test-survival.R' [86s]
Comparing 'test-survival.Rout' to 'test-survival.Rout.save' ...33,36d32
<
< Thank you for using abess! To acknowledge our work, please cite the package:
<
< Zhu J, Wang X, Hu L, Huang J, Jiang K, Zhang Y, Lin S, Zhu J (2022). 'abess: A Fast Best Subset Selection Library in Python and R.' Journal of Machine Learning Research, 23(202), 1-7. https://www.jmlr.org/papers/v23/21-1060.html.
Running 'test-weibull.R' [25s]
Comparing 'test-weibull.Rout' to 'test-weibull.Rout.save' ... OK
- checking for unstated dependencies in vignettes ... OK
- checking package vignettes in 'inst/doc' ... OK
- checking re-building of vignette outputs ... [160s] OK
- checking PDF version of manual ... [17s] OK
- checking HTML version of manual ... [4s] OK
- DONE
Status: OK