- using R version 4.2.0 (2022-04-22)
- using platform: x86_64-apple-darwin17.0 (64-bit)
- using session charset: UTF-8
- checking for file ‘trajectories/DESCRIPTION’ ... OK
- this is package ‘trajectories’ version ‘0.2-7’
- checking package namespace information ... OK
- checking package dependencies ... NOTE
Package suggested but not available for checking: ‘taxidata’
- checking if this is a source package ... OK
- checking if there is a namespace ... OK
- checking for executable files ... OK
- checking for hidden files and directories ... OK
- checking for portable file names ... OK
- checking for sufficient/correct file permissions ... OK
- checking whether package ‘trajectories’ can be installed ... [6s/7s] OK
See the install log for details.
- checking installed package size ... OK
- checking package directory ... OK
- checking ‘build’ directory ... OK
- checking DESCRIPTION meta-information ... OK
- checking top-level files ... OK
- checking for left-over files ... OK
- checking index information ... OK
- checking package subdirectories ... OK
- checking R files for non-ASCII characters ... OK
- checking R files for syntax errors ... OK
- checking whether the package can be loaded ... OK
- checking whether the package can be loaded with stated dependencies ... OK
- checking whether the package can be unloaded cleanly ... OK
- checking whether the namespace can be loaded with stated dependencies ... OK
- checking whether the namespace can be unloaded cleanly ... OK
- checking loading without being on the library search path ... OK
- checking dependencies in R code ... OK
- checking S3 generic/method consistency ... OK
- checking replacement functions ... OK
- checking foreign function calls ... OK
- checking R code for possible problems ... [6s/6s] OK
- checking Rd files ... [1s/1s] OK
- checking Rd metadata ... OK
- checking Rd cross-references ... OK
- checking for missing documentation entries ... OK
- checking for code/documentation mismatches ... OK
- checking Rd \usage sections ... OK
- checking Rd contents ... OK
- checking for unstated dependencies in examples ... OK
- checking contents of ‘data’ directory ... OK
- checking data for non-ASCII characters ... OK
- checking data for ASCII and uncompressed saves ... OK
- checking sizes of PDF files under ‘inst/doc’ ... OK
- checking installed files from ‘inst/doc’ ... OK
- checking files in ‘vignettes’ ... OK
- checking examples ... [23s/23s] OK
- checking for unstated dependencies in ‘tests’ ... OK
- checking tests ... [5s/5s] OK
Running ‘tracks.R’ [4s/4s]
Comparing ‘tracks.Rout’ to ‘tracks.Rout.save’ ...211,248c211,213
< Linking to GEOS 3.10.2, GDAL 3.4.2, PROJ 8.2.1; sf_use_s2() is TRUE
< [[1]]
< An object of class Track
< 3points
< bbox:
< min max
< x 3 6
< y 5 7
< [[2]]
< An object of class Track
< 2points
< bbox:
< min max
< x 6 7
< y 4 5
< [[3]]
< An object of class Track
< 3points
< bbox:
< min max
< x 1 2
< y 2 4
< [[4]]
< An object of class Track
< 3points
< bbox:
< min max
< x 3 3
< y 1 4
< [[5]]
< An object of class Tracks
< 2 tracks followed by a single object
< [[6]]
< An object of class Tracks
< 2 tracks followed by a single object
< [[7]]
< An object of class TracksCollection
< 2 collection of tracks followed by 2 object
---
> Warning message:
> In library(package, lib.loc = lib.loc, character.only = TRUE, logical.return = TRUE, :
> there is no package called 'sf'
- checking for unstated dependencies in vignettes ... OK
- checking package vignettes in ‘inst/doc’ ... OK
- checking running R code from vignettes ... [3s/3s] OK
‘article.Rnw’... [3s/3s] OK
- checking re-building of vignette outputs ... [10s/10s] OK
- checking PDF version of manual ... OK
- DONE
Status: 1 NOTE
- using check arguments '--no-clean-on-error '