- using R version 4.2.0 beta (2022-04-07 r82126)
- using platform: x86_64-apple-darwin17.0 (64-bit)
- using session charset: UTF-8
- checking for file ‘timeline/DESCRIPTION’ ... OK
- checking extension type ... Package
- this is package ‘timeline’ version ‘0.9’
- checking package namespace information ... OK
- checking package dependencies ... OK
- checking if this is a source package ... OK
- checking if there is a namespace ... OK
- checking for executable files ... OK
- checking for hidden files and directories ... OK
- checking for portable file names ... OK
- checking for sufficient/correct file permissions ... OK
- checking whether package ‘timeline’ can be installed ... [5s/5s] OK
See the install log for details.
- checking installed package size ... OK
- checking package directory ... OK
- checking DESCRIPTION meta-information ... OK
- checking top-level files ... OK
- checking for left-over files ... OK
- checking index information ... OK
- checking package subdirectories ... OK
- checking R files for non-ASCII characters ... OK
- checking R files for syntax errors ... OK
- checking whether the package can be loaded ... OK
- checking whether the package can be loaded with stated dependencies ... OK
- checking whether the package can be unloaded cleanly ... OK
- checking whether the namespace can be loaded with stated dependencies ... OK
- checking whether the namespace can be unloaded cleanly ... OK
- checking loading without being on the library search path ... OK
- checking dependencies in R code ... NOTE
'library' or 'require' call to ‘shiny’ in package code.
Please use :: or requireNamespace() instead.
See section 'Suggested packages' in the 'Writing R Extensions' manual.
Package in Depends field not imported from: ‘ggplot2’
These packages need to be imported from (in the NAMESPACE file)
for when this namespace is loaded but not attached.
- checking S3 generic/method consistency ... OK
- checking replacement functions ... OK
- checking foreign function calls ... OK
- checking R code for possible problems ... [3s/3s] NOTE
timeline: no visible global function definition for ‘ggplot’
timeline: no visible global function definition for ‘geom_segment’
timeline: no visible global function definition for ‘aes_string’
timeline: no visible global function definition for ‘geom_rect’
timeline: no visible global function definition for ‘geom_text’
timeline: no visible global function definition for ‘theme’
timeline: no visible global function definition for ‘element_blank’
timeline: no visible global function definition for ‘xlab’
timeline: no visible global function definition for ‘ylab’
timeline: no visible global function definition for ‘xlim’
timeline: no visible global function definition for
‘scale_y_continuous’
timeline: no visible global function definition for ‘geom_point’
timeline: no visible global function definition for ‘scale_color_grey’
timeline: no visible global function definition for ‘geom_hline’
Undefined global functions or variables:
aes_string element_blank geom_hline geom_point geom_rect geom_segment
geom_text ggplot scale_color_grey scale_y_continuous theme xlab xlim
ylab
- checking Rd files ... [0s/0s] OK
- checking Rd metadata ... OK
- checking Rd cross-references ... OK
- checking for missing documentation entries ... OK
- checking for code/documentation mismatches ... OK
- checking Rd \usage sections ... OK
- checking Rd contents ... OK
- checking for unstated dependencies in examples ... OK
- checking contents of ‘data’ directory ... OK
- checking data for non-ASCII characters ... OK
- checking data for ASCII and uncompressed saves ... OK
- checking examples ... [2s/2s] OK
- checking PDF version of manual ... OK
- DONE
Status: 2 NOTEs
- using check arguments '--no-clean-on-error '