- using R version 4.2.0 (2022-04-22)
- using platform: x86_64-apple-darwin17.0 (64-bit)
- using session charset: UTF-8
- checking for file ‘rHpcc/DESCRIPTION’ ... OK
- checking extension type ... Package
- this is package ‘rHpcc’ version ‘1.0’
- checking package namespace information ... OK
- checking package dependencies ... OK
- checking if this is a source package ... OK
- checking if there is a namespace ... OK
- checking for executable files ... OK
- checking for hidden files and directories ... OK
- checking for portable file names ... OK
- checking for sufficient/correct file permissions ... OK
- checking whether package ‘rHpcc’ can be installed ... [4s/5s] OK
See the install log for details.
- checking installed package size ... OK
- checking package directory ... OK
- checking DESCRIPTION meta-information ... OK
- checking top-level files ... OK
- checking for left-over files ... OK
- checking index information ... OK
- checking package subdirectories ... OK
- checking R files for non-ASCII characters ... OK
- checking R files for syntax errors ... OK
- checking whether the package can be loaded ... OK
- checking whether the package can be loaded with stated dependencies ... OK
- checking whether the package can be unloaded cleanly ... OK
- checking whether the namespace can be loaded with stated dependencies ... OK
- checking whether the namespace can be unloaded cleanly ... OK
- checking loading without being on the library search path ... OK
- checking dependencies in R code ... NOTE
Packages in Depends field not imported from:
‘RCurl’ ‘XML’ ‘methods’
These packages need to be imported from (in the NAMESPACE file)
for when this namespace is loaded but not attached.
- checking S3 generic/method consistency ... OK
- checking replacement functions ... OK
- checking foreign function calls ... OK
- checking R code for possible problems ... [2s/2s] NOTE
ECL: no visible global function definition for ‘new’
ECLDataset: no visible global function definition for ‘new’
ECLDedUp: no visible global function definition for ‘new’
ECLDistribute: no visible global function definition for ‘new’
ECLIterate: no visible global function definition for ‘new’
ECLJoin: no visible global function definition for ‘new’
ECLOutput: no visible global function definition for ‘new’
ECLProject: no visible global function definition for ‘new’
ECLRecord: no visible global function definition for ‘new’
ECLRollUp: no visible global function definition for ‘new’
ECLSort: no visible global function definition for ‘new’
ECLTOPN: no visible global function definition for ‘new’
ECLTable: no visible global function definition for ‘new’
ECLTransform: no visible global function definition for ‘new’
eclDirectCall: no visible global function definition for ‘postForm’
parseResults: no visible global function definition for ‘xmlRoot’
parseResults: no visible global function definition for ‘xmlTreeParse’
parseResults: no visible global function definition for ‘getNodeSet’
parseResults: no visible global function definition for ‘xmlGetAttr’
parseResults: no visible global function definition for ‘xmlValue’
parseResults: no visible global function definition for ‘write.table’
Undefined global functions or variables:
getNodeSet new postForm write.table xmlGetAttr xmlRoot xmlTreeParse
xmlValue
Consider adding
importFrom("methods", "new")
importFrom("utils", "write.table")
to your NAMESPACE file (and ensure that your DESCRIPTION Imports field
contains 'methods').
- checking Rd files ... [0s/0s] OK
- checking Rd metadata ... OK
- checking Rd cross-references ... OK
- checking for missing documentation entries ... OK
- checking for code/documentation mismatches ... OK
- checking Rd \usage sections ... OK
- checking Rd contents ... OK
- checking for unstated dependencies in examples ... OK
- checking examples ... [1s/1s] OK
- checking PDF version of manual ... OK
- DONE
Status: 2 NOTEs
- using check arguments '--no-clean-on-error '