- using R version 4.2.0 (2022-04-22)
- using platform: x86_64-apple-darwin17.0 (64-bit)
- using session charset: UTF-8
- checking for file ‘forensic/DESCRIPTION’ ... OK
- checking extension type ... Package
- this is package ‘forensic’ version ‘0.2’
- checking package namespace information ... OK
- checking package dependencies ... OK
- checking if this is a source package ... OK
- checking if there is a namespace ... OK
- checking for executable files ... OK
- checking for hidden files and directories ... OK
- checking for portable file names ... OK
- checking for sufficient/correct file permissions ... OK
- checking whether package ‘forensic’ can be installed ... [3s/3s] OK
See the install log for details.
- checking installed package size ... OK
- checking package directory ... OK
- checking DESCRIPTION meta-information ... NOTE
Malformed Description field: should contain one or more complete sentences.
- checking top-level files ... OK
- checking for left-over files ... OK
- checking index information ... OK
- checking package subdirectories ... OK
- checking R files for non-ASCII characters ... OK
- checking R files for syntax errors ... OK
- checking whether the package can be loaded ... OK
- checking whether the package can be loaded with stated dependencies ... OK
- checking whether the package can be unloaded cleanly ... OK
- checking whether the namespace can be loaded with stated dependencies ... OK
- checking whether the namespace can be unloaded cleanly ... OK
- checking loading without being on the library search path ... OK
- checking dependencies in R code ... NOTE
'library' or 'require' calls to packages already attached by Depends:
‘combinat’ ‘genetics’
Please remove these calls from your code.
- checking S3 generic/method consistency ... OK
- checking replacement functions ... OK
- checking foreign function calls ... OK
- checking R code for possible problems ... [2s/2s] NOTE
NB: .First.lib is obsolete and will not be used in R >= 3.0.0
File ‘forensic/R/zzz.R’:
.First.lib calls:
cat("## Statistical Methods in Forensic Genetics \n")
cat("## The work was supported by the project 1M06014 of the Ministry of \n Education, Youth and Sports of the Czech Republic. \n")
require(genetics, quietly = TRUE)
require(combinat, quietly = TRUE)
Package startup functions should not change the search path.
Package startup functions should use ‘packageStartupMessage’ to
generate messages.
See section ‘Good practice’ in '?.onAttach'.
- checking Rd files ... [0s/0s] OK
- checking Rd metadata ... OK
- checking Rd cross-references ... OK
- checking for missing documentation entries ... OK
- checking for code/documentation mismatches ... OK
- checking Rd \usage sections ... OK
- checking Rd contents ... OK
- checking for unstated dependencies in examples ... OK
- checking examples ... [1s/1s] OK
- checking PDF version of manual ... OK
- DONE
Status: 3 NOTEs
- using check arguments '--no-clean-on-error '