- using R version 4.2.0 (2022-04-22)
- using platform: x86_64-apple-darwin17.0 (64-bit)
- using session charset: UTF-8
- checking for file ‘foodweb/DESCRIPTION’ ... OK
- this is package ‘foodweb’ version ‘1-0’
- checking package namespace information ... OK
- checking package dependencies ... OK
- checking if this is a source package ... OK
- checking if there is a namespace ... OK
- checking for executable files ... OK
- checking for hidden files and directories ... OK
- checking for portable file names ... OK
- checking for sufficient/correct file permissions ... OK
- checking whether package ‘foodweb’ can be installed ... [2s/2s] OK
See the install log for details.
- checking installed package size ... OK
- checking package directory ... OK
- checking DESCRIPTION meta-information ... OK
- checking top-level files ... OK
- checking for left-over files ... OK
- checking index information ... OK
- checking package subdirectories ... OK
- checking R files for non-ASCII characters ... OK
- checking R files for syntax errors ... OK
- checking whether the package can be loaded ... OK
- checking whether the package can be loaded with stated dependencies ... OK
- checking whether the package can be unloaded cleanly ... OK
- checking whether the namespace can be loaded with stated dependencies ... OK
- checking whether the namespace can be unloaded cleanly ... OK
- checking loading without being on the library search path ... OK
- checking dependencies in R code ... NOTE
'library' or 'require' call to ‘rgl’ which was already attached by Depends.
Please remove these calls from your code.
- checking S3 generic/method consistency ... OK
- checking replacement functions ... OK
- checking foreign function calls ... OK
- checking R code for possible problems ... [2s/2s] NOTE
analyse.list: no visible binding for '<<-' assignment to ‘files’
analyse.list: no visible global function definition for ‘read.table’
analyse.list: no visible global function definition for ‘write.table’
analyse.list: no visible binding for global variable ‘files’
analyse.list: no visible binding for '<<-' assignment to ‘foodweb’
analyse.list: no visible binding for '<<-' assignment to ‘name’
analyse.list: no visible binding for global variable ‘foodweb’
analyse.list: no visible binding for global variable ‘name’
analyse.list: no visible binding for global variable ‘indices’
analyse.seq: no visible global function definition for ‘read.table’
analyse.seq: no visible global function definition for ‘write.table’
analyse.seq: no visible binding for global variable ‘indices’
analyse.single: no visible binding for global variable ‘foodweb’
analyse.single: no visible binding for '<<-' assignment to ‘foodweb’
analyse.single: no visible global function definition for ‘read.table’
analyse.single: no visible binding for '<<-' assignment to ‘name’
analyse.single: no visible binding for global variable ‘name’
analyse.single: no visible global function definition for ‘write.table’
analyse.single: no visible binding for global variable ‘indices’
analyse.single: no visible binding for global variable ‘levels.l’
analyse.single: no visible binding for global variable ‘S’
analyse.single: no visible binding for global variable ‘omn.l’
asym2sym: no visible global function definition for ‘write.table’
calculate.metrics: no visible binding for '<<-' assignment to ‘S’
calculate.metrics: no visible binding for global variable ‘S’
calculate.metrics: no visible global function definition for ‘na.omit’
calculate.metrics: no visible binding for '<<-' assignment to ‘indices’
calculate.metrics: no visible binding for global variable ‘indices’
mat.2.list: no visible global function definition for ‘read.table’
plotweb: no visible binding for global variable ‘foodweb’
plotweb: no visible binding for global variable ‘S’
Undefined global functions or variables:
S files foodweb indices levels.l na.omit name omn.l read.table
write.table
Consider adding
importFrom("stats", "na.omit")
importFrom("utils", "read.table", "write.table")
to your NAMESPACE file.
- checking Rd files ... [0s/0s] OK
- checking Rd metadata ... OK
- checking Rd cross-references ... OK
- checking for missing documentation entries ... OK
- checking for code/documentation mismatches ... OK
- checking Rd \usage sections ... OK
- checking Rd contents ... OK
- checking for unstated dependencies in examples ... OK
- checking contents of ‘data’ directory ... OK
- checking data for non-ASCII characters ... OK
- checking data for ASCII and uncompressed saves ... OK
- checking sizes of PDF files under ‘inst/doc’ ... OK
- checking installed files from ‘inst/doc’ ... OK
- checking examples ... [1s/1s] OK
- checking PDF version of manual ... OK
- DONE
Status: 2 NOTEs
- using check arguments '--no-clean-on-error '