- using R version 4.2.0 (2022-04-22)
- using platform: x86_64-apple-darwin17.0 (64-bit)
- using session charset: UTF-8
- checking for file ‘fontLiberation/DESCRIPTION’ ... OK
- this is package ‘fontLiberation’ version ‘0.1.0’
- package encoding: UTF-8
- checking package namespace information ... OK
- checking package dependencies ... OK
- checking if this is a source package ... OK
- checking if there is a namespace ... OK
- checking for executable files ... OK
- checking for hidden files and directories ... OK
- checking for portable file names ... OK
- checking for sufficient/correct file permissions ... OK
- checking whether package ‘fontLiberation’ can be installed ... [1s/1s] OK
See the install log for details.
- checking installed package size ... NOTE
installed size is 6.2Mb
sub-directories of 1Mb or more:
fonts 6.1Mb
- checking package directory ... OK
- checking DESCRIPTION meta-information ... OK
- checking top-level files ... OK
- checking for left-over files ... OK
- checking index information ... OK
- checking package subdirectories ... OK
- checking whether the package can be loaded ... OK
- checking whether the package can be loaded with stated dependencies ... OK
- checking whether the package can be unloaded cleanly ... OK
- checking whether the namespace can be loaded with stated dependencies ... OK
- checking whether the namespace can be unloaded cleanly ... OK
- checking loading without being on the library search path ... OK
- checking LazyData ... NOTE
'LazyData' is specified without a 'data' directory
- checking line endings in Makefiles ... OK
- checking for GNU extensions in Makefiles ... OK
- checking include directives in Makefiles ... OK
- checking examples ... NONE
- checking PDF version of manual ... OK
- DONE
Status: 2 NOTEs
- using check arguments '--no-clean-on-error '