- using R version 4.2.0 beta (2022-04-07 r82126)
- using platform: x86_64-apple-darwin17.0 (64-bit)
- using session charset: UTF-8
- checking for file ‘ezsim/DESCRIPTION’ ... OK
- checking extension type ... Package
- this is package ‘ezsim’ version ‘0.5.5’
- checking package namespace information ... OK
- checking package dependencies ... OK
- checking if this is a source package ... OK
- checking if there is a namespace ... OK
- checking for executable files ... OK
- checking for hidden files and directories ... OK
- checking for portable file names ... OK
- checking for sufficient/correct file permissions ... OK
- checking whether package ‘ezsim’ can be installed ... [6s/6s] OK
See the install log for details.
- checking installed package size ... OK
- checking package directory ... OK
- checking ‘build’ directory ... OK
- checking DESCRIPTION meta-information ... NOTE
Malformed Description field: should contain one or more complete sentences.
BugReports field is not a suitable URL but contains an email address:
use the Contact field instead
- checking top-level files ... OK
- checking for left-over files ... OK
- checking index information ... OK
- checking package subdirectories ... OK
- checking R files for non-ASCII characters ... OK
- checking R files for syntax errors ... OK
- checking whether the package can be loaded ... OK
- checking whether the package can be loaded with stated dependencies ... OK
- checking whether the package can be unloaded cleanly ... OK
- checking whether the namespace can be loaded with stated dependencies ... OK
- checking whether the namespace can be unloaded cleanly ... OK
- checking loading without being on the library search path ... OK
- checking dependencies in R code ... OK
- checking S3 generic/method consistency ... OK
- checking replacement functions ... OK
- checking foreign function calls ... OK
- checking R code for possible problems ... [4s/5s] NOTE
createFormula: no visible global function definition for ‘tail’
createFormula: no visible global function definition for ‘head’
createFormula: no visible global function definition for ‘as.formula’
ezsim: no visible global function definition for ‘runif’
plot.ezsim: no visible global function definition for ‘quantile’
plot.ezsim: no visible global function definition for ‘head’
plot.ezsim: no visible global function definition for ‘tail’
plot.ezsim: no visible binding for global variable ‘dnorm’
plot.ezsim: no visible binding for global variable ‘pdf’
plot.ezsim: no visible global function definition for ‘dev.off’
plot.ezsim : <anonymous>: no visible global function definition for
‘dev.new’
plot.summary.ezsim: no visible global function definition for ‘head’
plot.summary.ezsim: no visible global function definition for ‘tail’
plot.summary.ezsim: no visible binding for global variable ‘pdf’
plot.summary.ezsim: no visible global function definition for ‘dev.off’
plot.summary.ezsim : <anonymous>: no visible global function definition
for ‘dev.new’
Undefined global functions or variables:
as.formula dev.new dev.off dnorm head pdf quantile runif tail
Consider adding
importFrom("grDevices", "dev.new", "dev.off", "pdf")
importFrom("stats", "as.formula", "dnorm", "quantile", "runif")
importFrom("utils", "head", "tail")
to your NAMESPACE file.
- checking Rd files ... [1s/1s] OK
- checking Rd metadata ... OK
- checking Rd cross-references ... OK
- checking for missing documentation entries ... OK
- checking for code/documentation mismatches ... OK
- checking Rd \usage sections ... OK
- checking Rd contents ... OK
- checking for unstated dependencies in examples ... OK
- checking sizes of PDF files under ‘inst/doc’ ... OK
- checking installed files from ‘inst/doc’ ... OK
- checking files in ‘vignettes’ ... OK
- checking examples ... [1s/1s] OK
- checking for unstated dependencies in vignettes ... OK
- checking package vignettes in ‘inst/doc’ ... OK
- checking running R code from vignettes ... [11s/12s] OK
‘vignette.Rnw’... [11s/12s] OK
- checking re-building of vignette outputs ... [17s/18s] OK
- checking PDF version of manual ... OK
- DONE
Status: 2 NOTEs
- using check arguments '--no-clean-on-error '