- using R version 4.2.0 (2022-04-22)
- using platform: x86_64-apple-darwin17.0 (64-bit)
- using session charset: UTF-8
- checking for file ‘actuar/DESCRIPTION’ ... OK
- checking extension type ... Package
- this is package ‘actuar’ version ‘3.3-2’
- package encoding: UTF-8
- checking package namespace information ... OK
- checking package dependencies ... OK
- checking if this is a source package ... OK
- checking if there is a namespace ... OK
- checking for executable files ... OK
- checking for hidden files and directories ... OK
- checking for portable file names ... OK
- checking for sufficient/correct file permissions ... OK
- checking whether package ‘actuar’ can be installed ... [12s/13s] OK
See the install log for details.
- checking installed package size ... OK
- checking package directory ... OK
- checking ‘build’ directory ... OK
- checking DESCRIPTION meta-information ... OK
- checking top-level files ... OK
- checking for left-over files ... OK
- checking index information ... OK
- checking package subdirectories ... OK
- checking R files for non-ASCII characters ... OK
- checking R files for syntax errors ... OK
- checking whether the package can be loaded ... OK
- checking whether the package can be loaded with stated dependencies ... OK
- checking whether the package can be unloaded cleanly ... OK
- checking whether the namespace can be loaded with stated dependencies ... OK
- checking whether the namespace can be unloaded cleanly ... OK
- checking loading without being on the library search path ... OK
- checking dependencies in R code ... OK
- checking S3 generic/method consistency ... OK
- checking replacement functions ... OK
- checking foreign function calls ... OK
- checking R code for possible problems ... [6s/6s] OK
- checking Rd files ... [1s/1s] OK
- checking Rd metadata ... OK
- checking Rd cross-references ... OK
- checking for missing documentation entries ... OK
- checking for code/documentation mismatches ... OK
- checking Rd \usage sections ... OK
- checking Rd contents ... OK
- checking for unstated dependencies in examples ... OK
- checking contents of ‘data’ directory ... OK
- checking data for non-ASCII characters ... OK
- checking LazyData ... OK
- checking data for ASCII and uncompressed saves ... OK
- checking line endings in C/C++/Fortran sources/headers ... OK
- checking line endings in Makefiles ... OK
- checking compilation flags in Makevars ... OK
- checking for GNU extensions in Makefiles ... OK
- checking for portable use of $(BLAS_LIBS) and $(LAPACK_LIBS) ... OK
- checking use of PKG_*FLAGS in Makefiles ... OK
- checking include directives in Makefiles ... OK
- checking compiled code ... OK
- checking sizes of PDF files under ‘inst/doc’ ... OK
- checking installed files from ‘inst/doc’ ... OK
- checking files in ‘vignettes’ ... OK
- checking examples ... [1s/1s] OK
- checking for unstated dependencies in ‘tests’ ... OK
- checking tests ... [15s/15s] OK
Running ‘betaint-tests.R’ [0s/0s]
Running ‘dpqr-tests.R’ [14s/14s]
Running ‘rcompound-tests.R’ [0s/0s]
Running ‘rmixture-tests.R’ [0s/0s]
- checking for unstated dependencies in vignettes ... OK
- checking package vignettes in ‘inst/doc’ ... OK
- checking running R code from vignettes ... [4s/4s] OK
‘actuar.Rnw’ using ‘UTF-8’... [0s/0s] OK
‘coverage.Rnw’ using ‘UTF-8’... [1s/1s] OK
‘credibility.Rnw’ using ‘UTF-8’... [1s/1s] OK
‘distributions.Rnw’ using ‘UTF-8’... [1s/1s] OK
‘modeling.Rnw’ using ‘UTF-8’... [1s/1s] OK
‘risk.Rnw’ using ‘UTF-8’... [1s/1s] OK
‘simulation.Rnw’ using ‘UTF-8’... [1s/1s] OK
- checking re-building of vignette outputs ... [4s/4s] NOTE
Error(s) in re-building vignettes:
--- re-building ‘actuar.Rnw’ using Sweave
--- finished re-building ‘actuar.Rnw’
--- re-building ‘coverage.Rnw’ using Sweave
Attaching package: ‘actuar’
The following objects are masked from ‘package:stats’:
sd, var
The following object is masked from ‘package:grDevices’:
cm
--- finished re-building ‘coverage.Rnw’
--- re-building ‘credibility.Rnw’ using Sweave
--- finished re-building ‘credibility.Rnw’
--- re-building ‘distributions.Rnw’ using Sweave
--- finished re-building ‘distributions.Rnw’
--- re-building ‘modeling.Rnw’ using Sweave
--- finished re-building ‘modeling.Rnw’
--- re-building ‘risk.Rnw’ using Sweave
--- finished re-building ‘risk.Rnw’
--- re-building ‘simulation.Rnw’ using Sweave
--- finished re-building ‘simulation.Rnw’
LATEX=xelatex TEXINDY=makeindex texi2dvi -b 'actuar.tex'
This is XeTeX, Version 3.14159265-2.6-0.999992 (TeX Live 2020) (preloaded format=xelatex)
restricted \write18 enabled.
entering extended mode
LaTeX2e <2020-02-02> patch level 5
L3 programming layer <2020-03-06> (./actuar.tex
(/Volumes/Builds/packages/high-sierra-x86_64/results/4.2/actuar.Rcheck/vign_tes
t/actuar/vignettes/share/preamble.tex
(/usr/local/texlive/2020/texmf-dist/tex/latex/base/article.cls
Document Class: article 2019/12/20 v1.4l Standard LaTeX document class
(/usr/local/texlive/2020/texmf-dist/tex/latex/base/size11.clo))
(/usr/local/texlive/2020/texmf-dist/tex/latex/amsmath/amsmath.sty
For additional information on amsmath, use the `?' option.
(/usr/local/texlive/2020/texmf-dist/tex/latex/amsmath/amstext.sty
(/usr/local/texlive/2020/texmf-dist/tex/latex/amsmath/amsgen.sty))
(/usr/local/texlive/2020/texmf-dist/tex/latex/amsmath/amsbsy.sty)
(/usr/local/texlive/2020/texmf-dist/tex/latex/amsmath/amsopn.sty))
(/usr/local/texlive/2020/texmf-dist/tex/latex/amscls/amsthm.sty)
(/usr/local/texlive/2020/texmf-dist/tex/latex/natbib/natbib.sty)
(/usr/local/texlive/2020/texmf-dist/tex/generic/babel/babel.sty
(/usr/local/texlive/2020/texmf-dist/tex/generic/babel/switch.def)
(/usr/local/texlive/2020/texmf-dist/tex/generic/babel-english/english.ldf
(/usr/local/texlive/2020/texmf-dist/tex/generic/babel/babel.def
(/usr/local/texlive/2020/texmf-dist/tex/generic/babel/xebabel.def
(/usr/local/texlive/2020/texmf-dist/tex/generic/babel/txtbabel.def)))))
(/usr/local/texlive/2020/texmf-dist/tex/latex/numprint/numprint.sty
(/usr/local/texlive/2020/texmf-dist/tex/latex/tools/array.sty)
No configuration file `numprint.cfg' found.)
(/Library/Frameworks/R.framework/Resources/share/texmf/tex/latex/Sweave.sty
(/usr/local/texlive/2020/texmf-dist/tex/latex/base/ifthen.sty)
(/usr/local/texlive/2020/texmf-dist/tex/latex/graphics/graphicx.sty
(/usr/local/texlive/2020/texmf-dist/tex/latex/graphics/keyval.sty)
(/usr/local/texlive/2020/texmf-dist/tex/latex/graphics/graphics.sty
(/usr/local/texlive/2020/texmf-dist/tex/latex/graphics/trig.sty)
(/usr/local/texlive/2020/texmf-dist/tex/latex/graphics-cfg/graphics.cfg)
(/usr/local/texlive/2020/texmf-dist/tex/latex/graphics-def/xetex.def)))
(/usr/local/texlive/2020/texmf-dist/tex/latex/fancyvrb/fancyvrb.sty)
(/usr/local/texlive/2020/texmf-dist/tex/latex/base/textcomp.sty))
(/Volumes/Builds/packages/high-sierra-x86_64/results/4.2/actuar.Rcheck/vign_tes
t/actuar/vignettes/framed.sty)
(/usr/local/texlive/2020/texmf-dist/tex/latex/booktabs/booktabs.sty)
(/usr/local/texlive/2020/texmf-dist/tex/latex/enumitem/enumitem.sty)
(/usr/local/texlive/2020/texmf-dist/tex/latex/base/fontenc.sty)
(/usr/local/texlive/2020/texmf-dist/tex/latex/unicode-math/unicode-math.sty
(/usr/local/texlive/2020/texmf-dist/tex/latex/l3kernel/expl3.sty
(/usr/local/texlive/2020/texmf-dist/tex/latex/l3backend/l3backend-xdvipdfmx.def
))
(/usr/local/texlive/2020/texmf-dist/tex/latex/unicode-math/unicode-math-xetex.s
ty (/usr/local/texlive/2020/texmf-dist/tex/latex/l3packages/xparse/xparse.sty)
(/usr/local/texlive/2020/texmf-dist/tex/latex/l3packages/l3keys2e/l3keys2e.sty)
(/usr/local/texlive/2020/texmf-dist/tex/latex/fontspec/fontspec.sty
(/usr/local/texlive/2020/texmf-dist/tex/latex/fontspec/fontspec-xetex.sty
(/usr/local/texlive/2020/texmf-dist/tex/latex/base/fontenc.sty)
(/usr/local/texlive/2020/texmf-dist/tex/latex/fontspec/fontspec.cfg)))
(/usr/local/texlive/2020/texmf-dist/tex/latex/base/fix-cm.sty
(/usr/local/texlive/2020/texmf-dist/tex/latex/base/ts1enc.def))
(/usr/local/texlive/2020/texmf-dist/tex/latex/unicode-math/unicode-math-table.t
ex)))kpathsea:make_tex: Invalid filename `[STIXTwoText-Regular.otf]/OT', contains '['
/Volumes/Builds/packages/high-sierra-x86_64/results/4.2/actuar.Rcheck/vign_test
/actuar/vignettes/share/preamble.tex:22: Package fontspec Error: The font "STIX
TwoText-Regular" cannot be found.
For immediate help type H <return>.
...
l.22 ]
?
/Volumes/Builds/packages/high-sierra-x86_64/results/4.2/actuar.Rcheck/vign_test
/actuar/vignettes/share/preamble.tex:22: Emergency stop.
...
l.22 ]
No pages of output.
Transcript written on actuar.log.
/usr/local/bin/texi2dvi: xelatex exited with bad status, quitting.
make: *** [actuar.pdf] Error 1
Error in tools:::buildVignettes(dir = "/Volumes/Builds/packages/high-sierra-x86_64/results/4.2/actuar.Rcheck/vign_test/actuar") :
running 'make' failed
Execution halted
- checking PDF version of manual ... OK
- DONE
Status: 1 NOTE
- using check arguments '--no-clean-on-error '