- using R version 4.2.0 (2022-04-22)
- using platform: x86_64-apple-darwin17.0 (64-bit)
- using session charset: UTF-8
- checking for file ‘PKNCA/DESCRIPTION’ ... OK
- checking extension type ... Package
- this is package ‘PKNCA’ version ‘0.10.2’
- package encoding: UTF-8
- checking package namespace information ... OK
- checking package dependencies ... OK
- checking if this is a source package ... OK
- checking if there is a namespace ... OK
- checking for executable files ... OK
- checking for hidden files and directories ... OK
- checking for portable file names ... OK
- checking for sufficient/correct file permissions ... OK
- checking whether package ‘PKNCA’ can be installed ... [8s/8s] OK
See the install log for details.
- checking installed package size ... OK
- checking package directory ... OK
- checking ‘build’ directory ... OK
- checking DESCRIPTION meta-information ... OK
- checking top-level files ... OK
- checking for left-over files ... OK
- checking index information ... OK
- checking package subdirectories ... OK
- checking R files for non-ASCII characters ... OK
- checking R files for syntax errors ... OK
- checking whether the package can be loaded ... OK
- checking whether the package can be loaded with stated dependencies ... OK
- checking whether the package can be unloaded cleanly ... OK
- checking whether the namespace can be loaded with stated dependencies ... OK
- checking whether the namespace can be unloaded cleanly ... OK
- checking loading without being on the library search path ... OK
- checking dependencies in R code ... OK
- checking S3 generic/method consistency ... OK
- checking replacement functions ... OK
- checking foreign function calls ... OK
- checking R code for possible problems ... [8s/8s] OK
- checking Rd files ... [1s/1s] OK
- checking Rd metadata ... OK
- checking Rd cross-references ... OK
- checking for missing documentation entries ... OK
- checking for code/documentation mismatches ... OK
- checking Rd \usage sections ... OK
- checking Rd contents ... OK
- checking for unstated dependencies in examples ... OK
- checking installed files from ‘inst/doc’ ... OK
- checking files in ‘vignettes’ ... OK
- checking examples ... [2s/2s] OK
- checking for unstated dependencies in ‘tests’ ... OK
- checking tests ... [33s/33s] OK
Running ‘spelling.R’ [0s/0s]
Running ‘testthat.R’ [32s/33s]
- checking for unstated dependencies in vignettes ... OK
- checking package vignettes in ‘inst/doc’ ... OK
- checking running R code from vignettes ... [6s/6s] NONE
‘v01-introduction-and-usage.Rmd’ using ‘UTF-8’... [0s/0s] OK
‘v02-example-theophylline.Rmd’ using ‘UTF-8’... [0s/0s] OK
‘v03-selection-of-calculation-intervals.Rmd’ using ‘UTF-8’... [0s/0s] OK
‘v04-sparse.Rmd’ using ‘UTF-8’... [0s/0s] OK
‘v05-auc-calculation-with-PKNCA.Rmd’ using ‘UTF-8’... [0s/0s] OK
‘v06-half-life-calculation.Rmd’ using ‘UTF-8’... [0s/0s] OK
‘v07-post-processing.Rmd’ using ‘UTF-8’... [0s/0s] OK
‘v07-unit-conversion.Rmd’ using ‘UTF-8’... [0s/0s] OK
‘v08-data-imputation.Rmd’ using ‘UTF-8’... [0s/0s] OK
‘v20-superposition.Rmd’ using ‘UTF-8’... [0s/0s] OK
‘v21-methods-for-dose-aware-interpolation-and-extrapolation.Rmd’ using ‘UTF-8’... [0s/0s] OK
‘v22-time-to-steady-state.Rmd’ using ‘UTF-8’... [0s/0s] OK
‘v30-training-session.Rmd’ using ‘UTF-8’... [0s/0s] OK
‘v40-options-for-controlling-PKNCA.Rmd’ using ‘UTF-8’... [0s/0s] OK
‘v60-PKNCA-validation.Rmd’ using ‘UTF-8’... [0s/0s] OK
‘v80-writing-parameter-functions.Rmd’ using ‘UTF-8’... [0s/0s] OK
- checking re-building of vignette outputs ... [57s/53s] OK
- checking PDF version of manual ... OK
- DONE
Status: OK
- using check arguments '--no-clean-on-error '