- using R version 4.2.0 beta (2022-04-07 r82126)
- using platform: x86_64-apple-darwin17.0 (64-bit)
- using session charset: UTF-8
- checking for file ‘LatticeKrig/DESCRIPTION’ ... OK
- this is package ‘LatticeKrig’ version ‘8.4’
- checking package namespace information ... OK
- checking package dependencies ... OK
- checking if this is a source package ... OK
- checking if there is a namespace ... OK
- checking for executable files ... OK
- checking for hidden files and directories ... OK
- checking for portable file names ... OK
- checking for sufficient/correct file permissions ... OK
- checking whether package ‘LatticeKrig’ can be installed ... [11s/11s] OK
See the install log for details.
- checking installed package size ... OK
- checking package directory ... OK
- checking DESCRIPTION meta-information ... OK
- checking top-level files ... OK
- checking for left-over files ... OK
- checking index information ... OK
- checking package subdirectories ... OK
- checking R files for non-ASCII characters ... OK
- checking R files for syntax errors ... OK
- checking whether the package can be loaded ... OK
- checking whether the package can be loaded with stated dependencies ... OK
- checking whether the package can be unloaded cleanly ... OK
- checking whether the namespace can be loaded with stated dependencies ... OK
- checking whether the namespace can be unloaded cleanly ... OK
- checking loading without being on the library search path ... OK
- checking dependencies in R code ... OK
- checking S3 generic/method consistency ... OK
- checking replacement functions ... OK
- checking foreign function calls ... OK
- checking R code for possible problems ... [9s/9s] OK
- checking Rd files ... [1s/1s] OK
- checking Rd metadata ... OK
- checking Rd cross-references ... OK
- checking for missing documentation entries ... OK
- checking for code/documentation mismatches ... OK
- checking Rd \usage sections ... OK
- checking Rd contents ... OK
- checking for unstated dependencies in examples ... OK
- checking contents of ‘data’ directory ... OK
- checking data for non-ASCII characters ... OK
- checking data for ASCII and uncompressed saves ... OK
- checking line endings in C/C++/Fortran sources/headers ... OK
- checking compiled code ... OK
- checking examples ... [30s/32s] OK
- checking for unstated dependencies in ‘tests’ ... OK
- checking tests ... [185s/233s] OK
Running ‘LKrig.FindNorm.test.R’ [5s/6s]
Comparing ‘LKrig.FindNorm.test.Rout’ to ‘LKrig.FindNorm.test.Rout.save’ ... OK
Running ‘LKrig.LKCylinder.test.R’ [2s/2s]
Comparing ‘LKrig.LKCylinder.test.Rout’ to ‘LKrig.LKCylinder.test.Rout.save’ ... OK
Running ‘LKrig.LKSphere.test.R’ [8s/10s]
Running ‘LKrig.basis.test.R’ [3s/3s]
Comparing ‘LKrig.basis.test.Rout’ to ‘LKrig.basis.test.Rout.save’ ... OK
Running ‘LKrig.lnPLike.test.R’ [20s/24s]
Comparing ‘LKrig.lnPLike.test.Rout’ to ‘LKrig.lnPLike.test.Rout.save’ ... OK
Running ‘LKrig.nullspace.test.R’ [5s/5s]
Comparing ‘LKrig.nullspace.test.Rout’ to ‘LKrig.nullspace.test.Rout.save’ ... OK
Running ‘LKrig.precision.test.R’ [8s/10s]
Comparing ‘LKrig.precision.test.Rout’ to ‘LKrig.precision.test.Rout.save’ ... OK
Running ‘LKrig.se.test.R’ [25s/29s]
Comparing ‘LKrig.se.test.Rout’ to ‘LKrig.se.test.Rout.save’ ... OK
Running ‘LKrig.test.3D.R’ [13s/20s]
Comparing ‘LKrig.test.3D.Rout’ to ‘LKrig.test.3D.Rout.save’ ... OK
Running ‘LKrig.test.Nonstationary.R’ [3s/5s]
Running ‘LKrig.test.R’ [25s/41s]
Comparing ‘LKrig.test.Rout’ to ‘LKrig.test.Rout.save’ ... OK
Running ‘LKrig.test.inverse.R’ [3s/4s]
Comparing ‘LKrig.test.inverse.Rout’ to ‘LKrig.test.inverse.Rout.save’ ... OK
Running ‘LKrig.testFindAwght.R’ [60s/70s]
Comparing ‘LKrig.testFindAwght.Rout’ to ‘LKrig.testFindAwght.Rout.save’ ... OK
Running ‘LKrigMarginalVariance.test.R’ [3s/3s]
Comparing ‘LKrigMarginalVariance.test.Rout’ to ‘LKrigMarginalVariance.test.Rout.save’ ... OK
- checking PDF version of manual ... OK
- DONE
Status: OK
- using check arguments '--no-clean-on-error '