- using R version 4.2.3 (2023-03-15)
- using platform: aarch64-apple-darwin20 (64-bit)
- using session charset: UTF-8
- checking for file ‘copula/DESCRIPTION’ ... OK
- this is package ‘copula’ version ‘1.1-3’
- package encoding: UTF-8
- checking package namespace information ... OK
- checking package dependencies ... OK
- checking if this is a source package ... OK
- checking if there is a namespace ... OK
- checking for executable files ... OK
- checking for hidden files and directories ... OK
- checking for portable file names ... OK
- checking for sufficient/correct file permissions ... OK
- checking whether package ‘copula’ can be installed ... [16s/19s] OK
See the install log for details.
- checking installed package size ... NOTE
installed size is 8.1Mb
sub-directories of 1Mb or more:
R 2.4Mb
doc 3.5Mb
- checking package directory ... OK
- checking ‘build’ directory ... OK
- checking DESCRIPTION meta-information ... OK
- checking top-level files ... OK
- checking for left-over files ... OK
- checking index information ... OK
- checking package subdirectories ... OK
- checking R files for non-ASCII characters ... OK
- checking R files for syntax errors ... OK
- checking whether the package can be loaded ... OK
- checking whether the package can be loaded with stated dependencies ... OK
- checking whether the package can be unloaded cleanly ... OK
- checking whether the namespace can be loaded with stated dependencies ... OK
- checking whether the namespace can be unloaded cleanly ... OK
- checking loading without being on the library search path ... OK
- checking dependencies in R code ... OK
- checking S3 generic/method consistency ... OK
- checking replacement functions ... OK
- checking foreign function calls ... OK
- checking R code for possible problems ... [16s/18s] OK
- checking Rd files ... [1s/1s] OK
- checking Rd metadata ... OK
- checking Rd cross-references ... OK
- checking for missing documentation entries ... OK
- checking for code/documentation mismatches ... OK
- checking Rd \usage sections ... OK
- checking Rd contents ... OK
- checking for unstated dependencies in examples ... OK
- checking contents of ‘data’ directory ... OK
- checking data for non-ASCII characters ... OK
- checking data for ASCII and uncompressed saves ... OK
- checking R/sysdata.rda ... OK
- checking line endings in C/C++/Fortran sources/headers ... OK
- checking line endings in Makefiles ... OK
- checking compilation flags in Makevars ... OK
- checking for GNU extensions in Makefiles ... OK
- checking for portable use of $(BLAS_LIBS) and $(LAPACK_LIBS) ... OK
- checking use of PKG_*FLAGS in Makefiles ... OK
- checking compiled code ... OK
- checking sizes of PDF files under ‘inst/doc’ ... OK
- checking installed files from ‘inst/doc’ ... OK
- checking files in ‘vignettes’ ... OK
- checking examples ... [27s/30s] OK
- checking for unstated dependencies in ‘tests’ ... OK
- checking tests ... [60s/69s] OK
Running ‘Stirling-etc.R’ [2s/2s]
Running ‘copula-play.R’ [11s/13s]
Running ‘dC-dc-ex.R’ [1s/2s]
Running ‘estim-ex.R’ [3s/3s]
Running ‘explicitCop-ex.R’ [5s/6s]
Running ‘fitting-ex.R’ [5s/7s]
Running ‘fixedPar-ex.R’ [3s/3s]
Running ‘ggraph-tst.R’ [4s/4s]
Running ‘khoudraji-ex.R’ [8s/9s]
Running ‘misc.R’ [1s/1s]
Running ‘mixCop-tst.R’ [1s/1s]
Running ‘moments.R’ [1s/1s]
Running ‘nac-experi.R’ [5s/6s]
Running ‘pdf.R’ [3s/4s]
Running ‘retstable-ex.R’ [1s/2s]
Running ‘rstable-ex.R’ [2s/2s]
Running ‘tail-pcopula.R’ [2s/3s]
Comparing ‘tail-pcopula.Rout’ to ‘tail-pcopula.Rout.save’ ... OK
- checking for unstated dependencies in vignettes ... OK
- checking package vignettes in ‘inst/doc’ ... OK
- checking running R code from vignettes ... [16s/19s] OK
‘AC_Liouville.Rmd’ using ‘UTF-8’... [0s/0s] OK
‘AR_Clayton.Rmd’ using ‘UTF-8’... [0s/0s] OK
‘GIG.Rmd’ using ‘UTF-8’... [0s/0s] OK
‘HAXC.Rmd’ using ‘UTF-8’... [0s/0s] OK
‘NALC.Rmd’ using ‘UTF-8’... [0s/0s] OK
‘copula_GARCH.Rmd’ using ‘UTF-8’... [0s/0s] OK
‘dNAC.Rmd’ using ‘UTF-8’... [0s/0s] OK
‘empiricial_copulas.Rmd’ using ‘UTF-8’... [0s/0s] OK
‘logL_visualization.Rmd’ using ‘UTF-8’... [0s/0s] OK
‘qrng.Rmd’ using ‘UTF-8’... [0s/0s] OK
‘wild_animals.Rmd’ using ‘UTF-8’... [0s/0s] OK
‘Frank-Rmpfr.Rnw’ using ‘UTF-8’... [10s/12s] OK
‘nacopula-pkg.Rnw’ using ‘UTF-8’... [2s/3s] OK
‘rhoAMH-dilog.Rnw’ using ‘UTF-8’... [1s/2s] OK
- checking re-building of vignette outputs ... [111s/167s] OK
- checking PDF version of manual ... OK
- DONE
Status: 1 NOTE
- using check arguments '--no-clean-on-error '