- using R Under development (unstable) (2024-04-05 r86344)
- using platform: x86_64-pc-linux-gnu
- R was compiled by
gcc-13 (GCC) 13.2.0
GNU Fortran (GCC) 13.2.0
- running under: Fedora Linux 36 (Workstation Edition)
- using session charset: UTF-8
- using option ‘--no-stop-on-test-error’
- checking for file ‘svrep/DESCRIPTION’ ... OK
- checking extension type ... Package
- this is package ‘svrep’ version ‘0.6.3’
- package encoding: UTF-8
- checking package namespace information ... OK
- checking package dependencies ... OK
- checking if this is a source package ... OK
- checking if there is a namespace ... OK
- checking for executable files ... OK
- checking for hidden files and directories ... OK
- checking for portable file names ... OK
- checking for sufficient/correct file permissions ... OK
- checking whether package ‘svrep’ can be installed ... [16s/25s] OK
See the install log for details.
- checking package directory ... OK
- checking ‘build’ directory ... OK
- checking DESCRIPTION meta-information ... OK
- checking top-level files ... OK
- checking for left-over files ... OK
- checking index information ... OK
- checking package subdirectories ... OK
- checking code files for non-ASCII characters ... OK
- checking R files for syntax errors ... OK
- checking whether the package can be loaded ... OK
- checking whether the package can be loaded with stated dependencies ... OK
- checking whether the package can be unloaded cleanly ... OK
- checking whether the namespace can be loaded with stated dependencies ... OK
- checking whether the namespace can be unloaded cleanly ... OK
- checking loading without being on the library search path ... OK
- checking use of S3 registration ... OK
- checking dependencies in R code ... OK
- checking S3 generic/method consistency ... OK
- checking replacement functions ... OK
- checking foreign function calls ... OK
- checking R code for possible problems ... [26s/33s] OK
- checking Rd files ... NOTE
checkRd: (-1) as_bootstrap_design.Rd:24-30: Lost braces in \itemize; meant \describe ?
checkRd: (-1) as_bootstrap_design.Rd:31-35: Lost braces in \itemize; meant \describe ?
checkRd: (-1) as_bootstrap_design.Rd:36-39: Lost braces in \itemize; meant \describe ?
checkRd: (-1) as_bootstrap_design.Rd:40-42: Lost braces in \itemize; meant \describe ?
checkRd: (-1) as_bootstrap_design.Rd:60: Lost braces in \itemize; meant \describe ?
checkRd: (-1) as_bootstrap_design.Rd:61: Lost braces in \itemize; meant \describe ?
checkRd: (-1) as_bootstrap_design.Rd:62: Lost braces in \itemize; meant \describe ?
checkRd: (-1) as_bootstrap_design.Rd:63: Lost braces in \itemize; meant \describe ?
checkRd: (-1) as_bootstrap_design.Rd:64: Lost braces in \itemize; meant \describe ?
checkRd: (-1) as_fays_gen_rep_design.Rd:29-30: Lost braces in \itemize; meant \describe ?
checkRd: (-1) as_fays_gen_rep_design.Rd:31-32: Lost braces in \itemize; meant \describe ?
checkRd: (-1) as_fays_gen_rep_design.Rd:33-35: Lost braces in \itemize; meant \describe ?
checkRd: (-1) as_fays_gen_rep_design.Rd:36-37: Lost braces in \itemize; meant \describe ?
checkRd: (-1) as_fays_gen_rep_design.Rd:38-39: Lost braces in \itemize; meant \describe ?
checkRd: (-1) as_fays_gen_rep_design.Rd:40-42: Lost braces in \itemize; meant \describe ?
checkRd: (-1) as_fays_gen_rep_design.Rd:43-45: Lost braces in \itemize; meant \describe ?
checkRd: (-1) as_fays_gen_rep_design.Rd:46-47: Lost braces in \itemize; meant \describe ?
checkRd: (-1) as_fays_gen_rep_design.Rd:48-49: Lost braces in \itemize; meant \describe ?
checkRd: (-1) as_fays_gen_rep_design.Rd:50-52: Lost braces in \itemize; meant \describe ?
checkRd: (-1) as_gen_boot_design.Rd:29-30: Lost braces in \itemize; meant \describe ?
checkRd: (-1) as_gen_boot_design.Rd:31-32: Lost braces in \itemize; meant \describe ?
checkRd: (-1) as_gen_boot_design.Rd:33-35: Lost braces in \itemize; meant \describe ?
checkRd: (-1) as_gen_boot_design.Rd:36-37: Lost braces in \itemize; meant \describe ?
checkRd: (-1) as_gen_boot_design.Rd:38-39: Lost braces in \itemize; meant \describe ?
checkRd: (-1) as_gen_boot_design.Rd:40-42: Lost braces in \itemize; meant \describe ?
checkRd: (-1) as_gen_boot_design.Rd:43-45: Lost braces in \itemize; meant \describe ?
checkRd: (-1) as_gen_boot_design.Rd:46-47: Lost braces in \itemize; meant \describe ?
checkRd: (-1) as_gen_boot_design.Rd:48-49: Lost braces in \itemize; meant \describe ?
checkRd: (-1) as_gen_boot_design.Rd:50-52: Lost braces in \itemize; meant \describe ?
checkRd: (-1) as_random_group_jackknife_design.Rd:43-46: Lost braces in \itemize; meant \describe ?
checkRd: (-1) as_random_group_jackknife_design.Rd:47-51: Lost braces in \itemize; meant \describe ?
checkRd: (-1) as_random_group_jackknife_design.Rd:59-63: Lost braces in \itemize; meant \describe ?
checkRd: (-1) as_random_group_jackknife_design.Rd:64-68: Lost braces in \itemize; meant \describe ?
checkRd: (-1) get_design_quad_form.Rd:25-26: Lost braces in \itemize; meant \describe ?
checkRd: (-1) get_design_quad_form.Rd:27-28: Lost braces in \itemize; meant \describe ?
checkRd: (-1) get_design_quad_form.Rd:29-30: Lost braces in \itemize; meant \describe ?
checkRd: (-1) get_design_quad_form.Rd:31-32: Lost braces in \itemize; meant \describe ?
checkRd: (-1) get_design_quad_form.Rd:33-34: Lost braces in \itemize; meant \describe ?
checkRd: (-1) get_design_quad_form.Rd:35-37: Lost braces in \itemize; meant \describe ?
checkRd: (-1) get_design_quad_form.Rd:38-40: Lost braces in \itemize; meant \describe ?
checkRd: (-1) get_design_quad_form.Rd:41-42: Lost braces in \itemize; meant \describe ?
checkRd: (-1) get_design_quad_form.Rd:43-44: Lost braces in \itemize; meant \describe ?
checkRd: (-1) get_design_quad_form.Rd:45-47: Lost braces in \itemize; meant \describe ?
checkRd: (-1) libraries.Rd:20: Lost braces in \itemize; meant \describe ?
checkRd: (-1) libraries.Rd:21: Lost braces in \itemize; meant \describe ?
checkRd: (-1) libraries.Rd:22-23: Lost braces in \itemize; meant \describe ?
checkRd: (-1) libraries.Rd:27: Lost braces in \itemize; meant \describe ?
checkRd: (-1) libraries.Rd:28: Lost braces in \itemize; meant \describe ?
checkRd: (-1) libraries.Rd:29: Lost braces in \itemize; meant \describe ?
checkRd: (-1) libraries.Rd:30: Lost braces in \itemize; meant \describe ?
checkRd: (-1) libraries.Rd:31: Lost braces in \itemize; meant \describe ?
checkRd: (-1) libraries.Rd:32: Lost braces in \itemize; meant \describe ?
checkRd: (-1) libraries.Rd:33: Lost braces in \itemize; meant \describe ?
checkRd: (-1) libraries.Rd:34: Lost braces in \itemize; meant \describe ?
checkRd: (-1) libraries.Rd:35: Lost braces in \itemize; meant \describe ?
checkRd: (-1) libraries.Rd:39: Lost braces in \itemize; meant \describe ?
checkRd: (-1) libraries.Rd:40: Lost braces in \itemize; meant \describe ?
checkRd: (-1) libraries.Rd:41: Lost braces in \itemize; meant \describe ?
checkRd: (-1) libraries.Rd:42: Lost braces in \itemize; meant \describe ?
checkRd: (-1) libraries.Rd:43: Lost braces in \itemize; meant \describe ?
checkRd: (-1) libraries.Rd:55: Lost braces in \itemize; meant \describe ?
checkRd: (-1) libraries.Rd:56: Lost braces in \itemize; meant \describe ?
checkRd: (-1) libraries.Rd:57: Lost braces in \itemize; meant \describe ?
checkRd: (-1) libraries.Rd:58: Lost braces in \itemize; meant \describe ?
checkRd: (-1) libraries.Rd:59: Lost braces in \itemize; meant \describe ?
checkRd: (-1) libraries.Rd:60: Lost braces in \itemize; meant \describe ?
checkRd: (-1) libraries.Rd:61: Lost braces in \itemize; meant \describe ?
checkRd: (-1) libraries.Rd:69: Lost braces in \itemize; meant \describe ?
checkRd: (-1) libraries.Rd:70: Lost braces in \itemize; meant \describe ?
checkRd: (-1) libraries.Rd:71: Lost braces in \itemize; meant \describe ?
checkRd: (-1) libraries.Rd:72: Lost braces in \itemize; meant \describe ?
checkRd: (-1) lou_pums_microdata.Rd:10: Lost braces in \itemize; meant \describe ?
checkRd: (-1) lou_pums_microdata.Rd:11: Lost braces in \itemize; meant \describe ?
checkRd: (-1) lou_pums_microdata.Rd:12-14: Lost braces in \itemize; meant \describe ?
checkRd: (-1) lou_pums_microdata.Rd:15: Lost braces in \itemize; meant \describe ?
checkRd: (-1) lou_pums_microdata.Rd:16-17: Lost braces in \itemize; meant \describe ?
checkRd: (-1) lou_pums_microdata.Rd:18: Lost braces in \itemize; meant \describe ?
checkRd: (-1) lou_pums_microdata.Rd:19-20: Lost braces in \itemize; meant \describe ?
checkRd: (-1) lou_vax_survey_control_totals.Rd:14: Lost braces in \itemize; meant \describe ?
checkRd: (-1) lou_vax_survey_control_totals.Rd:15: Lost braces in \itemize; meant \describe ?
checkRd: (-1) lou_vax_survey_control_totals.Rd:21: Lost braces in \itemize; meant \describe ?
checkRd: (-1) lou_vax_survey_control_totals.Rd:22: Lost braces in \itemize; meant \describe ?
checkRd: (-1) make_ppswor_approx_matrix.Rd:58-59: Lost braces in \itemize; meant \describe ?
checkRd: (-1) make_ppswor_approx_matrix.Rd:60-61: Lost braces in \itemize; meant \describe ?
checkRd: (-1) make_quad_form_matrix.Rd:23-25: Lost braces in \itemize; meant \describe ?
checkRd: (-1) make_quad_form_matrix.Rd:26-28: Lost braces in \itemize; meant \describe ?
checkRd: (-1) make_quad_form_matrix.Rd:29-32: Lost braces in \itemize; meant \describe ?
checkRd: (-1) make_quad_form_matrix.Rd:33-37: Lost braces in \itemize; meant \describe ?
checkRd: (-1) make_quad_form_matrix.Rd:38-41: Lost braces in \itemize; meant \describe ?
checkRd: (-1) make_quad_form_matrix.Rd:42-45: Lost braces in \itemize; meant \describe ?
checkRd: (-1) make_quad_form_matrix.Rd:46-47: Lost braces in \itemize; meant \describe ?
checkRd: (-1) make_quad_form_matrix.Rd:48-50: Lost braces in \itemize; meant \describe ?
checkRd: (-1) make_quad_form_matrix.Rd:51-53: Lost braces in \itemize; meant \describe ?
checkRd: (-1) make_rwyb_bootstrap_weights.Rd:33: Lost braces in \itemize; meant \describe ?
checkRd: (-1) make_rwyb_bootstrap_weights.Rd:34: Lost braces in \itemize; meant \describe ?
checkRd: (-1) make_rwyb_bootstrap_weights.Rd:35: Lost braces in \itemize; meant \describe ?
checkRd: (-1) make_rwyb_bootstrap_weights.Rd:36: Lost braces in \itemize; meant \describe ?
checkRd: (-1) make_rwyb_bootstrap_weights.Rd:37: Lost braces in \itemize; meant \describe ?
checkRd: (-1) make_rwyb_bootstrap_weights.Rd:75: Lost braces in \itemize; meant \describe ?
checkRd: (-1) make_rwyb_bootstrap_weights.Rd:76: Lost braces in \itemize; meant \describe ?
checkRd: (-1) make_rwyb_bootstrap_weights.Rd:77: Lost braces in \itemize; meant \describe ?
checkRd: (-1) make_rwyb_bootstrap_weights.Rd:78: Lost braces in \itemize; meant \describe ?
checkRd: (-1) summarize_rep_weights.Rd:28: Lost braces in \itemize; \value handles \item{}{} directly
checkRd: (-1) summarize_rep_weights.Rd:29: Lost braces in \itemize; \value handles \item{}{} directly
checkRd: (-1) summarize_rep_weights.Rd:30: Lost braces in \itemize; \value handles \item{}{} directly
checkRd: (-1) summarize_rep_weights.Rd:31: Lost braces in \itemize; \value handles \item{}{} directly
checkRd: (-1) summarize_rep_weights.Rd:32: Lost braces in \itemize; \value handles \item{}{} directly
checkRd: (-1) summarize_rep_weights.Rd:33: Lost braces in \itemize; \value handles \item{}{} directly
checkRd: (-1) summarize_rep_weights.Rd:34: Lost braces in \itemize; \value handles \item{}{} directly
checkRd: (-1) summarize_rep_weights.Rd:35: Lost braces in \itemize; \value handles \item{}{} directly
checkRd: (-1) summarize_rep_weights.Rd:43-44: Lost braces in \itemize; \value handles \item{}{} directly
checkRd: (-1) summarize_rep_weights.Rd:45: Lost braces in \itemize; \value handles \item{}{} directly
checkRd: (-1) summarize_rep_weights.Rd:46: Lost braces in \itemize; \value handles \item{}{} directly
checkRd: (-1) summarize_rep_weights.Rd:47: Lost braces in \itemize; \value handles \item{}{} directly
checkRd: (-1) summarize_rep_weights.Rd:48: Lost braces in \itemize; \value handles \item{}{} directly
checkRd: (-1) summarize_rep_weights.Rd:49: Lost braces in \itemize; \value handles \item{}{} directly
checkRd: (-1) summarize_rep_weights.Rd:50: Lost braces in \itemize; \value handles \item{}{} directly
checkRd: (-1) summarize_rep_weights.Rd:51: Lost braces in \itemize; \value handles \item{}{} directly
checkRd: (-1) variance-estimators.Rd:137-138: Lost braces in \itemize; meant \describe ?
checkRd: (-1) variance-estimators.Rd:139-140: Lost braces in \itemize; meant \describe ?
- checking Rd metadata ... OK
- checking Rd line widths ... OK
- checking Rd cross-references ... OK
- checking for missing documentation entries ... OK
- checking for code/documentation mismatches ... OK
- checking Rd \usage sections ... OK
- checking Rd contents ... OK
- checking for unstated dependencies in examples ... OK
- checking contents of ‘data’ directory ... OK
- checking data for non-ASCII characters ... OK
- checking LazyData ... OK
- checking data for ASCII and uncompressed saves ... OK
- checking installed files from ‘inst/doc’ ... OK
- checking files in ‘vignettes’ ... OK
- checking examples ... OK
- checking for unstated dependencies in ‘tests’ ... OK
- checking tests ... [75s/103s] OK
Running ‘testthat.R’ [75s/102s]
- checking for unstated dependencies in vignettes ... OK
- checking package vignettes ... OK
- checking re-building of vignette outputs ... [227s/302s] OK
- checking PDF version of manual ... [14s/19s] OK
- checking HTML version of manual ... OK
- checking for non-standard things in the check directory ... OK
- checking for detritus in the temp directory ... OK
- DONE
Status: 1 NOTE